BEGIN:VCALENDAR
VERSION:2.0
PRODID:-//Northampton BID - ECPv6.2.4//NONSGML v1.0//EN
CALSCALE:GREGORIAN
METHOD:PUBLISH
X-WR-CALNAME:Northampton BID
X-ORIGINAL-URL:https://www.discovernorthampton.co.uk
X-WR-CALDESC:Events for Northampton BID
REFRESH-INTERVAL;VALUE=DURATION:PT1H
X-Robots-Tag:noindex
X-PUBLISHED-TTL:PT1H
BEGIN:VTIMEZONE
TZID:Europe/London
BEGIN:DAYLIGHT
TZOFFSETFROM:+0000
TZOFFSETTO:+0100
TZNAME:BST
DTSTART:20250330T010000
END:DAYLIGHT
BEGIN:STANDARD
TZOFFSETFROM:+0100
TZOFFSETTO:+0000
TZNAME:GMT
DTSTART:20251026T010000
END:STANDARD
END:VTIMEZONE
BEGIN:VEVENT
DTSTART;TZID=Europe/London:20250407T150000
DTEND;TZID=Europe/London:20250407T150000
DTSTAMP:20260425T185937
CREATED:20250403T090110Z
LAST-MODIFIED:20250403T090110Z
UID:125608-1744038000-1744038000@www.discovernorthampton.co.uk
SUMMARY:Pinocchio
DESCRIPTION:Anton Benson Productions return to The Old Savoy with their hilarious new Easter Pantomime… with no strings attached! \nJoin Pinocchio as he sets off on his adventure to Fantasy Island\, where he hopes to learn right from wrong and fulfil his dreams of becoming a real boy. But will he follow his conscience or will the wicked Stromboli have other plans? \nStarring Bobby Davro & Katie Price who will be joined by Kate Salmon\, Ryan Greaves and Phyl Harries. There will also be a special guest appearance from Zippy & George from Rainbow!! \nShowtimes 3pm and 7pm
URL:https://www.discovernorthampton.co.uk/event/pinocchio-2/2025-04-07/
LOCATION:The Old Savoy â€“ The home of The Deco Theatre\, Abington Square\, Northampton\, Northamptonshire\, NN1 4AE
CATEGORIES:Panto
ATTACH;FMTTYPE=image/jpeg:https://www.discovernorthampton.co.uk/wp-content/uploads/2025/04/panto-2025-557x768-1.jpg
END:VEVENT
END:VCALENDAR