BEGIN:VCALENDAR
VERSION:2.0
PRODID:-//Northampton BID - ECPv6.2.4//NONSGML v1.0//EN
CALSCALE:GREGORIAN
METHOD:PUBLISH
X-ORIGINAL-URL:https://www.discovernorthampton.co.uk
X-WR-CALDESC:Events for Northampton BID
REFRESH-INTERVAL;VALUE=DURATION:PT1H
X-Robots-Tag:noindex
X-PUBLISHED-TTL:PT1H
BEGIN:VTIMEZONE
TZID:Europe/London
BEGIN:DAYLIGHT
TZOFFSETFROM:+0000
TZOFFSETTO:+0100
TZNAME:BST
DTSTART:20250330T010000
END:DAYLIGHT
BEGIN:STANDARD
TZOFFSETFROM:+0100
TZOFFSETTO:+0000
TZNAME:GMT
DTSTART:20251026T010000
END:STANDARD
END:VTIMEZONE
BEGIN:VEVENT
DTSTART;TZID=Europe/London:20251217T200000
DTEND;TZID=Europe/London:20251217T200000
DTSTAMP:20260419T145050
CREATED:20251212T165550Z
LAST-MODIFIED:20251212T165550Z
UID:133133-1766001600-1766001600@www.discovernorthampton.co.uk
SUMMARY:VandB Xmas Quiz.
DESCRIPTION:£200 voucher prize. 8pm. Hosted by @nndiscocorp
URL:https://www.discovernorthampton.co.uk/event/vandb-xmas-quiz/
LOCATION:V and B\, 10 St Giles' Square\,\, Northampton\, NN1 1DA\, United Kingdom
CATEGORIES:Quiz
ATTACH;FMTTYPE=image/jpeg:https://www.discovernorthampton.co.uk/wp-content/uploads/2025/12/589361947_18053162228672891_852695915660168715_n.jpg
END:VEVENT
END:VCALENDAR