BEGIN:VCALENDAR
VERSION:2.0
PRODID:-//Northampton BID - ECPv6.2.4//NONSGML v1.0//EN
CALSCALE:GREGORIAN
METHOD:PUBLISH
X-WR-CALNAME:Northampton BID
X-ORIGINAL-URL:https://www.discovernorthampton.co.uk
X-WR-CALDESC:Events for Northampton BID
REFRESH-INTERVAL;VALUE=DURATION:PT1H
X-Robots-Tag:noindex
X-PUBLISHED-TTL:PT1H
BEGIN:VTIMEZONE
TZID:Europe/London
BEGIN:DAYLIGHT
TZOFFSETFROM:+0000
TZOFFSETTO:+0100
TZNAME:BST
DTSTART:20260329T010000
END:DAYLIGHT
BEGIN:STANDARD
TZOFFSETFROM:+0100
TZOFFSETTO:+0000
TZNAME:GMT
DTSTART:20261025T010000
END:STANDARD
END:VTIMEZONE
BEGIN:VEVENT
DTSTART;TZID=Europe/London:20260120T200000
DTEND;TZID=Europe/London:20260120T200000
DTSTAMP:20260421T035203
CREATED:20260113T123333Z
LAST-MODIFIED:20260113T123403Z
UID:133858-1768939200-1768939200@www.discovernorthampton.co.uk
SUMMARY:Quiz Night
DESCRIPTION:Think you’ve got the brains (or just love a good guess)? Grab your mates\, order a drink\, and put your knowledge to the test. Bragging rights are on the line!
URL:https://www.discovernorthampton.co.uk/event/quiz-night-7/
LOCATION:Penny Loafer\, 10-12 Market Sq\, Northampton\, Northampton\, northamptonshire\, NN1 2DL\, United Kingdom
CATEGORIES:Pub Quiz,Quiz
ATTACH;FMTTYPE=image/png:https://www.discovernorthampton.co.uk/wp-content/uploads/2026/01/Screenshot-2026-01-13-122922.png
END:VEVENT
BEGIN:VEVENT
DTSTART;TZID=Europe/London:20260202T190000
DTEND;TZID=Europe/London:20260202T190000
DTSTAMP:20260421T035203
CREATED:20260113T121916Z
LAST-MODIFIED:20260113T121916Z
UID:133853-1770058800-1770058800@www.discovernorthampton.co.uk
SUMMARY:The Big Quiz.
DESCRIPTION:Get ready for an electrifying night of brain-teasing fun at Mail Coach Northampton in Northampton! Join us for an exciting Quiz event hosted by the one and only Adam the Greek. Put your knowledge to the test and compete with friends for fantastic prizes. Don’t miss out on the chance to showcase your trivia skills and enjoy a lively atmosphere with great company. Whether you’re a seasoned quizzer or just looking for a good time\, this event is perfect for everyone. Grab your team and head to Mail Coach Northampton for a night of laughter\, friendly competition\, and unforgettable memories!
URL:https://www.discovernorthampton.co.uk/event/the-big-quiz/
LOCATION:Mail Coach\, 8 Derngate\, northampton\, Northamptonshire\, NN1 1UB\, United Kingdom
CATEGORIES:Pub Quiz,Quiz
ATTACH;FMTTYPE=image/png:https://www.discovernorthampton.co.uk/wp-content/uploads/2026/01/Screenshot-2026-01-02-090413-1.png
END:VEVENT
BEGIN:VEVENT
DTSTART;TZID=Europe/London:20260325T200000
DTEND;TZID=Europe/London:20260325T200000
DTSTAMP:20260421T035203
CREATED:20260319T091437Z
LAST-MODIFIED:20260319T091437Z
UID:134904-1774468800-1774468800@www.discovernorthampton.co.uk
SUMMARY:Quiz Night
DESCRIPTION:25/03: Quiz Night
URL:https://www.discovernorthampton.co.uk/event/quiz-night-8/
LOCATION:V and B\, 10 St Giles' Square\,\, Northampton\, NN1 1DA\, United Kingdom
CATEGORIES:Quiz
ATTACH;FMTTYPE=image/jpeg:https://www.discovernorthampton.co.uk/wp-content/uploads/2026/03/651390108_18064296023672891_4496347685872659917_n.jpg
END:VEVENT
END:VCALENDAR