BEGIN:VCALENDAR
VERSION:2.0
PRODID:-//Northampton BID - ECPv6.2.4//NONSGML v1.0//EN
CALSCALE:GREGORIAN
METHOD:PUBLISH
X-WR-CALNAME:Northampton BID
X-ORIGINAL-URL:https://www.discovernorthampton.co.uk
X-WR-CALDESC:Events for Northampton BID
REFRESH-INTERVAL;VALUE=DURATION:PT1H
X-Robots-Tag:noindex
X-PUBLISHED-TTL:PT1H
BEGIN:VTIMEZONE
TZID:Europe/London
BEGIN:DAYLIGHT
TZOFFSETFROM:+0000
TZOFFSETTO:+0100
TZNAME:BST
DTSTART:20240331T010000
END:DAYLIGHT
BEGIN:STANDARD
TZOFFSETFROM:+0100
TZOFFSETTO:+0000
TZNAME:GMT
DTSTART:20241027T010000
END:STANDARD
END:VTIMEZONE
BEGIN:VEVENT
DTSTART;TZID=Europe/London:20241221T103000
DTEND;TZID=Europe/London:20241221T160000
DTSTAMP:20260426T041222
CREATED:20241101T130241Z
LAST-MODIFIED:20241101T130241Z
UID:122240-1734777000-1734796800@www.discovernorthampton.co.uk
SUMMARY:Santa's Grotto
DESCRIPTION:No Christmas is complete without a visit to Father Christmas\, and the BID is delighted to be bringing Santas Grotto back to Grosvenor Shopping Northampton this festive season.\nImportant Information \nPre-booking is required. All money from this event will be donated to charity. \nThere will be a £1 charge to secure the booking per family\, using PayPal.  \n6 tickets per half hour will be sold to allow a provision of 5 minutes with Santa. \nThe last family to arrive for their half hour session will have to wait 25 minutes. \nFamilies will be able to take their own photos with Santa. \nEach child will receive a gift. \nĀ 
URL:https://www.discovernorthampton.co.uk/event/santas-grotto-3/2024-12-21/
LOCATION:Grosvenor Shopping Northampton\, Grosvenor Centre\, Union Street\, Northampton\, Northamptonshire\, NN1 2EW
CATEGORIES:Santa's Grotto
ATTACH;FMTTYPE=image/png:https://www.discovernorthampton.co.uk/wp-content/uploads/2023/12/Santas-Grotto-snip.png
END:VEVENT
END:VCALENDAR