BEGIN:VCALENDAR
VERSION:2.0
PRODID:-//Northampton BID - ECPv6.2.4//NONSGML v1.0//EN
CALSCALE:GREGORIAN
METHOD:PUBLISH
X-ORIGINAL-URL:https://www.discovernorthampton.co.uk
X-WR-CALDESC:Events for Northampton BID
REFRESH-INTERVAL;VALUE=DURATION:PT1H
X-Robots-Tag:noindex
X-PUBLISHED-TTL:PT1H
BEGIN:VTIMEZONE
TZID:Europe/London
BEGIN:DAYLIGHT
TZOFFSETFROM:+0000
TZOFFSETTO:+0100
TZNAME:BST
DTSTART:20250330T010000
END:DAYLIGHT
BEGIN:STANDARD
TZOFFSETFROM:+0100
TZOFFSETTO:+0000
TZNAME:GMT
DTSTART:20251026T010000
END:STANDARD
END:VTIMEZONE
BEGIN:VEVENT
DTSTART;TZID=Europe/London:20250215T190000
DTEND;TZID=Europe/London:20250215T210000
DTSTAMP:20260421T032252
CREATED:20250204T145529Z
LAST-MODIFIED:20250204T150424Z
UID:123378-1739646000-1739653200@www.discovernorthampton.co.uk
SUMMARY:(the) Woman
DESCRIPTION:“So good we thought it was written by a man!” \nNew Perspectives and Royal & Derngate\, Northampton present \n(the) Woman\nBy Jane Upton \nM is a writer. M is a mother. M is a woman. \nThe triumph of M’s hit play is hijacked by motherhood – M is burnt out\, angry\, lonely\, craving intimacy but disengaged\, and terrified of the future. \nShe wants to tell her story\, her way. But\, everyone around her shares their opinions on who she is\, who she should be and how she’s messing everything up. \nFiercely funny and brutally honest\, award-winning writer Jane Upton’s Bruntwood Prize shortlisted play shatters the glossy veneer of motherhood\, exposing its raw\, messy truth\, and dares to question the definition of (her) Self.
URL:https://www.discovernorthampton.co.uk/event/the-woman/2025-02-15/2/
LOCATION:Royal and Derngate Theatre\, 19-21 Guildhall Road\, Northampton\, Northamptonshire\, NN1 1DP
CATEGORIES:Event,Royal and Derngate,show,Theatre
ATTACH;FMTTYPE=image/jpeg:https://www.discovernorthampton.co.uk/wp-content/uploads/2025/02/image.jpeg
ORGANIZER;CN="Royal and Derngate":MAILTO:BoxOffice@royalandderngate.co.uk
END:VEVENT
BEGIN:VEVENT
DTSTART;TZID=Europe/London:20250216T193000
DTEND;TZID=Europe/London:20250216T213000
DTSTAMP:20260421T032252
CREATED:20250204T151404Z
LAST-MODIFIED:20250204T151404Z
UID:123386-1739734200-1739741400@www.discovernorthampton.co.uk
SUMMARY:Clinton Baptiste: Roller Ghoster
DESCRIPTION:Britain’s most celebrated clairvoyant medium psychic from Peter Kay’s Phoenix Nights returns with his hilarious one-man show featuring his trademark audience readings\, the story of his meteoric rise and some spooky treats to make your hair stand on end. \nLaugh\, gasp\, scream your head off… but whatever you do…. hold tight\, as Clinton takes you on probably the most white knuckle ride of your life!
URL:https://www.discovernorthampton.co.uk/event/clinton-baptiste-roller-ghoster/
LOCATION:Royal and Derngate Theatre\, 19-21 Guildhall Road\, Northampton\, Northamptonshire\, NN1 1DP
CATEGORIES:Event,Royal and Derngate,show,Theatre
ATTACH;FMTTYPE=image/png:https://www.discovernorthampton.co.uk/wp-content/uploads/2025/02/image-2.png
ORGANIZER;CN="Royal and Derngate":MAILTO:BoxOffice@royalandderngate.co.uk
END:VEVENT
END:VCALENDAR