BEGIN:VCALENDAR
VERSION:2.0
PRODID:-//Northampton BID - ECPv6.2.4//NONSGML v1.0//EN
CALSCALE:GREGORIAN
METHOD:PUBLISH
X-WR-CALNAME:Northampton BID
X-ORIGINAL-URL:https://www.discovernorthampton.co.uk
X-WR-CALDESC:Events for Northampton BID
REFRESH-INTERVAL;VALUE=DURATION:PT1H
X-Robots-Tag:noindex
X-PUBLISHED-TTL:PT1H
BEGIN:VTIMEZONE
TZID:Europe/London
BEGIN:DAYLIGHT
TZOFFSETFROM:+0000
TZOFFSETTO:+0100
TZNAME:BST
DTSTART:20240331T010000
END:DAYLIGHT
BEGIN:STANDARD
TZOFFSETFROM:+0100
TZOFFSETTO:+0000
TZNAME:GMT
DTSTART:20241027T010000
END:STANDARD
END:VTIMEZONE
BEGIN:VEVENT
DTSTART;TZID=Europe/London:20240203T193000
DTEND;TZID=Europe/London:20240203T213000
DTSTAMP:20260425T141806
CREATED:20240201T090829Z
LAST-MODIFIED:20240201T090829Z
UID:117997-1706988600-1706995800@www.discovernorthampton.co.uk
SUMMARY:Amy A Tribute
DESCRIPTION:Amy A Tribute is an 8 piece band with full horn section/backing singers.\nThey are all musicians with a goal to recreate the sound of Amy Winehouse. Whether it be from her BBC concerts or staying true to the original recordings. This band isn’t about looking like Amy\, they aim to stay true to the sound of the Winehouse/Ronson style\, with a full horn section\, including baritone sax & flute.
URL:https://www.discovernorthampton.co.uk/event/amy-a-tribute/
LOCATION:The Old Savoy â€“ The home of The Deco Theatre\, Abington Square\, Northampton\, Northamptonshire\, NN1 4AE
CATEGORIES:The Deco,Theatre
ATTACH;FMTTYPE=image/jpeg:https://www.discovernorthampton.co.uk/wp-content/uploads/2024/02/amy-a-tribute-212x300-1.jpeg
END:VEVENT
END:VCALENDAR