BEGIN:VCALENDAR
VERSION:2.0
PRODID:-//Northampton BID - ECPv6.2.4//NONSGML v1.0//EN
CALSCALE:GREGORIAN
METHOD:PUBLISH
X-WR-CALNAME:Northampton BID
X-ORIGINAL-URL:https://www.discovernorthampton.co.uk
X-WR-CALDESC:Events for Northampton BID
REFRESH-INTERVAL;VALUE=DURATION:PT1H
X-Robots-Tag:noindex
X-PUBLISHED-TTL:PT1H
BEGIN:VTIMEZONE
TZID:Europe/London
BEGIN:DAYLIGHT
TZOFFSETFROM:+0000
TZOFFSETTO:+0100
TZNAME:BST
DTSTART:20250330T010000
END:DAYLIGHT
BEGIN:STANDARD
TZOFFSETFROM:+0100
TZOFFSETTO:+0000
TZNAME:GMT
DTSTART:20251026T010000
END:STANDARD
END:VTIMEZONE
BEGIN:VEVENT
DTSTART;TZID=Europe/London:20250405T193000
DTEND;TZID=Europe/London:20250405T193000
DTSTAMP:20260425T234221
CREATED:20250327T172608Z
LAST-MODIFIED:20250327T172608Z
UID:125110-1743881400-1743881400@www.discovernorthampton.co.uk
SUMMARY:Nathan Carter
DESCRIPTION:He has outsold the likes of Beyonce in Ireland\, performed for the Pope\, sold out venues across the world; and is one of the most prolific touring artists in the UK. Now\, as he releases his new album ‘Music Man’\, Ireland’s top entertainer Nathan Carter has announced a brand new UK tour. \nBorn in Liverpool to Irish parents from County Down\, Nathan Carter has released 13 studio albums and 6 live albums\, with a sound that traverses pop\, Irish folk\, country music and timeless ballads. \nWith tracks such as Wagon Wheel and I Wanna Dance becoming huge hits\, he is one of Ireland’s biggest artists\, who has outsold One Direction\, Pharrell Williams and Michael Bublé. He also became the first Irish country act to reach number 1 in the Irish charts in 2013 after Garth Brooks\, six years before. \nHis new album Music Man features 11 tracks including the hugely successful single Dance With Everybody and the new song Dear Elizabeth. \nOn the album\, Nathan says: \n‘For as long as I can remember\, my life has revolved around music. It’s a language I’ve always understood\, which started out as a hobby and has grown into a career which I am so privileged to enjoy every day. Thanks to music\, I get to wake up each morning to do something that I love and share it with all of you. \nIt’s a complete love\, a total obsession and has literally dictated the course of my life. I am proud to be a ‘music man’ and think it’s a really fitting title for this album. It certainly sums me up! \nOn the ‘Music Man’ album\, you’ll find new music I’ve really enjoyed making and I hope that comes across as you listen. With the help of some amazingly talented artists\, producers and songwriters\, we’ve created something which I hope you will enjoy and will keep your love of music alive too.’ \nGrowing up in a house where Country and Western music filled the air\, Nathan was exposed to the classic songs of Johnny Cash\, Don Williams and Dolly Parton which firmly rooted themselves in his musical DNA. \nFrom the tender age of 4 years old\, not only learning to play guitar\, piano and accordion\, which plays a vital part in his live show\, Nathan quickly became head chorister in the Liverpool Boys choir where he toured the world… and even performed in front of the Pope in Rome. \nYears later\, with an astounding career of achievements as he became Ireland’s number 1 entertainer\, he would repeat this feat as a star in an incredible full circle moment in 2018\, when he performed for the Pope on his historic visit to Ireland at Dublin’s Croke Park stadium.
URL:https://www.discovernorthampton.co.uk/event/nathan-carter-2/
LOCATION:Royal and Derngate Theatre\, 19-21 Guildhall Road\, Northampton\, Northamptonshire\, NN1 1DP
CATEGORIES:Theatre
ATTACH;FMTTYPE=image/png:https://www.discovernorthampton.co.uk/wp-content/uploads/2025/03/Nathan-Carter-Website_2340x978px-1170x476-1.png
ORGANIZER;CN="Royal and Derngate":MAILTO:BoxOffice@royalandderngate.co.uk
END:VEVENT
BEGIN:VEVENT
DTSTART;TZID=Europe/London:20250405T193000
DTEND;TZID=Europe/London:20250405T233000
DTSTAMP:20260425T234221
CREATED:20250313T112802Z
LAST-MODIFIED:20250313T112802Z
UID:124214-1743881400-1743895800@www.discovernorthampton.co.uk
SUMMARY:Bernie Keith presents Handbag Heaven
DESCRIPTION:Doors 7 pm Main Feature: 7:30 pm – last dance at 11:30 pm\nLive on Stage \n“It’s a night of Old Skool disco! Where do people who used to tear up the dancefloors in the 60s/ 70s/ 80s or even 90s go to now if they want to dance? To a Handbag Heaven Club Night at The Old Savoy! A riot of memories\, camp fun and iconic tunes hosted by Radio Northampton’s Bernie Keith\, it’s a return to the dance floors we grew up with. 4 hours of non-stop dancing at The Deco – Handbag Heaven Club Nights will be the place to bring it all back!” \nÂ  \nGet your tickets now. Doors 7pm fun starts 7.30pm \n\n\n+ Google Calendar+ Add to iCalendar
URL:https://www.discovernorthampton.co.uk/event/bernie-keith-presents-handbag-heaven-2/
LOCATION:The Old Savoy â€“ The home of The Deco Theatre\, Abington Square\, Northampton\, Northamptonshire\, NN1 4AE
CATEGORIES:The Deco,Theatre
ATTACH;FMTTYPE=image/jpeg:https://www.discovernorthampton.co.uk/wp-content/uploads/2025/03/Bernie-New-428x768-1.jpg
ORGANIZER;CN="The Deco":MAILTO:Toni@stage-right.co.uk
END:VEVENT
END:VCALENDAR