BEGIN:VCALENDAR
VERSION:2.0
PRODID:-//Northampton BID - ECPv6.2.4//NONSGML v1.0//EN
CALSCALE:GREGORIAN
METHOD:PUBLISH
X-WR-CALNAME:Northampton BID
X-ORIGINAL-URL:https://www.discovernorthampton.co.uk
X-WR-CALDESC:Events for Northampton BID
REFRESH-INTERVAL;VALUE=DURATION:PT1H
X-Robots-Tag:noindex
X-PUBLISHED-TTL:PT1H
BEGIN:VTIMEZONE
TZID:Europe/London
BEGIN:DAYLIGHT
TZOFFSETFROM:+0000
TZOFFSETTO:+0100
TZNAME:BST
DTSTART:20250330T010000
END:DAYLIGHT
BEGIN:STANDARD
TZOFFSETFROM:+0100
TZOFFSETTO:+0000
TZNAME:GMT
DTSTART:20251026T010000
END:STANDARD
END:VTIMEZONE
BEGIN:VEVENT
DTSTART;TZID=Europe/London:20250408T193000
DTEND;TZID=Europe/London:20250408T193000
DTSTAMP:20260426T021629
CREATED:20250331T155111Z
LAST-MODIFIED:20250403T093214Z
UID:125266-1744140600-1744140600@www.discovernorthampton.co.uk
SUMMARY:That’ll Be The Day
DESCRIPTION:Immerse yourself in the ultimate fusion of rock ‘n’ roll\, pop\, and comedy with That’ll Be The Day\, the UK’s longest-running theatre show. Experience a captivating journey through music history from the 50s to the 80s\, filled with electrifying performances and iconic tunes. \nThis unforgettable show combines talent\, energy\, passion\, and nostalgia\, allowing you to sing\, laugh\, and dance along to the greatest hits of the past. Don’t miss out on this spectacular celebration of rock and pop that will leave you wanting more.
URL:https://www.discovernorthampton.co.uk/event/thatll-be-the-day-3/
LOCATION:Royal and Derngate Theatre\, 19-21 Guildhall Road\, Northampton\, Northamptonshire\, NN1 1DP
CATEGORIES:Theatre
ATTACH;FMTTYPE=image/png:https://www.discovernorthampton.co.uk/wp-content/uploads/2025/03/TBTD-2340x948px-1170x476-1.png
ORGANIZER;CN="Royal and Derngate":MAILTO:BoxOffice@royalandderngate.co.uk
END:VEVENT
END:VCALENDAR