BEGIN:VCALENDAR
VERSION:2.0
PRODID:-//Northampton BID - ECPv6.2.4//NONSGML v1.0//EN
CALSCALE:GREGORIAN
METHOD:PUBLISH
X-WR-CALNAME:Northampton BID
X-ORIGINAL-URL:https://www.discovernorthampton.co.uk
X-WR-CALDESC:Events for Northampton BID
REFRESH-INTERVAL;VALUE=DURATION:PT1H
X-Robots-Tag:noindex
X-PUBLISHED-TTL:PT1H
BEGIN:VTIMEZONE
TZID:Europe/London
BEGIN:DAYLIGHT
TZOFFSETFROM:+0000
TZOFFSETTO:+0100
TZNAME:BST
DTSTART:20250330T010000
END:DAYLIGHT
BEGIN:STANDARD
TZOFFSETFROM:+0100
TZOFFSETTO:+0000
TZNAME:GMT
DTSTART:20251026T010000
END:STANDARD
END:VTIMEZONE
BEGIN:VEVENT
DTSTART;TZID=Europe/London:20250619T183000
DTEND;TZID=Europe/London:20250619T203000
DTSTAMP:20260426T034534
CREATED:20250603T105139Z
LAST-MODIFIED:20250603T105139Z
UID:127363-1750357800-1750365000@www.discovernorthampton.co.uk
SUMMARY:An Evening of Mediumship with Donna Stewart
DESCRIPTION:Experience an intimate evening with Donna Stewart. With only 70 seats available\, be sure to book early to avoid disappointment. \nDonna has been aware of Spirit since childhood\, and now working professionally for 28 years\, continues to bring warmth\, humour and unquestionable evidence that life continues after this. \nAs a recognised Tutor and Mentor of spiritual development\, Donna continues to teach and lecture throughout the UK and online with some of the most respected Mediums and organisations. Her work abroad includes Italy\, Athens\, Spain\, Gibraltar\, Germany and Japan.  \nAs a resident Training Provider at London based International School of Intuition and Healing\, Donna facilitates accreditation courses in mediumship development.  \nDonna can be seen regularly at her lively\, sensitive and inspiring evenings of Mediumship in theatres\, Spiritualist centres and private venues bringing the two worlds together and reuniting loved ones. \nHer television appearances to date include Living TV’s ‘6ixth Sense’ with Colin Fry\, ‘Psychic Detective’ ‘Psychic Private Eyes’ and ‘Frankly Speaking’ for Gibraltar television.\nDonna and co-host Frankie Hatton bought radio show ‘Paranormal Hour’ to the airwaves for 18 months for BayFM radio and Donna regularly gives interviews and works with global broadcasting networks.  \nDonna is an author of online publications\, a blogger\, and is passionate about working with Spirit as a way of life to share ultimate belief through experience that there is only life after life.  \nwww.donnastewart.net 
URL:https://www.discovernorthampton.co.uk/event/an-evening-of-mediumship-with-donna-stewart/
LOCATION:Royal and Derngate Theatre\, 19-21 Guildhall Road\, Northampton\, Northamptonshire\, NN1 1DP
CATEGORIES:The Deco,Theatre
ATTACH;FMTTYPE=image/jpeg:https://www.discovernorthampton.co.uk/wp-content/uploads/2025/06/Donna-Stewart-Image-to-be-used.jpg
ORGANIZER;CN="Royal and Derngate":MAILTO:BoxOffice@royalandderngate.co.uk
END:VEVENT
BEGIN:VEVENT
DTSTART;TZID=Europe/London:20250619T193000
DTEND;TZID=Europe/London:20250619T193000
DTSTAMP:20260426T034534
CREATED:20250603T085224Z
LAST-MODIFIED:20250603T085224Z
UID:127250-1750361400-1750361400@www.discovernorthampton.co.uk
SUMMARY:Steve Steinman’s Love Hurts – Power Ballads & Anthems
DESCRIPTION:From the producers of Anything For Love and Vampires Rock and starring Steve Steinman\, this brand-new show features a powerhouse cast of amazing singers and 7 piece live band. \nYou are guaranteed the night of your life\, rocking out to some of the greatest power ballads and anthems of all time! \nIncludes tracks from Fleetwood Mac\, Heart\, Whitesnake\, Billy Idol\, Aerosmith\, Tina Turner\, Cutting Crew\, Foreigner\, REO Speedwagon\, Rainbow\, Van Halen\, Europe\, Air Supply and many more.
URL:https://www.discovernorthampton.co.uk/event/steve-steinmans-love-hurts-power-ballads-anthems/
LOCATION:Royal and Derngate Theatre\, 19-21 Guildhall Road\, Northampton\, Northamptonshire\, NN1 1DP
CATEGORIES:Royal and Derngate,Theatre
ATTACH;FMTTYPE=image/png:https://www.discovernorthampton.co.uk/wp-content/uploads/2025/06/Love-Hurts-Website-1170x476-1.png
ORGANIZER;CN="Royal and Derngate":MAILTO:BoxOffice@royalandderngate.co.uk
END:VEVENT
BEGIN:VEVENT
DTSTART;TZID=Europe/London:20250619T193000
DTEND;TZID=Europe/London:20250619T193000
DTSTAMP:20260426T034534
CREATED:20250603T085433Z
LAST-MODIFIED:20250603T085433Z
UID:127253-1750361400-1750361400@www.discovernorthampton.co.uk
SUMMARY:The King’s Speech
DESCRIPTION:Britain is in crisis\, and so is The King. \nAs Hitler threatens Europe\, a concerned nation needs to hear from its monarch. But facing the biggest moment of his life\, King George VI is unable to find his voice. \nBased on the Academy Award-winning film starring Colin Firth\, this is the moving story of how The King overcame his fear of public speaking through the help of Australian speech therapist Lionel Logue \nThe King’s Speech details the unlikely relationship between royalty and a tough Australian speech therapist\, who empowers the stammering future King with the ability to speak to\, and for\, the nation. \nFrom our community.
URL:https://www.discovernorthampton.co.uk/event/the-kings-speech/2025-06-19/
LOCATION:Royal and Derngate Theatre\, 19-21 Guildhall Road\, Northampton\, Northamptonshire\, NN1 1DP
CATEGORIES:Royal and Derngate,Theatre
ATTACH;FMTTYPE=image/png:https://www.discovernorthampton.co.uk/wp-content/uploads/2025/06/Kings_Speech_2340x978_website-1170x476-1.png
ORGANIZER;CN="Royal and Derngate":MAILTO:BoxOffice@royalandderngate.co.uk
END:VEVENT
END:VCALENDAR