BEGIN:VCALENDAR
VERSION:2.0
PRODID:-//Northampton BID - ECPv6.2.4//NONSGML v1.0//EN
CALSCALE:GREGORIAN
METHOD:PUBLISH
X-WR-CALNAME:Northampton BID
X-ORIGINAL-URL:https://www.discovernorthampton.co.uk
X-WR-CALDESC:Events for Northampton BID
REFRESH-INTERVAL;VALUE=DURATION:PT1H
X-Robots-Tag:noindex
X-PUBLISHED-TTL:PT1H
BEGIN:VTIMEZONE
TZID:Europe/London
BEGIN:DAYLIGHT
TZOFFSETFROM:+0000
TZOFFSETTO:+0100
TZNAME:BST
DTSTART:20250330T010000
END:DAYLIGHT
BEGIN:STANDARD
TZOFFSETFROM:+0100
TZOFFSETTO:+0000
TZNAME:GMT
DTSTART:20251026T010000
END:STANDARD
END:VTIMEZONE
BEGIN:VEVENT
DTSTART;TZID=Europe/London:20250716T183000
DTEND;TZID=Europe/London:20250716T200000
DTSTAMP:20260426T041142
CREATED:20250603T105847Z
LAST-MODIFIED:20250603T105847Z
UID:127375-1752690600-1752696000@www.discovernorthampton.co.uk
SUMMARY:Silhouette Youth Theatre
DESCRIPTION:The Nene Valley Partnership and Silhouette Youth are proud to present William Shakespeare’s The Tempest. \nThis work has come from sessions that were held in every school where young people were immersed in the story. \nThey each then took a part of the play and used drama and dance to explore the narrative and the characters. \nEvery young person will be on stage\, every young person will be taking a part and we are very excited to share our work. \nSo come along\, sit back and be prepared to be impressed!
URL:https://www.discovernorthampton.co.uk/event/silhouette-youth-theatre/
LOCATION:The Old Savoy â€“ The home of The Deco Theatre\, Abington Square\, Northampton\, Northamptonshire\, NN1 4AE
CATEGORIES:The Deco,Theatre
ATTACH;FMTTYPE=image/jpeg:https://www.discovernorthampton.co.uk/wp-content/uploads/2025/06/The-Tempest-Silhouette-Youth-Theatre.jpg
ORGANIZER;CN="The Deco":MAILTO:Toni@stage-right.co.uk
END:VEVENT
BEGIN:VEVENT
DTSTART;TZID=Europe/London:20250716T193000
DTEND;TZID=Europe/London:20250716T193000
DTSTAMP:20260426T041142
CREATED:20250603T102058Z
LAST-MODIFIED:20250603T102058Z
UID:127308-1752694200-1752694200@www.discovernorthampton.co.uk
SUMMARY:Matthew Bourne’s The Midnight Bell
DESCRIPTION:Matthew Bourne’s award-winning The Midnight Bell comes to Northampton for the first time in 2025. \nIn 1930s London ordinary people emerge from cheap boarding houses nightly to pour out their passions\, hopes and dreams in the pubs and fog-bound streets of Soho and Fitzrovia. Step inside The Midnight Bell\, a tavern where one particular lonely-hearts club gather to play out their lovelorn affairs of the heart; bitter comedies of longing\, frustration\, betrayal and redemption. \nInspired by the great English novelist Patrick Hamilton (Twenty Thousand Streets Under The Sky\, Hangover Square) who created some of the most authentic fiction of his era; stories borne out of years of social interactions with the working man and woman at his favourite location – the London Pub. \nHailed by The Observer as ‘the undisputed king of dance theatre’\, master storyteller Bourne has produced some of the most successful dance theatre productions of the last 30 years including Swan Lake\, Cinderella\, The Red Shoes and Edward Scissorhands. \n\nIn Conversation with Matthew Bourne \nJoin us after the performance on Tue 15 July 7:30pm for a fully BSL interpreted chat with Matthew Bourne himself for a unique opportunity to discover the insights of creating this show. This event is free with a ticket to the performance that evening.
URL:https://www.discovernorthampton.co.uk/event/matthew-bournes-the-midnight-bell/2025-07-16/
LOCATION:Royal and Derngate Theatre\, 19-21 Guildhall Road\, Northampton\, Northamptonshire\, NN1 1DP
CATEGORIES:Royal and Derngate,Theatre
ATTACH;FMTTYPE=image/jpeg:https://www.discovernorthampton.co.uk/wp-content/uploads/2025/06/8187_01_MB_Plymouth_2340x978_v1-1170x476-1.jpg
ORGANIZER;CN="Royal and Derngate":MAILTO:BoxOffice@royalandderngate.co.uk
END:VEVENT
END:VCALENDAR