BEGIN:VCALENDAR
VERSION:2.0
PRODID:-//Northampton BID - ECPv6.2.4//NONSGML v1.0//EN
CALSCALE:GREGORIAN
METHOD:PUBLISH
X-WR-CALNAME:Northampton BID
X-ORIGINAL-URL:https://www.discovernorthampton.co.uk
X-WR-CALDESC:Events for Northampton BID
REFRESH-INTERVAL;VALUE=DURATION:PT1H
X-Robots-Tag:noindex
X-PUBLISHED-TTL:PT1H
BEGIN:VTIMEZONE
TZID:Europe/London
BEGIN:DAYLIGHT
TZOFFSETFROM:+0000
TZOFFSETTO:+0100
TZNAME:BST
DTSTART:20260329T010000
END:DAYLIGHT
BEGIN:STANDARD
TZOFFSETFROM:+0100
TZOFFSETTO:+0000
TZNAME:GMT
DTSTART:20261025T010000
END:STANDARD
END:VTIMEZONE
BEGIN:VEVENT
DTSTART;TZID=Europe/London:20260505T193000
DTEND;TZID=Europe/London:20260505T193000
DTSTAMP:20260426T041011
CREATED:20260418T090858Z
LAST-MODIFIED:20260418T090858Z
UID:136144-1778009400-1778009400@www.discovernorthampton.co.uk
SUMMARY:David Olusoga: A Gun Through Time
DESCRIPTION:Have you ever considered how a single weapon could change the course of history? What stories lie behind the guns that shaped empires\, wars\, and even criminal underworlds? How did these firearms influence not just battles\, but entire societies? \nKnown for his acclaimed documentaries Black and British: A Forgotten History and A House Through Time\, David Olusoga offers remarkable storytelling in this powerful\, unexpected and enlightening social narrative. \nJoin David as he uncovers the story of four firearms that changed the world and the lives of our ancestors. \nThe Thompson Sub-Machine Gun was the wonder weapon that was supposed to end to the slaughter of the First World War. But in the hands of the gangsters of Prohibition-era America it became the infamous ‘Tommy Gun’. \nThe Maxim gun enabled Europeans to conquer Africa in the 1890s\, but 20 years later it became one of the biggest killers in European history when deployed on the Western Front. It is still being used to considerable effect on the battlefields of Ukraine. \nThe Brown Bess flintlock musket\, standard issue to the British Army from the early 18th to mid-19th century\, was famously used in conflicts from the American War of Independence to Waterloo\, symbolising the height of British imperial military power. \nThe Lee Enfield rifle was woven into the lives of two generations of our ancestors. With 17 million of them produced it was the weapon the British Army took to war in 1914 and 1939. \nSee these legendary firearms up close on stage and delve into their mind-bending hidden social histories. You’ll also have the chance ask David your own questions about any historical topic.
URL:https://www.discovernorthampton.co.uk/event/david-olusoga-a-gun-through-time/
LOCATION:Royal and Derngate Theatre\, 19-21 Guildhall Road\, Northampton\, Northamptonshire\, NN1 1DP
CATEGORIES:Royal and Derngate,Theatre
ATTACH;FMTTYPE=image/jpeg:https://www.discovernorthampton.co.uk/wp-content/uploads/2026/04/DAVID-0-1170X476-1024x417-1.jpg
ORGANIZER;CN="Royal and Derngate":MAILTO:BoxOffice@royalandderngate.co.uk
END:VEVENT
END:VCALENDAR