BEGIN:VCALENDAR
VERSION:2.0
PRODID:-//Northampton BID - ECPv6.2.4//NONSGML v1.0//EN
CALSCALE:GREGORIAN
METHOD:PUBLISH
X-WR-CALNAME:Northampton BID
X-ORIGINAL-URL:https://www.discovernorthampton.co.uk
X-WR-CALDESC:Events for Northampton BID
REFRESH-INTERVAL;VALUE=DURATION:PT1H
X-Robots-Tag:noindex
X-PUBLISHED-TTL:PT1H
BEGIN:VTIMEZONE
TZID:Europe/London
BEGIN:DAYLIGHT
TZOFFSETFROM:+0000
TZOFFSETTO:+0100
TZNAME:BST
DTSTART:20250330T010000
END:DAYLIGHT
BEGIN:STANDARD
TZOFFSETFROM:+0100
TZOFFSETTO:+0000
TZNAME:GMT
DTSTART:20251026T010000
END:STANDARD
END:VTIMEZONE
BEGIN:VEVENT
DTSTART;TZID=Europe/London:20250414T193000
DTEND;TZID=Europe/London:20250414T193000
DTSTAMP:20260425T221734
CREATED:20250331T160643Z
LAST-MODIFIED:20250331T160643Z
UID:125295-1744659000-1744659000@www.discovernorthampton.co.uk
SUMMARY:Murder\, She Didn’t Write
DESCRIPTION:Don your deerstalker\, grab your magnifying glass and get your ‘finger of suspicion’ at the ready because Edinburgh Fringe favourites\, Degrees of Error\, are bringing back their multiple sell-out show for your sleuthing pleasure. \nThey’ll create a classic murder mystery on-the-spot in this ingenious improvised comedy. You\, the audience\, become the author as the cast act out your very own Agatha Christie-inspired masterpiece live on stage. At each show this extraordinarily talented company use audience suggestions to create a unique\, original and extremely comical murder mystery just for you. All you have to do… is solve it! \nMs Gold poisoned at a synchronised swimming gala? Dr Blue exploded by cannon during a hot air balloon race? Professor Violet crushed to death at a Love Island recoupling? You decide! \nBut will you guess whodunnit before the killer is revealed?
URL:https://www.discovernorthampton.co.uk/event/murder-she-didnt-write/2025-04-14/
LOCATION:Royal and Derngate Theatre\, 19-21 Guildhall Road\, Northampton\, Northamptonshire\, NN1 1DP
CATEGORIES:Theatre
ATTACH;FMTTYPE=image/jpeg:https://www.discovernorthampton.co.uk/wp-content/uploads/2025/03/MSDW-2340-x-978-1170x476-1.jpg
ORGANIZER;CN="Royal and Derngate":MAILTO:BoxOffice@royalandderngate.co.uk
END:VEVENT
BEGIN:VEVENT
DTSTART;TZID=Europe/London:20250415T193000
DTEND;TZID=Europe/London:20250415T193000
DTSTAMP:20260425T221734
CREATED:20250331T160643Z
LAST-MODIFIED:20250331T160643Z
UID:125298-1744745400-1744745400@www.discovernorthampton.co.uk
SUMMARY:Murder\, She Didn’t Write
DESCRIPTION:Don your deerstalker\, grab your magnifying glass and get your ‘finger of suspicion’ at the ready because Edinburgh Fringe favourites\, Degrees of Error\, are bringing back their multiple sell-out show for your sleuthing pleasure. \nThey’ll create a classic murder mystery on-the-spot in this ingenious improvised comedy. You\, the audience\, become the author as the cast act out your very own Agatha Christie-inspired masterpiece live on stage. At each show this extraordinarily talented company use audience suggestions to create a unique\, original and extremely comical murder mystery just for you. All you have to do… is solve it! \nMs Gold poisoned at a synchronised swimming gala? Dr Blue exploded by cannon during a hot air balloon race? Professor Violet crushed to death at a Love Island recoupling? You decide! \nBut will you guess whodunnit before the killer is revealed?
URL:https://www.discovernorthampton.co.uk/event/murder-she-didnt-write/2025-04-15/
LOCATION:Royal and Derngate Theatre\, 19-21 Guildhall Road\, Northampton\, Northamptonshire\, NN1 1DP
CATEGORIES:Theatre
ATTACH;FMTTYPE=image/jpeg:https://www.discovernorthampton.co.uk/wp-content/uploads/2025/03/MSDW-2340-x-978-1170x476-1.jpg
ORGANIZER;CN="Royal and Derngate":MAILTO:BoxOffice@royalandderngate.co.uk
END:VEVENT
BEGIN:VEVENT
DTSTART;TZID=Europe/London:20250416T140000
DTEND;TZID=Europe/London:20250416T140000
DTSTAMP:20260425T221734
CREATED:20250331T160941Z
LAST-MODIFIED:20250331T161957Z
UID:125302-1744812000-1744812000@www.discovernorthampton.co.uk
SUMMARY:Horrible Histories – Terrible Tudors
DESCRIPTION:Easter Holidays Family Fun! \nWe all want to meet people from history. The trouble is everyone is dead! \nSo it’s time to prepare yourselves for two amazing shows with Horrible Histories live on stage! Using actors and eye-popping 3D special effects\, these two astounding shows are guaranteed to thrill you and your children. Historical figures and events will come alive on stage and hover at your fingertips! \nTerrible Tudors: From the horrible Henries to the end of evil Elizabeth\, hear the legends (and the lies!) about the torturing Tudors. Find out the fate of Henry’s headless wives and his punch up with the Pope. Meet Bloody Mary and see Ed fall dead in his bed. Survive the Spanish Armada as it sails into the audience! \nAwful Egyptians: From the fascinating Pharaohs to the power of the pyramids\, discover the foul facts of death and decay with the meanest mummies in Egypt. Are you ready to rumble with Ramesses the Great? Dare you enter through the Gates of the afterlife? \nIt’s history with the nasty bits left in! \nTerrible Tudors: Wed & Fri 2pm\, Thu & Sat 6.30pm\nAwful Egyptians: Wed & Fri 6.30pm\, Thu & Sat 2pm \n\nFamily Ticket Offer \nOff-Peak: Family of three: £54 / Family of four: £72 (Wed and Thu performances – Price Band A and B)\nOn-Peak: Family of three: £69/ Family of four: £92 (Fri and Sat performances – Price Band A ) \n\nSUBSCRIBE & SAVE \nBOOK 3 OR MORE SHOWS AND SAVE! \nBook 3 or more – save 15%\nBook 5 or more – save 20%\nBook 7 or more – save 25% \nMembers enjoy an additional 5% off! \nBook 3 or more of these shows and make great savings: \nTreasure Island | Pig Heart Boy | The Smeds & Smoos | The King’s Speech | Matthew Bourne’s The Midnight Bell | Breaking The Code | Bat Out of Hell | Top G’s Like Me
URL:https://www.discovernorthampton.co.uk/event/horrible-histories-terrible-tudors/2025-04-16/
LOCATION:Royal and Derngate Theatre\, 19-21 Guildhall Road\, Northampton\, Northamptonshire\, NN1 1DP
CATEGORIES:Theatre
ATTACH;FMTTYPE=image/png:https://www.discovernorthampton.co.uk/wp-content/uploads/2025/03/Horrible-Histories-Website-1170x476-1.png
ORGANIZER;CN="Royal and Derngate":MAILTO:BoxOffice@royalandderngate.co.uk
END:VEVENT
BEGIN:VEVENT
DTSTART;TZID=Europe/London:20250416T183000
DTEND;TZID=Europe/London:20250416T183000
DTSTAMP:20260425T221734
CREATED:20250331T161205Z
LAST-MODIFIED:20250331T161826Z
UID:125308-1744828200-1744828200@www.discovernorthampton.co.uk
SUMMARY:Horrible Histories – Awful Egyptians
DESCRIPTION:Easter Holidays Family Fun! \nWe all want to meet people from history. The trouble is everyone is dead! \nSo it’s time to prepare yourselves for two amazing shows with Horrible Histories live on stage! Using actors and eye-popping 3D special effects\, these two astounding shows are guaranteed to thrill you and your children. Historical figures and events will come alive on stage and hover at your fingertips! \nTerrible Tudors: From the horrible Henries to the end of evil Elizabeth\, hear the legends (and the lies!) about the torturing Tudors. Find out the fate of Henry’s headless wives and his punch up with the Pope. Meet Bloody Mary and see Ed fall dead in his bed. Survive the Spanish Armada as it sails into the audience! \nAwful Egyptians: From the fascinating Pharaohs to the power of the pyramids\, discover the foul facts of death and decay with the meanest mummies in Egypt. Are you ready to rumble with Ramesses the Great? Dare you enter through the Gates of the afterlife? \nIt’s history with the nasty bits left in! \nTerrible Tudors: Wed & Fri 2pm\, Thu & Sat 6.30pm\nAwful Egyptians: Wed & Fri 6.30pm\, Thu & Sat 2pm \n\nFamily Ticket Offer \nOff-Peak: Family of three: £54 / Family of four: £72 (Wed and Thu performances – Price Band A and B)\nOn-Peak: Family of three: £69/ Family of four: £92 (Fri and Sat performances – Price Band A ) \n\nSUBSCRIBE & SAVE \nBOOK 3 OR MORE SHOWS AND SAVE! \nBook 3 or more – save 15%\nBook 5 or more – save 20%\nBook 7 or more – save 25% \nMembers enjoy an additional 5% off! \nBook 3 or more of these shows and make great savings: \nTreasure Island | Pig Heart Boy | The Smeds & Smoos | The King’s Speech | Matthew Bourne’s The Midnight Bell | Breaking The Code | Bat Out of Hell | Top G’s Like Me
URL:https://www.discovernorthampton.co.uk/event/horrible-histories-awful-egyptians/2025-04-16/
LOCATION:Royal and Derngate Theatre\, 19-21 Guildhall Road\, Northampton\, Northamptonshire\, NN1 1DP
CATEGORIES:Theatre
ATTACH;FMTTYPE=image/png:https://www.discovernorthampton.co.uk/wp-content/uploads/2025/03/Horrible-Histories-Website-1170x476-1.png
ORGANIZER;CN="Royal and Derngate":MAILTO:BoxOffice@royalandderngate.co.uk
END:VEVENT
BEGIN:VEVENT
DTSTART;TZID=Europe/London:20250416T193000
DTEND;TZID=Europe/London:20250416T193000
DTSTAMP:20260425T221734
CREATED:20250331T160643Z
LAST-MODIFIED:20250331T160643Z
UID:125300-1744831800-1744831800@www.discovernorthampton.co.uk
SUMMARY:Murder\, She Didn’t Write
DESCRIPTION:Don your deerstalker\, grab your magnifying glass and get your ‘finger of suspicion’ at the ready because Edinburgh Fringe favourites\, Degrees of Error\, are bringing back their multiple sell-out show for your sleuthing pleasure. \nThey’ll create a classic murder mystery on-the-spot in this ingenious improvised comedy. You\, the audience\, become the author as the cast act out your very own Agatha Christie-inspired masterpiece live on stage. At each show this extraordinarily talented company use audience suggestions to create a unique\, original and extremely comical murder mystery just for you. All you have to do… is solve it! \nMs Gold poisoned at a synchronised swimming gala? Dr Blue exploded by cannon during a hot air balloon race? Professor Violet crushed to death at a Love Island recoupling? You decide! \nBut will you guess whodunnit before the killer is revealed?
URL:https://www.discovernorthampton.co.uk/event/murder-she-didnt-write/2025-04-16/2/
LOCATION:Royal and Derngate Theatre\, 19-21 Guildhall Road\, Northampton\, Northamptonshire\, NN1 1DP
CATEGORIES:Theatre
ATTACH;FMTTYPE=image/jpeg:https://www.discovernorthampton.co.uk/wp-content/uploads/2025/03/MSDW-2340-x-978-1170x476-1.jpg
ORGANIZER;CN="Royal and Derngate":MAILTO:BoxOffice@royalandderngate.co.uk
END:VEVENT
BEGIN:VEVENT
DTSTART;TZID=Europe/London:20250417T140000
DTEND;TZID=Europe/London:20250417T170000
DTSTAMP:20260425T221734
CREATED:20250331T161205Z
LAST-MODIFIED:20250331T161205Z
UID:125313-1744898400-1744909200@www.discovernorthampton.co.uk
SUMMARY:Horrible Histories – Awful Egyptians
DESCRIPTION:Easter Holidays Family Fun! \nWe all want to meet people from history. The trouble is everyone is dead! \nSo it’s time to prepare yourselves for two amazing shows with Horrible Histories live on stage! Using actors and eye-popping 3D special effects\, these two astounding shows are guaranteed to thrill you and your children. Historical figures and events will come alive on stage and hover at your fingertips! \nTerrible Tudors: From the horrible Henries to the end of evil Elizabeth\, hear the legends (and the lies!) about the torturing Tudors. Find out the fate of Henry’s headless wives and his punch up with the Pope. Meet Bloody Mary and see Ed fall dead in his bed. Survive the Spanish Armada as it sails into the audience! \nAwful Egyptians: From the fascinating Pharaohs to the power of the pyramids\, discover the foul facts of death and decay with the meanest mummies in Egypt. Are you ready to rumble with Ramesses the Great? Dare you enter through the Gates of the afterlife? \nIt’s history with the nasty bits left in! \nTerrible Tudors: Wed & Fri 2pm\, Thu & Sat 6.30pm\nAwful Egyptians: Wed & Fri 6.30pm\, Thu & Sat 2pm \n\nFamily Ticket Offer \nOff-Peak: Family of three: £54 / Family of four: £72 (Wed and Thu performances – Price Band A and B)\nOn-Peak: Family of three: £69/ Family of four: £92 (Fri and Sat performances – Price Band A ) \n\nSUBSCRIBE & SAVE \nBOOK 3 OR MORE SHOWS AND SAVE! \nBook 3 or more – save 15%\nBook 5 or more – save 20%\nBook 7 or more – save 25% \nMembers enjoy an additional 5% off! \nBook 3 or more of these shows and make great savings: \nTreasure Island | Pig Heart Boy | The Smeds & Smoos | The King’s Speech | Matthew Bourne’s The Midnight Bell | Breaking The Code | Bat Out of Hell | Top G’s Like Me
URL:https://www.discovernorthampton.co.uk/event/horrible-histories-awful-egyptians/2025-04-17/
LOCATION:Royal and Derngate Theatre\, 19-21 Guildhall Road\, Northampton\, Northamptonshire\, NN1 1DP
CATEGORIES:Theatre
ATTACH;FMTTYPE=image/png:https://www.discovernorthampton.co.uk/wp-content/uploads/2025/03/Horrible-Histories-Website-1170x476-1.png
ORGANIZER;CN="Royal and Derngate":MAILTO:BoxOffice@royalandderngate.co.uk
END:VEVENT
BEGIN:VEVENT
DTSTART;TZID=Europe/London:20250417T193000
DTEND;TZID=Europe/London:20250417T193000
DTSTAMP:20260425T221734
CREATED:20250331T160643Z
LAST-MODIFIED:20250331T160643Z
UID:125301-1744918200-1744918200@www.discovernorthampton.co.uk
SUMMARY:Murder\, She Didn’t Write
DESCRIPTION:Don your deerstalker\, grab your magnifying glass and get your ‘finger of suspicion’ at the ready because Edinburgh Fringe favourites\, Degrees of Error\, are bringing back their multiple sell-out show for your sleuthing pleasure. \nThey’ll create a classic murder mystery on-the-spot in this ingenious improvised comedy. You\, the audience\, become the author as the cast act out your very own Agatha Christie-inspired masterpiece live on stage. At each show this extraordinarily talented company use audience suggestions to create a unique\, original and extremely comical murder mystery just for you. All you have to do… is solve it! \nMs Gold poisoned at a synchronised swimming gala? Dr Blue exploded by cannon during a hot air balloon race? Professor Violet crushed to death at a Love Island recoupling? You decide! \nBut will you guess whodunnit before the killer is revealed?
URL:https://www.discovernorthampton.co.uk/event/murder-she-didnt-write/2025-04-17/
LOCATION:Royal and Derngate Theatre\, 19-21 Guildhall Road\, Northampton\, Northamptonshire\, NN1 1DP
CATEGORIES:Theatre
ATTACH;FMTTYPE=image/jpeg:https://www.discovernorthampton.co.uk/wp-content/uploads/2025/03/MSDW-2340-x-978-1170x476-1.jpg
ORGANIZER;CN="Royal and Derngate":MAILTO:BoxOffice@royalandderngate.co.uk
END:VEVENT
BEGIN:VEVENT
DTSTART;TZID=Europe/London:20250418T140000
DTEND;TZID=Europe/London:20250418T140000
DTSTAMP:20260425T221734
CREATED:20250331T160941Z
LAST-MODIFIED:20250331T161958Z
UID:125306-1744984800-1744984800@www.discovernorthampton.co.uk
SUMMARY:Horrible Histories – Terrible Tudors
DESCRIPTION:Easter Holidays Family Fun! \nWe all want to meet people from history. The trouble is everyone is dead! \nSo it’s time to prepare yourselves for two amazing shows with Horrible Histories live on stage! Using actors and eye-popping 3D special effects\, these two astounding shows are guaranteed to thrill you and your children. Historical figures and events will come alive on stage and hover at your fingertips! \nTerrible Tudors: From the horrible Henries to the end of evil Elizabeth\, hear the legends (and the lies!) about the torturing Tudors. Find out the fate of Henry’s headless wives and his punch up with the Pope. Meet Bloody Mary and see Ed fall dead in his bed. Survive the Spanish Armada as it sails into the audience! \nAwful Egyptians: From the fascinating Pharaohs to the power of the pyramids\, discover the foul facts of death and decay with the meanest mummies in Egypt. Are you ready to rumble with Ramesses the Great? Dare you enter through the Gates of the afterlife? \nIt’s history with the nasty bits left in! \nTerrible Tudors: Wed & Fri 2pm\, Thu & Sat 6.30pm\nAwful Egyptians: Wed & Fri 6.30pm\, Thu & Sat 2pm \n\nFamily Ticket Offer \nOff-Peak: Family of three: £54 / Family of four: £72 (Wed and Thu performances – Price Band A and B)\nOn-Peak: Family of three: £69/ Family of four: £92 (Fri and Sat performances – Price Band A ) \n\nSUBSCRIBE & SAVE \nBOOK 3 OR MORE SHOWS AND SAVE! \nBook 3 or more – save 15%\nBook 5 or more – save 20%\nBook 7 or more – save 25% \nMembers enjoy an additional 5% off! \nBook 3 or more of these shows and make great savings: \nTreasure Island | Pig Heart Boy | The Smeds & Smoos | The King’s Speech | Matthew Bourne’s The Midnight Bell | Breaking The Code | Bat Out of Hell | Top G’s Like Me
URL:https://www.discovernorthampton.co.uk/event/horrible-histories-terrible-tudors/2025-04-18/
LOCATION:Royal and Derngate Theatre\, 19-21 Guildhall Road\, Northampton\, Northamptonshire\, NN1 1DP
CATEGORIES:Theatre
ATTACH;FMTTYPE=image/png:https://www.discovernorthampton.co.uk/wp-content/uploads/2025/03/Horrible-Histories-Website-1170x476-1.png
ORGANIZER;CN="Royal and Derngate":MAILTO:BoxOffice@royalandderngate.co.uk
END:VEVENT
BEGIN:VEVENT
DTSTART;TZID=Europe/London:20250418T183000
DTEND;TZID=Europe/London:20250418T183000
DTSTAMP:20260425T221734
CREATED:20250331T161205Z
LAST-MODIFIED:20250331T161205Z
UID:125314-1745001000-1745001000@www.discovernorthampton.co.uk
SUMMARY:Horrible Histories – Awful Egyptians
DESCRIPTION:Easter Holidays Family Fun! \nWe all want to meet people from history. The trouble is everyone is dead! \nSo it’s time to prepare yourselves for two amazing shows with Horrible Histories live on stage! Using actors and eye-popping 3D special effects\, these two astounding shows are guaranteed to thrill you and your children. Historical figures and events will come alive on stage and hover at your fingertips! \nTerrible Tudors: From the horrible Henries to the end of evil Elizabeth\, hear the legends (and the lies!) about the torturing Tudors. Find out the fate of Henry’s headless wives and his punch up with the Pope. Meet Bloody Mary and see Ed fall dead in his bed. Survive the Spanish Armada as it sails into the audience! \nAwful Egyptians: From the fascinating Pharaohs to the power of the pyramids\, discover the foul facts of death and decay with the meanest mummies in Egypt. Are you ready to rumble with Ramesses the Great? Dare you enter through the Gates of the afterlife? \nIt’s history with the nasty bits left in! \nTerrible Tudors: Wed & Fri 2pm\, Thu & Sat 6.30pm\nAwful Egyptians: Wed & Fri 6.30pm\, Thu & Sat 2pm \n\nFamily Ticket Offer \nOff-Peak: Family of three: £54 / Family of four: £72 (Wed and Thu performances – Price Band A and B)\nOn-Peak: Family of three: £69/ Family of four: £92 (Fri and Sat performances – Price Band A ) \n\nSUBSCRIBE & SAVE \nBOOK 3 OR MORE SHOWS AND SAVE! \nBook 3 or more – save 15%\nBook 5 or more – save 20%\nBook 7 or more – save 25% \nMembers enjoy an additional 5% off! \nBook 3 or more of these shows and make great savings: \nTreasure Island | Pig Heart Boy | The Smeds & Smoos | The King’s Speech | Matthew Bourne’s The Midnight Bell | Breaking The Code | Bat Out of Hell | Top G’s Like Me
URL:https://www.discovernorthampton.co.uk/event/horrible-histories-awful-egyptians/2025-04-18/
LOCATION:Royal and Derngate Theatre\, 19-21 Guildhall Road\, Northampton\, Northamptonshire\, NN1 1DP
CATEGORIES:Theatre
ATTACH;FMTTYPE=image/png:https://www.discovernorthampton.co.uk/wp-content/uploads/2025/03/Horrible-Histories-Website-1170x476-1.png
ORGANIZER;CN="Royal and Derngate":MAILTO:BoxOffice@royalandderngate.co.uk
END:VEVENT
BEGIN:VEVENT
DTSTART;TZID=Europe/London:20250420T193000
DTEND;TZID=Europe/London:20250420T193000
DTSTAMP:20260425T221734
CREATED:20250409T142119Z
LAST-MODIFIED:20250409T142119Z
UID:125664-1745177400-1745177400@www.discovernorthampton.co.uk
SUMMARY:Seven Drunken Nights
DESCRIPTION:Direct from the West End and riding high on the success of world tours\, Seven Drunken Nights – The Story of the Dubliners brings the ultimate feel-good Irish show to a theatre near you. \nIn partnership with Tourism Ireland and in association with legendary Irish pub O’Donoghues\, we invite you to join a talented cast of seasoned musicians dedicated to bringing the music of this iconic group back to life. \nSteeped in song\, story and revelry\, this spectacular tale celebrates The Dubliners\, Ireland’s favourite musical sons in authentic style. This critically-acclaimed production spans half a century\, invoking the spirit of Ronnie Drew\, Luke Kelly\, Barney McKenna\, John Sheahan\, Ciaran Bourke and Jim McCann. \nCome join us for an unforgettable night out and see why lifelong Dubliner devotees and new fans alike are singing high praise for this amazing production direct from the West End.
URL:https://www.discovernorthampton.co.uk/event/seven-drunken-nights/
LOCATION:Royal and Derngate Theatre\, 19-21 Guildhall Road\, Northampton\, Northamptonshire\, NN1 1DP
CATEGORIES:Theatre
ATTACH;FMTTYPE=image/jpeg:https://www.discovernorthampton.co.uk/wp-content/uploads/2025/04/SDN-Northamp-2340px-1170x476-1.jpg
ORGANIZER;CN="Royal and Derngate":MAILTO:BoxOffice@royalandderngate.co.uk
END:VEVENT
END:VCALENDAR