BEGIN:VCALENDAR
VERSION:2.0
PRODID:-//Northampton BID - ECPv6.2.4//NONSGML v1.0//EN
CALSCALE:GREGORIAN
METHOD:PUBLISH
X-WR-CALNAME:Northampton BID
X-ORIGINAL-URL:https://www.discovernorthampton.co.uk
X-WR-CALDESC:Events for Northampton BID
REFRESH-INTERVAL;VALUE=DURATION:PT1H
X-Robots-Tag:noindex
X-PUBLISHED-TTL:PT1H
BEGIN:VTIMEZONE
TZID:Europe/London
BEGIN:DAYLIGHT
TZOFFSETFROM:+0000
TZOFFSETTO:+0100
TZNAME:BST
DTSTART:20250330T010000
END:DAYLIGHT
BEGIN:STANDARD
TZOFFSETFROM:+0100
TZOFFSETTO:+0000
TZNAME:GMT
DTSTART:20251026T010000
END:STANDARD
END:VTIMEZONE
BEGIN:VEVENT
DTSTART;TZID=Europe/London:20250521T103000
DTEND;TZID=Europe/London:20250521T103000
DTSTAMP:20260425T123649
CREATED:20250515T095341Z
LAST-MODIFIED:20250515T103035Z
UID:126412-1747823400-1747823400@www.discovernorthampton.co.uk
SUMMARY:Pig Heart Boy
DESCRIPTION:Is it better to have a pig’s heart that works … than a human heart that doesn’t? \nCameron is thirteen\, and all he wants is to be normal – have friends\, go to school\, and dive to the bottom of his local swimming pool. But he desperately needs a heart transplant and time is running out. When he’s finally offered a new heart\, Cameron must choose how far he’ll go to get his life back. \nFrom the multi-award-winning writer Malorie Blackman OBE\, author of Noughts and Crosses\, this brilliant novel is brought to life in a brand-new adaptation by Winsome Pinnock\, and is directed by Tristan Fynn-Aiduenu in a Unicorn co-production with Sheffield Theatres and Children’s Theatre Partnership. \nPig Heart Boy was shortlisted for the Carnegie Medal and adapted by the BBC into a Bafta award-winning TV series.
URL:https://www.discovernorthampton.co.uk/event/pig-heart-boy/2025-05-21/
LOCATION:Royal and Derngate Theatre\, 19-21 Guildhall Road\, Northampton\, Northamptonshire\, NN1 1DP
CATEGORIES:Theatre
ATTACH;FMTTYPE=image/jpeg:https://www.discovernorthampton.co.uk/wp-content/uploads/2025/05/PHB_Northampton_2340x978_150ppi-1170x476-1.jpg
ORGANIZER;CN="Royal and Derngate":MAILTO:BoxOffice@royalandderngate.co.uk
END:VEVENT
BEGIN:VEVENT
DTSTART;TZID=Europe/London:20250521T183000
DTEND;TZID=Europe/London:20250521T183000
DTSTAMP:20260425T123649
CREATED:20250515T103341Z
LAST-MODIFIED:20250515T103341Z
UID:126421-1747852200-1747852200@www.discovernorthampton.co.uk
SUMMARY:NMPAT: Big Sing
DESCRIPTION:Northamptonshire Music and Performing Arts Trust presents a celebration of our singing heroes\, featuring a massed primary school choir formed from schools across Northamptonshire.
URL:https://www.discovernorthampton.co.uk/event/nmpat-big-sing-4/2025-05-21/
LOCATION:Royal and Derngate Theatre\, 19-21 Guildhall Road\, Northampton\, Northamptonshire\, NN1 1DP
CATEGORIES:Theatre
ATTACH;FMTTYPE=image/jpeg:https://www.discovernorthampton.co.uk/wp-content/uploads/2025/05/Big-Sing-1170x476-1.jpg
ORGANIZER;CN="Royal and Derngate":MAILTO:BoxOffice@royalandderngate.co.uk
END:VEVENT
BEGIN:VEVENT
DTSTART;TZID=Europe/London:20250522T103000
DTEND;TZID=Europe/London:20250522T103000
DTSTAMP:20260425T123649
CREATED:20250515T095341Z
LAST-MODIFIED:20250515T095341Z
UID:126416-1747909800-1747909800@www.discovernorthampton.co.uk
SUMMARY:Pig Heart Boy
DESCRIPTION:Is it better to have a pig’s heart that works … than a human heart that doesn’t? \nCameron is thirteen\, and all he wants is to be normal – have friends\, go to school\, and dive to the bottom of his local swimming pool. But he desperately needs a heart transplant and time is running out. When he’s finally offered a new heart\, Cameron must choose how far he’ll go to get his life back. \nFrom the multi-award-winning writer Malorie Blackman OBE\, author of Noughts and Crosses\, this brilliant novel is brought to life in a brand-new adaptation by Winsome Pinnock\, and is directed by Tristan Fynn-Aiduenu in a Unicorn co-production with Sheffield Theatres and Children’s Theatre Partnership. \nPig Heart Boy was shortlisted for the Carnegie Medal and adapted by the BBC into a Bafta award-winning TV series.
URL:https://www.discovernorthampton.co.uk/event/pig-heart-boy/2025-05-22/
LOCATION:Royal and Derngate Theatre\, 19-21 Guildhall Road\, Northampton\, Northamptonshire\, NN1 1DP
CATEGORIES:Theatre
ATTACH;FMTTYPE=image/jpeg:https://www.discovernorthampton.co.uk/wp-content/uploads/2025/05/PHB_Northampton_2340x978_150ppi-1170x476-1.jpg
ORGANIZER;CN="Royal and Derngate":MAILTO:BoxOffice@royalandderngate.co.uk
END:VEVENT
BEGIN:VEVENT
DTSTART;TZID=Europe/London:20250522T183000
DTEND;TZID=Europe/London:20250522T183000
DTSTAMP:20260425T123649
CREATED:20250515T103341Z
LAST-MODIFIED:20250515T103341Z
UID:126424-1747938600-1747938600@www.discovernorthampton.co.uk
SUMMARY:NMPAT: Big Sing
DESCRIPTION:Northamptonshire Music and Performing Arts Trust presents a celebration of our singing heroes\, featuring a massed primary school choir formed from schools across Northamptonshire.
URL:https://www.discovernorthampton.co.uk/event/nmpat-big-sing-4/2025-05-22/
LOCATION:Royal and Derngate Theatre\, 19-21 Guildhall Road\, Northampton\, Northamptonshire\, NN1 1DP
CATEGORIES:Theatre
ATTACH;FMTTYPE=image/jpeg:https://www.discovernorthampton.co.uk/wp-content/uploads/2025/05/Big-Sing-1170x476-1.jpg
ORGANIZER;CN="Royal and Derngate":MAILTO:BoxOffice@royalandderngate.co.uk
END:VEVENT
BEGIN:VEVENT
DTSTART;TZID=Europe/London:20250523T193000
DTEND;TZID=Europe/London:20250523T193000
DTSTAMP:20260425T123649
CREATED:20250515T103859Z
LAST-MODIFIED:20250515T103859Z
UID:126429-1748028600-1748028600@www.discovernorthampton.co.uk
SUMMARY:Nick Mohammed is Mr. Swallow in Show Pony
DESCRIPTION:After a sell-out 2023 UK tour and extended run in London’s West End\, Taskmaster loser Nick Mohammed returns as his critically acclaimed alter-ego Mr. Swallow with a brand new show. \nShow Pony has been described by Mr. Swallow as “payback for everyone who didn’t come to the last tour” and will cover everything from not having his own sitcom to not having his own sitcom… and everything in between (critical race theory). As per – expect magic\, music and a whole load of brand new mistakes. \nNick Mohammed is one of the UK’s most celebrated comedians\, actors and writers. Nick has received feverish critical acclaim for his previous Mr. Swallow shows Dracula\, Houdini and A Christmas Carol-ish… alongside his first UK tour The Very Best & Worst of Mr. Swallow. \nMr. Swallow has appeared in Dictionary Corner on numerous episodes of 8 Out of 10 Cats Does Countdown\, with clips of his performances quickly going viral\, along with entertaining the great and the good at the 2024 BAFTA Film Awards\, with frankly terrifying results! \nNick plays Nate in Apple TV’s hit multi award-winning series Ted Lasso\, for which he was nominated twice for Outstanding Supporting Actor at the Emmy Awards. He has recently been seen starring in Sally Wainwright’s Renegade Nell (Disney+) and Steven Moffat’s Douglas Is Cancelled (ITV). Nick created\, wrote\, and starred (alongside David Schwimmer) in his own Sky TV hit show Intelligence. Other appearances include Stath Lets Flats (Channel 4)\, Inside No. 9 (BBC)\, This Time with Alan Partridge (BBC)\, and he’ll soon be seen starring alongside Bryce Dallas Howard and Orlando Bloom in Prime Video’s Deep Cover. He was one of the worst contestants in the history of Channel 4’s Taskmaster.
URL:https://www.discovernorthampton.co.uk/event/nick-mohammed-is-mr-swallow-in-show-pony/
LOCATION:Royal and Derngate Theatre\, 19-21 Guildhall Road\, Northampton\, Northamptonshire\, NN1 1DP
CATEGORIES:Comedy Night,Theatre
ATTACH;FMTTYPE=image/png:https://www.discovernorthampton.co.uk/wp-content/uploads/2025/05/Nick-Mohammed-Mr-Swallow-Show-Pony_Website-1170x476-1.png
ORGANIZER;CN="Royal and Derngate":MAILTO:BoxOffice@royalandderngate.co.uk
END:VEVENT
BEGIN:VEVENT
DTSTART;TZID=Europe/London:20250524T193000
DTEND;TZID=Europe/London:20250524T193000
DTSTAMP:20260425T123649
CREATED:20250515T111239Z
LAST-MODIFIED:20250515T111239Z
UID:126435-1748115000-1748115000@www.discovernorthampton.co.uk
SUMMARY:The Shires
DESCRIPTION:The UK’s biggest country music export The Shires have announced an intimate acoustic tour for 2025. The two of us tour will see Ben Earle and Crissie Rhodes tour the length and breadth of the UK performing all their classic tracks. \nThe Shires achievements speak for themselves: three consecutive UK Top 3 albums\, four #1 UK Country albums\, 100 million+ streams\, two Gold-certified records\, and countless sold-out headline shows\, including filling the prestigious Royal Albert Hall. \nThe Shires first broke through in 2014 with their single Nashville Grey Skies\, a playful song about Britain needing its own country scene. And that’s something which they helped happen\, starting with their 2015 debut Brave\, which became the first ever Top 10 album by a UK country music artist. That success continued with a succession of hit albums: 2016’s My Universe\, 2018’s Accidentally On Purpose\, 2020’s Good Years and 2022’s 10 Year Plan. \nTheir authenticity saw them embraced by the Nashville scene immediately\, leading to two CMA Awards\, touring highlights including C2C Festival and shows as guests to Carrie Underwood\, Little Big Town\, The Corrs and more.
URL:https://www.discovernorthampton.co.uk/event/the-shires/
LOCATION:Royal and Derngate Theatre\, 19-21 Guildhall Road\, Northampton\, Northamptonshire\, NN1 1DP
CATEGORIES:Theatre
ATTACH;FMTTYPE=image/jpeg:https://www.discovernorthampton.co.uk/wp-content/uploads/2025/05/DSC08542-1170x476-1.jpg
ORGANIZER;CN="Royal and Derngate":MAILTO:BoxOffice@royalandderngate.co.uk
END:VEVENT
END:VCALENDAR