BEGIN:VCALENDAR
VERSION:2.0
PRODID:-//Northampton BID - ECPv6.2.4//NONSGML v1.0//EN
CALSCALE:GREGORIAN
METHOD:PUBLISH
X-WR-CALNAME:Northampton BID
X-ORIGINAL-URL:https://www.discovernorthampton.co.uk
X-WR-CALDESC:Events for Northampton BID
REFRESH-INTERVAL;VALUE=DURATION:PT1H
X-Robots-Tag:noindex
X-PUBLISHED-TTL:PT1H
BEGIN:VTIMEZONE
TZID:Europe/London
BEGIN:DAYLIGHT
TZOFFSETFROM:+0000
TZOFFSETTO:+0100
TZNAME:BST
DTSTART:20250330T010000
END:DAYLIGHT
BEGIN:STANDARD
TZOFFSETFROM:+0100
TZOFFSETTO:+0000
TZNAME:GMT
DTSTART:20251026T010000
END:STANDARD
END:VTIMEZONE
BEGIN:VEVENT
DTSTART;TZID=Europe/London:20250616T190000
DTEND;TZID=Europe/London:20250616T190000
DTSTAMP:20260422T013628
CREATED:20250603T085020Z
LAST-MODIFIED:20250603T085020Z
UID:127247-1750100400-1750100400@www.discovernorthampton.co.uk
SUMMARY:Lord What Fools These Mortals Be
DESCRIPTION:Silhouette Youth\, Northampton Academy\, Kingsthorpe Secondary and Manor Secondary come together to present ‘Lord what fools these mortals be’. We are all proud to be part of the Royal Shakespeare Associate schools programme and we have created an original piece of work based on comedic scenes from some of Shakespeare’s best loved plays. \nCome and spend an evening with us as we explore the madness of mortals!
URL:https://www.discovernorthampton.co.uk/event/lord-what-fools-these-mortals-be/
LOCATION:Royal and Derngate Theatre\, 19-21 Guildhall Road\, Northampton\, Northamptonshire\, NN1 1DP
CATEGORIES:Royal and Derngate,Theatre
ATTACH;FMTTYPE=image/png:https://www.discovernorthampton.co.uk/wp-content/uploads/2025/06/Lord-what-fools-these-mortals-be_Northampton-1170x476-1.png
ORGANIZER;CN="Royal and Derngate":MAILTO:BoxOffice@royalandderngate.co.uk
END:VEVENT
BEGIN:VEVENT
DTSTART;TZID=Europe/London:20250617T190000
DTEND;TZID=Europe/London:20250617T190000
DTSTAMP:20260422T013628
CREATED:20250515T103558Z
LAST-MODIFIED:20250515T103558Z
UID:126425-1750186800-1750186800@www.discovernorthampton.co.uk
SUMMARY:NMPAT: The Festival
DESCRIPTION:This event provides a unique opportunity to showcase and celebrate the talents\, skills and boundless enthusiasm of young people from across Northamptonshire\, to bring a truly memorable experience to the audience.
URL:https://www.discovernorthampton.co.uk/event/nmpat-the-festival-3/2025-06-17/
LOCATION:Royal and Derngate Theatre\, 19-21 Guildhall Road\, Northampton\, Northamptonshire\, NN1 1DP
CATEGORIES:Theatre
ATTACH;FMTTYPE=image/jpeg:https://www.discovernorthampton.co.uk/wp-content/uploads/2025/05/The_Festival_2023-1170x476-1.jpg
ORGANIZER;CN="Royal and Derngate":MAILTO:BoxOffice@royalandderngate.co.uk
END:VEVENT
BEGIN:VEVENT
DTSTART;TZID=Europe/London:20250618T190000
DTEND;TZID=Europe/London:20250618T190000
DTSTAMP:20260422T013628
CREATED:20250515T103558Z
LAST-MODIFIED:20250515T103558Z
UID:126428-1750273200-1750273200@www.discovernorthampton.co.uk
SUMMARY:NMPAT: The Festival
DESCRIPTION:This event provides a unique opportunity to showcase and celebrate the talents\, skills and boundless enthusiasm of young people from across Northamptonshire\, to bring a truly memorable experience to the audience.
URL:https://www.discovernorthampton.co.uk/event/nmpat-the-festival-3/2025-06-18/
LOCATION:Royal and Derngate Theatre\, 19-21 Guildhall Road\, Northampton\, Northamptonshire\, NN1 1DP
CATEGORIES:Theatre
ATTACH;FMTTYPE=image/jpeg:https://www.discovernorthampton.co.uk/wp-content/uploads/2025/05/The_Festival_2023-1170x476-1.jpg
ORGANIZER;CN="Royal and Derngate":MAILTO:BoxOffice@royalandderngate.co.uk
END:VEVENT
BEGIN:VEVENT
DTSTART;TZID=Europe/London:20250619T183000
DTEND;TZID=Europe/London:20250619T203000
DTSTAMP:20260422T013628
CREATED:20250603T105139Z
LAST-MODIFIED:20250603T105139Z
UID:127363-1750357800-1750365000@www.discovernorthampton.co.uk
SUMMARY:An Evening of Mediumship with Donna Stewart
DESCRIPTION:Experience an intimate evening with Donna Stewart. With only 70 seats available\, be sure to book early to avoid disappointment. \nDonna has been aware of Spirit since childhood\, and now working professionally for 28 years\, continues to bring warmth\, humour and unquestionable evidence that life continues after this. \nAs a recognised Tutor and Mentor of spiritual development\, Donna continues to teach and lecture throughout the UK and online with some of the most respected Mediums and organisations. Her work abroad includes Italy\, Athens\, Spain\, Gibraltar\, Germany and Japan.  \nAs a resident Training Provider at London based International School of Intuition and Healing\, Donna facilitates accreditation courses in mediumship development.  \nDonna can be seen regularly at her lively\, sensitive and inspiring evenings of Mediumship in theatres\, Spiritualist centres and private venues bringing the two worlds together and reuniting loved ones. \nHer television appearances to date include Living TV’s ‘6ixth Sense’ with Colin Fry\, ‘Psychic Detective’ ‘Psychic Private Eyes’ and ‘Frankly Speaking’ for Gibraltar television.\nDonna and co-host Frankie Hatton bought radio show ‘Paranormal Hour’ to the airwaves for 18 months for BayFM radio and Donna regularly gives interviews and works with global broadcasting networks.  \nDonna is an author of online publications\, a blogger\, and is passionate about working with Spirit as a way of life to share ultimate belief through experience that there is only life after life.  \nwww.donnastewart.net 
URL:https://www.discovernorthampton.co.uk/event/an-evening-of-mediumship-with-donna-stewart/
LOCATION:Royal and Derngate Theatre\, 19-21 Guildhall Road\, Northampton\, Northamptonshire\, NN1 1DP
CATEGORIES:The Deco,Theatre
ATTACH;FMTTYPE=image/jpeg:https://www.discovernorthampton.co.uk/wp-content/uploads/2025/06/Donna-Stewart-Image-to-be-used.jpg
ORGANIZER;CN="Royal and Derngate":MAILTO:BoxOffice@royalandderngate.co.uk
END:VEVENT
BEGIN:VEVENT
DTSTART;TZID=Europe/London:20250619T193000
DTEND;TZID=Europe/London:20250619T193000
DTSTAMP:20260422T013628
CREATED:20250603T085224Z
LAST-MODIFIED:20250603T085224Z
UID:127250-1750361400-1750361400@www.discovernorthampton.co.uk
SUMMARY:Steve Steinman’s Love Hurts – Power Ballads & Anthems
DESCRIPTION:From the producers of Anything For Love and Vampires Rock and starring Steve Steinman\, this brand-new show features a powerhouse cast of amazing singers and 7 piece live band. \nYou are guaranteed the night of your life\, rocking out to some of the greatest power ballads and anthems of all time! \nIncludes tracks from Fleetwood Mac\, Heart\, Whitesnake\, Billy Idol\, Aerosmith\, Tina Turner\, Cutting Crew\, Foreigner\, REO Speedwagon\, Rainbow\, Van Halen\, Europe\, Air Supply and many more.
URL:https://www.discovernorthampton.co.uk/event/steve-steinmans-love-hurts-power-ballads-anthems/
LOCATION:Royal and Derngate Theatre\, 19-21 Guildhall Road\, Northampton\, Northamptonshire\, NN1 1DP
CATEGORIES:Royal and Derngate,Theatre
ATTACH;FMTTYPE=image/png:https://www.discovernorthampton.co.uk/wp-content/uploads/2025/06/Love-Hurts-Website-1170x476-1.png
ORGANIZER;CN="Royal and Derngate":MAILTO:BoxOffice@royalandderngate.co.uk
END:VEVENT
BEGIN:VEVENT
DTSTART;TZID=Europe/London:20250619T193000
DTEND;TZID=Europe/London:20250619T193000
DTSTAMP:20260422T013628
CREATED:20250603T085433Z
LAST-MODIFIED:20250603T085433Z
UID:127253-1750361400-1750361400@www.discovernorthampton.co.uk
SUMMARY:The King’s Speech
DESCRIPTION:Britain is in crisis\, and so is The King. \nAs Hitler threatens Europe\, a concerned nation needs to hear from its monarch. But facing the biggest moment of his life\, King George VI is unable to find his voice. \nBased on the Academy Award-winning film starring Colin Firth\, this is the moving story of how The King overcame his fear of public speaking through the help of Australian speech therapist Lionel Logue \nThe King’s Speech details the unlikely relationship between royalty and a tough Australian speech therapist\, who empowers the stammering future King with the ability to speak to\, and for\, the nation. \nFrom our community.
URL:https://www.discovernorthampton.co.uk/event/the-kings-speech/2025-06-19/
LOCATION:Royal and Derngate Theatre\, 19-21 Guildhall Road\, Northampton\, Northamptonshire\, NN1 1DP
CATEGORIES:Royal and Derngate,Theatre
ATTACH;FMTTYPE=image/png:https://www.discovernorthampton.co.uk/wp-content/uploads/2025/06/Kings_Speech_2340x978_website-1170x476-1.png
ORGANIZER;CN="Royal and Derngate":MAILTO:BoxOffice@royalandderngate.co.uk
END:VEVENT
BEGIN:VEVENT
DTSTART;TZID=Europe/London:20250620T193000
DTEND;TZID=Europe/London:20250620T193000
DTSTAMP:20260422T013628
CREATED:20250603T085433Z
LAST-MODIFIED:20250603T085433Z
UID:127256-1750447800-1750447800@www.discovernorthampton.co.uk
SUMMARY:The King’s Speech
DESCRIPTION:Britain is in crisis\, and so is The King. \nAs Hitler threatens Europe\, a concerned nation needs to hear from its monarch. But facing the biggest moment of his life\, King George VI is unable to find his voice. \nBased on the Academy Award-winning film starring Colin Firth\, this is the moving story of how The King overcame his fear of public speaking through the help of Australian speech therapist Lionel Logue \nThe King’s Speech details the unlikely relationship between royalty and a tough Australian speech therapist\, who empowers the stammering future King with the ability to speak to\, and for\, the nation. \nFrom our community.
URL:https://www.discovernorthampton.co.uk/event/the-kings-speech/2025-06-20/
LOCATION:Royal and Derngate Theatre\, 19-21 Guildhall Road\, Northampton\, Northamptonshire\, NN1 1DP
CATEGORIES:Royal and Derngate,Theatre
ATTACH;FMTTYPE=image/png:https://www.discovernorthampton.co.uk/wp-content/uploads/2025/06/Kings_Speech_2340x978_website-1170x476-1.png
ORGANIZER;CN="Royal and Derngate":MAILTO:BoxOffice@royalandderngate.co.uk
END:VEVENT
BEGIN:VEVENT
DTSTART;TZID=Europe/London:20250621T193000
DTEND;TZID=Europe/London:20250621T193000
DTSTAMP:20260422T013628
CREATED:20250603T085433Z
LAST-MODIFIED:20250603T085433Z
UID:127258-1750534200-1750534200@www.discovernorthampton.co.uk
SUMMARY:The King’s Speech
DESCRIPTION:Britain is in crisis\, and so is The King. \nAs Hitler threatens Europe\, a concerned nation needs to hear from its monarch. But facing the biggest moment of his life\, King George VI is unable to find his voice. \nBased on the Academy Award-winning film starring Colin Firth\, this is the moving story of how The King overcame his fear of public speaking through the help of Australian speech therapist Lionel Logue \nThe King’s Speech details the unlikely relationship between royalty and a tough Australian speech therapist\, who empowers the stammering future King with the ability to speak to\, and for\, the nation. \nFrom our community.
URL:https://www.discovernorthampton.co.uk/event/the-kings-speech/2025-06-21/2/
LOCATION:Royal and Derngate Theatre\, 19-21 Guildhall Road\, Northampton\, Northamptonshire\, NN1 1DP
CATEGORIES:Royal and Derngate,Theatre
ATTACH;FMTTYPE=image/png:https://www.discovernorthampton.co.uk/wp-content/uploads/2025/06/Kings_Speech_2340x978_website-1170x476-1.png
ORGANIZER;CN="Royal and Derngate":MAILTO:BoxOffice@royalandderngate.co.uk
END:VEVENT
BEGIN:VEVENT
DTSTART;TZID=Europe/London:20250621T193000
DTEND;TZID=Europe/London:20250621T193000
DTSTAMP:20260422T013628
CREATED:20250603T085658Z
LAST-MODIFIED:20250603T085658Z
UID:127259-1750534200-1750534200@www.discovernorthampton.co.uk
SUMMARY:Guenther Steiner: Unfiltered LIVE
DESCRIPTION:Buckle up and fasten your seatbelts for a hugely entertaining all-areas-access conversation spanning a decade inside Formula 1\, with former Haas F1 team principal Guenther Steiner\, star of Netflix’s smash hit docuseries Drive to Survive. \nFollowing his sell-out 2024 tour and hot off the release of his latest book\, Unfiltered\, Formula 1’s favourite underdog is back on the road for his biggest tour ever as he takes us into the pit lanes and onto the circuits of the world’s greatest race tracks. Through this unique lens\, he guides us on a thrilling rollercoaster ride through the heart of high-stakes motor racing\, sharing an unobstructed view of the pressures and exhilaration of high-speed competition. \nFull of twists and turns\, from hiring and firing drivers\, balancing books\, pre-season preparations\, the design\, launch and testing of a car\, culminating in the inside story of his severance from the team – Guenther will take you on a wild ride through his unconventional career in motor sport\, his decade working on the Haas team… and beyond. \nUncompromising\, brutally funny and searingly honest\, this is Guenther at his very best\, telling his story as only he can. Not an event any fan of Formula 1 can afford to miss. \nThere is an option to buy Unfiltered by Guenther Steiner as an add on to your ticket purchase.
URL:https://www.discovernorthampton.co.uk/event/guenther-steiner-unfiltered-live/2025-06-21/
LOCATION:Royal and Derngate Theatre\, 19-21 Guildhall Road\, Northampton\, Northamptonshire\, NN1 1DP
CATEGORIES:Royal and Derngate,Theatre
ATTACH;FMTTYPE=image/png:https://www.discovernorthampton.co.uk/wp-content/uploads/2025/06/Website_2340x978-1170x476-1.png
ORGANIZER;CN="Royal and Derngate":MAILTO:BoxOffice@royalandderngate.co.uk
END:VEVENT
BEGIN:VEVENT
DTSTART;TZID=Europe/London:20250621T193000
DTEND;TZID=Europe/London:20250621T220000
DTSTAMP:20260422T013628
CREATED:20250313T121152Z
LAST-MODIFIED:20250313T121152Z
UID:124264-1750534200-1750543200@www.discovernorthampton.co.uk
SUMMARY:Michael Starring Ben
DESCRIPTION:Take a journey back in time to remember Michael Jackson – the man\, the music and the magic. \nÂ  \n\nPLEASE NOTE DUE TO THE NATURE OF THIS SHOW THERE IS A STRONG POSSIBILITY THAT PEOPLE MAY STAND UP AND DANCE AROUND YOU AND IN FRONT OF YOU \n\nMichael? Starring Ben is a hit theatre production starring the UK’s ultimate Michael Jackson tribute star\, Ben Bowman. Not only does he look and sound like the King of Pop\, but he’s honed his routine so carefully that audiences truly believe they are watching Michael Jackson himself. \nThe show features a live band\, dazzling costumes and the performer’s iconic dance routines. It also showcases the greatest hits of Michael Jackson and also of The Jackson 5 including Beat It\, Billie Jean\, Thriller and Man in the Mirror.
URL:https://www.discovernorthampton.co.uk/event/michael-starring-ben-2/
LOCATION:The Old Savoy â€“ The home of The Deco Theatre\, Abington Square\, Northampton\, Northamptonshire\, NN1 4AE
CATEGORIES:The Deco,Theatre
ATTACH;FMTTYPE=image/png:https://www.discovernorthampton.co.uk/wp-content/uploads/2025/03/Michael-Starring-ben-1000x1000-1-480x480-1.png
END:VEVENT
BEGIN:VEVENT
DTSTART;TZID=Europe/London:20250622T200000
DTEND;TZID=Europe/London:20250622T200000
DTSTAMP:20260422T013628
CREATED:20250603T085754Z
LAST-MODIFIED:20250603T085754Z
UID:127263-1750622400-1750622400@www.discovernorthampton.co.uk
SUMMARY:Upfront Comedy
DESCRIPTION:An Upfront Comedy special on Windrush Day\, featuring globetrotting internet sensation Aurie Styla\, wise and witty Brummie Jo Enright (ITV’s The Job Lot)\, sharp and clever Gbemi Oladipo (The Stand Up Sketch Show\, ITV) and rising star Lovell Smith. Hosted by comedian turned Teletubbie John Simmit.
URL:https://www.discovernorthampton.co.uk/event/upfront-comedy-3/
LOCATION:Royal and Derngate Theatre\, 19-21 Guildhall Road\, Northampton\, Northamptonshire\, NN1 1DP
CATEGORIES:Royal and Derngate,Theatre
ATTACH;FMTTYPE=image/png:https://www.discovernorthampton.co.uk/wp-content/uploads/2025/06/Upfront-Comedy-Website-1170x476-1.png
ORGANIZER;CN="Royal and Derngate":MAILTO:BoxOffice@royalandderngate.co.uk
END:VEVENT
END:VCALENDAR