BEGIN:VCALENDAR
VERSION:2.0
PRODID:-//Northampton BID - ECPv6.2.4//NONSGML v1.0//EN
CALSCALE:GREGORIAN
METHOD:PUBLISH
X-WR-CALNAME:Northampton BID
X-ORIGINAL-URL:https://www.discovernorthampton.co.uk
X-WR-CALDESC:Events for Northampton BID
REFRESH-INTERVAL;VALUE=DURATION:PT1H
X-Robots-Tag:noindex
X-PUBLISHED-TTL:PT1H
BEGIN:VTIMEZONE
TZID:Europe/London
BEGIN:DAYLIGHT
TZOFFSETFROM:+0000
TZOFFSETTO:+0100
TZNAME:BST
DTSTART:20250330T010000
END:DAYLIGHT
BEGIN:STANDARD
TZOFFSETFROM:+0100
TZOFFSETTO:+0000
TZNAME:GMT
DTSTART:20251026T010000
END:STANDARD
END:VTIMEZONE
BEGIN:VEVENT
DTSTART;TZID=Europe/London:20250707T193000
DTEND;TZID=Europe/London:20250707T193000
DTSTAMP:20260425T123143
CREATED:20250603T085658Z
LAST-MODIFIED:20250603T085658Z
UID:127262-1751916600-1751916600@www.discovernorthampton.co.uk
SUMMARY:Guenther Steiner: Unfiltered LIVE
DESCRIPTION:Buckle up and fasten your seatbelts for a hugely entertaining all-areas-access conversation spanning a decade inside Formula 1\, with former Haas F1 team principal Guenther Steiner\, star of Netflix’s smash hit docuseries Drive to Survive. \nFollowing his sell-out 2024 tour and hot off the release of his latest book\, Unfiltered\, Formula 1’s favourite underdog is back on the road for his biggest tour ever as he takes us into the pit lanes and onto the circuits of the world’s greatest race tracks. Through this unique lens\, he guides us on a thrilling rollercoaster ride through the heart of high-stakes motor racing\, sharing an unobstructed view of the pressures and exhilaration of high-speed competition. \nFull of twists and turns\, from hiring and firing drivers\, balancing books\, pre-season preparations\, the design\, launch and testing of a car\, culminating in the inside story of his severance from the team – Guenther will take you on a wild ride through his unconventional career in motor sport\, his decade working on the Haas team… and beyond. \nUncompromising\, brutally funny and searingly honest\, this is Guenther at his very best\, telling his story as only he can. Not an event any fan of Formula 1 can afford to miss. \nThere is an option to buy Unfiltered by Guenther Steiner as an add on to your ticket purchase.
URL:https://www.discovernorthampton.co.uk/event/guenther-steiner-unfiltered-live/2025-07-07/
LOCATION:Royal and Derngate Theatre\, 19-21 Guildhall Road\, Northampton\, Northamptonshire\, NN1 1DP
CATEGORIES:Royal and Derngate,Theatre
ATTACH;FMTTYPE=image/png:https://www.discovernorthampton.co.uk/wp-content/uploads/2025/06/Website_2340x978-1170x476-1.png
ORGANIZER;CN="Royal and Derngate":MAILTO:BoxOffice@royalandderngate.co.uk
END:VEVENT
BEGIN:VEVENT
DTSTART;TZID=Europe/London:20250709T193000
DTEND;TZID=Europe/London:20250709T193000
DTSTAMP:20260425T123143
CREATED:20250603T095857Z
LAST-MODIFIED:20250603T095857Z
UID:127292-1752089400-1752089400@www.discovernorthampton.co.uk
SUMMARY:Sounds Of The 60s Live Hosted by Tony Blackburn
DESCRIPTION:An evening of 60s classics performed by the Sounds Of The ’60s All Star Band & Singers\, hosted by Radio 2’s legendary DJ\, Tony Blackburn. The show features stories and songs from the most loved decade. Every week\, more than a million people tune in to BBC Radio 2 to hear Tony Blackburn wax lyrical about the biggest stars of the ’60s.
URL:https://www.discovernorthampton.co.uk/event/sounds-of-the-60s-live-hosted-by-tony-blackburn/
LOCATION:Royal and Derngate Theatre\, 19-21 Guildhall Road\, Northampton\, Northamptonshire\, NN1 1DP
CATEGORIES:Royal and Derngate,Theatre
ATTACH;FMTTYPE=image/jpeg:https://www.discovernorthampton.co.uk/wp-content/uploads/2025/06/poster-for-web-1170x476-1.jpg
ORGANIZER;CN="Royal and Derngate":MAILTO:BoxOffice@royalandderngate.co.uk
END:VEVENT
BEGIN:VEVENT
DTSTART;TZID=Europe/London:20250712T100000
DTEND;TZID=Europe/London:20250712T100000
DTSTAMP:20260425T123143
CREATED:20250603T101211Z
LAST-MODIFIED:20250603T101211Z
UID:127298-1752314400-1752314400@www.discovernorthampton.co.uk
SUMMARY:Dancing Schools UK
DESCRIPTION:Join us for the toe-tapping Grand Final of Dancing Schools UK running by Step by Step Dance School Ltd \nThis is the 12th year of this fabulous Ballroom and Latin dance event designed to encourage school children from across the region to have a try at dancing and nurture team work. From its early days as Strictly Junior\, the show has now evolved to Dancing Schools UK and seen over 3000 children having braved the stage\, stepped out into the spotlight and done something they never thought they would do – dance in front of hundreds of people. \nIn this Grand Final\, finalists of the regional school heats across Northamptonshire\, Oxfordshire and Buckinghamshire will compete against each other to win the coveted Dancing Schools UK title and Glitter Ball trophy
URL:https://www.discovernorthampton.co.uk/event/dancing-schools-uk-3/2025-07-12/
LOCATION:Royal and Derngate Theatre\, 19-21 Guildhall Road\, Northampton\, Northamptonshire\, NN1 1DP
CATEGORIES:Royal and Derngate,Theatre
ATTACH;FMTTYPE=image/png:https://www.discovernorthampton.co.uk/wp-content/uploads/2025/06/dancing-schools-uk.png
ORGANIZER;CN="Royal and Derngate":MAILTO:BoxOffice@royalandderngate.co.uk
END:VEVENT
BEGIN:VEVENT
DTSTART;TZID=Europe/London:20250713T130000
DTEND;TZID=Europe/London:20250713T130000
DTSTAMP:20260425T123143
CREATED:20250603T101533Z
LAST-MODIFIED:20250603T101802Z
UID:127301-1752411600-1752411600@www.discovernorthampton.co.uk
SUMMARY:Limelight: Showstoppers – Part 2
DESCRIPTION:Limelight Theatre School are back once again with another fabulous show. \nThe incredible pupils will be showcasing their amazing talents in this exciting production. This fast paced show will feature even more songs and dances from all your favourite West End and Broadway Shows. \nSo get your Jazzhands ready as we present Showstoppers Part 2
URL:https://www.discovernorthampton.co.uk/event/https-www-royalandderngate-co-uk-whats-on-dancing-schools-uk/2025-07-13/
LOCATION:Royal and Derngate Theatre\, 19-21 Guildhall Road\, Northampton\, Northamptonshire\, NN1 1DP
CATEGORIES:Royal and Derngate,Theatre
ATTACH;FMTTYPE=image/png:https://www.discovernorthampton.co.uk/wp-content/uploads/2025/06/limelight-website-1170x476-1.png
ORGANIZER;CN="Royal and Derngate":MAILTO:BoxOffice@royalandderngate.co.uk
END:VEVENT
BEGIN:VEVENT
DTSTART;TZID=Europe/London:20250713T150000
DTEND;TZID=Europe/London:20250713T172000
DTSTAMP:20260425T123143
CREATED:20250619T090959Z
LAST-MODIFIED:20250619T090959Z
UID:127857-1752418800-1752427200@www.discovernorthampton.co.uk
SUMMARY:Starlight Stage School presents 25!
DESCRIPTION:25!\nA Celebration by Starlight Stage School\nJoin us for a spectacular evening of song\, dance\, and celebration as Starlight Stage School proudly marks its 25th anniversary! \n25! is a dazzling showcase of talent\, passion\, and dedication\, featuring our incredible students who have been working tirelessly to bring this performance to life. Step into a world where stars are born\, and dreams take centre stage. \nThis milestone event is not only a tribute to the school’s legacy of excellence in performing arts training but also a celebration of the bright futures ahead for our young performers. From high-energy dance numbers to powerful vocal performances\, this show promises an unforgettable experience for the whole family. \nCome and be part of our journey\, as we honour 25 years of talent\, creativity\, and achievement. \nBook your tickets now and join us for an afternoon of entertainment\, inspiration\, and memories that will last a lifetime.
URL:https://www.discovernorthampton.co.uk/event/starlight-stage-school-presents-25/
LOCATION:The Old Savoy â€“ The home of The Deco Theatre\, Abington Square\, Northampton\, Northamptonshire\, NN1 4AE
CATEGORIES:The Deco,Theatre
ATTACH;FMTTYPE=image/jpeg:https://www.discovernorthampton.co.uk/wp-content/uploads/2025/06/ChatGPT-Image-Jun-14-2025-12_40_12-PM-480x480-1.jpeg
ORGANIZER;CN="The Deco":MAILTO:Toni@stage-right.co.uk
END:VEVENT
END:VCALENDAR