BEGIN:VCALENDAR
VERSION:2.0
PRODID:-//Northampton BID - ECPv6.2.4//NONSGML v1.0//EN
CALSCALE:GREGORIAN
METHOD:PUBLISH
X-WR-CALNAME:Northampton BID
X-ORIGINAL-URL:https://www.discovernorthampton.co.uk
X-WR-CALDESC:Events for Northampton BID
REFRESH-INTERVAL;VALUE=DURATION:PT1H
X-Robots-Tag:noindex
X-PUBLISHED-TTL:PT1H
BEGIN:VTIMEZONE
TZID:Europe/London
BEGIN:DAYLIGHT
TZOFFSETFROM:+0000
TZOFFSETTO:+0100
TZNAME:BST
DTSTART:20240331T010000
END:DAYLIGHT
BEGIN:STANDARD
TZOFFSETFROM:+0100
TZOFFSETTO:+0000
TZNAME:GMT
DTSTART:20241027T010000
END:STANDARD
BEGIN:DAYLIGHT
TZOFFSETFROM:+0000
TZOFFSETTO:+0100
TZNAME:BST
DTSTART:20250330T010000
END:DAYLIGHT
BEGIN:STANDARD
TZOFFSETFROM:+0100
TZOFFSETTO:+0000
TZNAME:GMT
DTSTART:20251026T010000
END:STANDARD
BEGIN:DAYLIGHT
TZOFFSETFROM:+0000
TZOFFSETTO:+0100
TZNAME:BST
DTSTART:20260329T010000
END:DAYLIGHT
BEGIN:STANDARD
TZOFFSETFROM:+0100
TZOFFSETTO:+0000
TZNAME:GMT
DTSTART:20261025T010000
END:STANDARD
END:VTIMEZONE
BEGIN:VEVENT
DTSTART;TZID=Europe/London:20240915T103000
DTEND;TZID=Europe/London:20240915T103000
DTSTAMP:20260425T154816
CREATED:20240829T103203Z
LAST-MODIFIED:20240829T103203Z
UID:121490-1726396200-1726396200@www.discovernorthampton.co.uk
SUMMARY:From Dock to Drop - Tour of Sessions House and Gaol Block
DESCRIPTION:Â  \nFrom Dock to Drop â€“ Tour of Sessions House and Gaols Site \nStep back in time with our exclusive tour of the historic Sessions House and Gaols site—a rare gem that stood as the heart of law and order from 1678 to 1992. \nTour Dates: \n\nFriday\, 6th September: 10:30am & 2:00pm\nSaturday\, 7th September: 10:30am & 2:00pm\nSunday\, 8th September: 10:30am & 2:00pm\nFriday\, 13th September: 10:30am & 2:00pm\nSaturday\, 14th September: 10:30am & 2:00pm\nSunday\, 15th September: 10:30am & 2:00pm\n\nWhat to Expect: \n\n Explore the Grade I listed Sessions House—a unique survivor from the past.\nDiscover the stories behind its magnificent decorative plaster ceilings\, full-length Royal portraits\, and the intriguing â€˜Iron Machine.â€™\nStand at the very site where executions took place\, and reflect on the grim reality of justice served.\nEnd the tour at the Victorian County Gaol\, now home to the Northampton Museum and Art Gallery.\n\nÂ  \nThis is not just a tour—itâ€™s an immersive experience where youâ€™ll walk in the footsteps of history\, sit in the courts\, and even face the hangmanâ€™s noose. All in just 90 minutes—and itâ€™s completely FREE! \nBooking is recommended due to limited spaces. Call 07746 116569 or email museums@westnorthants.gov.uk to secure your spot today! \nMeeting Point: Outside Sessions House \nÂ  \nDon’t miss out on this incredible opportunity to witness history come alive!
URL:https://www.discovernorthampton.co.uk/event/from-dock-to-drop-tour-of-sessions-house-and-gaol-block/2024-09-15/
LOCATION:Sessions House
CATEGORIES:Heritage Open Days 2024,Tour
ATTACH;FMTTYPE=image/jpeg:https://www.discovernorthampton.co.uk/wp-content/uploads/2024/08/456965709_1049903333808603_6848329384729615840_n.jpg
END:VEVENT
BEGIN:VEVENT
DTSTART;TZID=Europe/London:20240915T140000
DTEND;TZID=Europe/London:19700118T000000
DTSTAMP:20260425T154816
CREATED:20240829T103203Z
LAST-MODIFIED:20240829T103203Z
UID:121491-1726408800-1468800@www.discovernorthampton.co.uk
SUMMARY:From Dock to Drop - Tour of Sessions House and Gaol Block
DESCRIPTION:Â  \nFrom Dock to Drop â€“ Tour of Sessions House and Gaols Site \nStep back in time with our exclusive tour of the historic Sessions House and Gaols site—a rare gem that stood as the heart of law and order from 1678 to 1992. \nTour Dates: \n\nFriday\, 6th September: 10:30am & 2:00pm\nSaturday\, 7th September: 10:30am & 2:00pm\nSunday\, 8th September: 10:30am & 2:00pm\nFriday\, 13th September: 10:30am & 2:00pm\nSaturday\, 14th September: 10:30am & 2:00pm\nSunday\, 15th September: 10:30am & 2:00pm\n\nWhat to Expect: \n\n Explore the Grade I listed Sessions House—a unique survivor from the past.\nDiscover the stories behind its magnificent decorative plaster ceilings\, full-length Royal portraits\, and the intriguing â€˜Iron Machine.â€™\nStand at the very site where executions took place\, and reflect on the grim reality of justice served.\nEnd the tour at the Victorian County Gaol\, now home to the Northampton Museum and Art Gallery.\n\nÂ  \nThis is not just a tour—itâ€™s an immersive experience where youâ€™ll walk in the footsteps of history\, sit in the courts\, and even face the hangmanâ€™s noose. All in just 90 minutes—and itâ€™s completely FREE! \nBooking is recommended due to limited spaces. Call 07746 116569 or email museums@westnorthants.gov.uk to secure your spot today! \nMeeting Point: Outside Sessions House \nÂ  \nDon’t miss out on this incredible opportunity to witness history come alive!
URL:https://www.discovernorthampton.co.uk/event/from-dock-to-drop-tour-of-sessions-house-and-gaol-block/2024-09-15/6/
LOCATION:Sessions House
CATEGORIES:Heritage Open Days 2024,Tour
ATTACH;FMTTYPE=image/jpeg:https://www.discovernorthampton.co.uk/wp-content/uploads/2024/08/456965709_1049903333808603_6848329384729615840_n.jpg
END:VEVENT
BEGIN:VEVENT
DTSTART;TZID=Europe/London:20250127T180000
DTEND;TZID=Europe/London:20250127T190000
DTSTAMP:20260425T154816
CREATED:20250107T113602Z
LAST-MODIFIED:20250107T113602Z
UID:123025-1738000800-1738004400@www.discovernorthampton.co.uk
SUMMARY:Tour of the Guildhall Northampton
DESCRIPTION:This tour show you areas of the Guildhall which are not always open to the public. \nWe meet in the Spencer Percival foyer of the Guildhall. This is the entrance to the old part of the Guildhall by the public toilets and statue of Spencer Percival. Tour includes the Mayorâ€™s Shelid Gallery\, the old Town Hall keepers living quarters and the basement cells. \nThe maximum group size for tours is 14. \nAlthough all public areas of the building are accessible by lift\, the basement can only be reached by stairs. \nDue to uneven floors in places\, please wear appropriate footwear. \nThis tour is not suitable for children under 8 years old. \nAll children under 16 must be accompanied by an adult. \nTours will last approximately 1 hour.
URL:https://www.discovernorthampton.co.uk/event/tour-of-the-guildhall-northampton-3/2025-01-27/
LOCATION:The Guildhall\, St Giles' Square\, Northampton\, Northamptonshire\, NN1 1DE\, United Kingdom
CATEGORIES:Cultural,Event,Tour
ATTACH;FMTTYPE=image/jpeg:https://www.discovernorthampton.co.uk/wp-content/uploads/2025/01/FEIN.jpeg
END:VEVENT
BEGIN:VEVENT
DTSTART;TZID=Europe/London:20250225T180000
DTEND;TZID=Europe/London:20250225T190000
DTSTAMP:20260425T154816
CREATED:20250107T113602Z
LAST-MODIFIED:20250107T113602Z
UID:123028-1740506400-1740510000@www.discovernorthampton.co.uk
SUMMARY:Tour of the Guildhall Northampton
DESCRIPTION:This tour show you areas of the Guildhall which are not always open to the public. \nWe meet in the Spencer Percival foyer of the Guildhall. This is the entrance to the old part of the Guildhall by the public toilets and statue of Spencer Percival. Tour includes the Mayorâ€™s Shelid Gallery\, the old Town Hall keepers living quarters and the basement cells. \nThe maximum group size for tours is 14. \nAlthough all public areas of the building are accessible by lift\, the basement can only be reached by stairs. \nDue to uneven floors in places\, please wear appropriate footwear. \nThis tour is not suitable for children under 8 years old. \nAll children under 16 must be accompanied by an adult. \nTours will last approximately 1 hour.
URL:https://www.discovernorthampton.co.uk/event/tour-of-the-guildhall-northampton-3/2025-02-25/
LOCATION:The Guildhall\, St Giles' Square\, Northampton\, Northamptonshire\, NN1 1DE\, United Kingdom
CATEGORIES:Cultural,Event,Tour
ATTACH;FMTTYPE=image/jpeg:https://www.discovernorthampton.co.uk/wp-content/uploads/2025/01/FEIN.jpeg
END:VEVENT
BEGIN:VEVENT
DTSTART;TZID=Europe/London:20250324T180000
DTEND;TZID=Europe/London:20250324T190000
DTSTAMP:20260425T154816
CREATED:20250107T113602Z
LAST-MODIFIED:20250107T113602Z
UID:123029-1742839200-1742842800@www.discovernorthampton.co.uk
SUMMARY:Tour of the Guildhall Northampton
DESCRIPTION:This tour show you areas of the Guildhall which are not always open to the public. \nWe meet in the Spencer Percival foyer of the Guildhall. This is the entrance to the old part of the Guildhall by the public toilets and statue of Spencer Percival. Tour includes the Mayorâ€™s Shelid Gallery\, the old Town Hall keepers living quarters and the basement cells. \nThe maximum group size for tours is 14. \nAlthough all public areas of the building are accessible by lift\, the basement can only be reached by stairs. \nDue to uneven floors in places\, please wear appropriate footwear. \nThis tour is not suitable for children under 8 years old. \nAll children under 16 must be accompanied by an adult. \nTours will last approximately 1 hour.
URL:https://www.discovernorthampton.co.uk/event/tour-of-the-guildhall-northampton-3/2025-03-24/
LOCATION:The Guildhall\, St Giles' Square\, Northampton\, Northamptonshire\, NN1 1DE\, United Kingdom
CATEGORIES:Cultural,Event,Tour
ATTACH;FMTTYPE=image/jpeg:https://www.discovernorthampton.co.uk/wp-content/uploads/2025/01/FEIN.jpeg
END:VEVENT
BEGIN:VEVENT
DTSTART;TZID=Europe/London:20260126T173000
DTEND;TZID=Europe/London:20260126T173000
DTSTAMP:20260425T154816
CREATED:20260109T130356Z
LAST-MODIFIED:20260109T130356Z
UID:133780-1769448600-1769448600@www.discovernorthampton.co.uk
SUMMARY:Northampton Guildhall Tour
DESCRIPTION:An opportunity to explore this magnificent grade 2 listed building â€“ a stunning example of Victorian Gothic architecture.\n\n\n\nThis tour will allow you to visit areas of the Guildhall which are not always open to the public. \nWe meet in the Spencer Percival foyer of the Guildhall. This is the entrance to the old part of the Guildhall by the public toilets and statue of Spencer Percival. From there we will explore areas including council and public meeting rooms\, the old Town Hall keepers living quarters and the basement cells. \nThe maximum group size for tours is 14. \nAlthough all public areas of the building are accessible by lift\, the basement can only be reached by stairs. \nDue to uneven floors in places\, please wear appropriate footwear. \nThis tour is not suitable for children under 8 years old. \nAll children under 16 must be accompanied by an adult. \nTours will last approximately 1 hour.
URL:https://www.discovernorthampton.co.uk/event/northampton-guildhall-tour-4/
LOCATION:The Guildhall\, St Giles' Square\, Northampton\, Northamptonshire\, NN1 1DE\, United Kingdom
CATEGORIES:Event,Tour
ATTACH;FMTTYPE=image/png:https://www.discovernorthampton.co.uk/wp-content/uploads/2026/01/Screenshot-2026-01-09-130023.png
END:VEVENT
BEGIN:VEVENT
DTSTART;TZID=Europe/London:20260328T140000
DTEND;TZID=Europe/London:20260328T150000
DTSTAMP:20260425T154816
CREATED:20260224T112534Z
LAST-MODIFIED:20260224T112534Z
UID:134754-1774706400-1774710000@www.discovernorthampton.co.uk
SUMMARY:Mystery Tours - 'The Hidden Secrets of the Northampton & County Club'
DESCRIPTION:Join us on a interactive adventure into the past to uncover the hidden secrets of the Northampton & County Club!
URL:https://www.discovernorthampton.co.uk/event/mystery-tours-the-hidden-secrets-of-the-northampton-county-club/
LOCATION:Northampton Town And County Club\, 9 Georges row\, northampton\, Northamptonshire\, NN1 1DF\, United Kingdom
CATEGORIES:Event,Tour
ATTACH;FMTTYPE=image/png:https://www.discovernorthampton.co.uk/wp-content/uploads/2026/02/Screenshot-2026-02-24-112233.png
END:VEVENT
END:VCALENDAR