BEGIN:VCALENDAR
VERSION:2.0
PRODID:-//Northampton BID - ECPv6.2.4//NONSGML v1.0//EN
CALSCALE:GREGORIAN
METHOD:PUBLISH
X-WR-CALNAME:Northampton BID
X-ORIGINAL-URL:https://www.discovernorthampton.co.uk
X-WR-CALDESC:Events for Northampton BID
REFRESH-INTERVAL;VALUE=DURATION:PT1H
X-Robots-Tag:noindex
X-PUBLISHED-TTL:PT1H
BEGIN:VTIMEZONE
TZID:Europe/London
BEGIN:DAYLIGHT
TZOFFSETFROM:+0000
TZOFFSETTO:+0100
TZNAME:BST
DTSTART:20250330T010000
END:DAYLIGHT
BEGIN:STANDARD
TZOFFSETFROM:+0100
TZOFFSETTO:+0000
TZNAME:GMT
DTSTART:20251026T010000
END:STANDARD
END:VTIMEZONE
BEGIN:VEVENT
DTSTART;TZID=Europe/London:20250119T130000
DTEND;TZID=Europe/London:20250119T160000
DTSTAMP:20260423T160623
CREATED:20250116T105024Z
LAST-MODIFIED:20250116T105024Z
UID:123161-1737291600-1737302400@www.discovernorthampton.co.uk
SUMMARY:Sip & Paint
DESCRIPTION:Unleash your creativity at our Sip and Paint! a fun and relaxing evening where art meets leisure!
URL:https://www.discovernorthampton.co.uk/event/sip-paint/
LOCATION:Grandbies\, 26 St Giles' St\, northampton\, Northamptonshire\, NN1 1JA\, United Kingdom
CATEGORIES:Workshop
ATTACH;FMTTYPE=image/jpeg:https://www.discovernorthampton.co.uk/wp-content/uploads/2025/01/https___cdn.evbuc_.com_images_903744223_1690848613643_1_original.jpg
END:VEVENT
END:VCALENDAR