BEGIN:VCALENDAR
VERSION:2.0
PRODID:-//Northampton BID - ECPv6.2.4//NONSGML v1.0//EN
CALSCALE:GREGORIAN
METHOD:PUBLISH
X-WR-CALNAME:Northampton BID
X-ORIGINAL-URL:https://www.discovernorthampton.co.uk
X-WR-CALDESC:Events for Northampton BID
REFRESH-INTERVAL;VALUE=DURATION:PT1H
X-Robots-Tag:noindex
X-PUBLISHED-TTL:PT1H
BEGIN:VTIMEZONE
TZID:Europe/London
BEGIN:DAYLIGHT
TZOFFSETFROM:+0000
TZOFFSETTO:+0100
TZNAME:BST
DTSTART:20220327T010000
END:DAYLIGHT
BEGIN:STANDARD
TZOFFSETFROM:+0100
TZOFFSETTO:+0000
TZNAME:GMT
DTSTART:20221030T010000
END:STANDARD
END:VTIMEZONE
BEGIN:VEVENT
DTSTART;TZID=Europe/London:20221110T183000
DTEND;TZID=Europe/London:20221110T210000
DTSTAMP:20260421T013134
CREATED:20221005T105148Z
LAST-MODIFIED:20221005T105148Z
UID:110804-1668105000-1668114000@www.discovernorthampton.co.uk
SUMMARY:Baubles and Bubbles - 78 Derngate
DESCRIPTION:Enjoy a wander round 78 Derngate and take in the unique interiors and history of the only house in England designed by Charles Rennie Mackintosh. Then\, sit down to paint your own Christmas ornaments whilst enjoying a glass or two of festive fizz! Hand paint your own beautiful baubles this festive season at 78 Derngate.
URL:https://www.discovernorthampton.co.uk/event/baubles-and-bubbles-78-derngate/2022-11-10/
LOCATION:78 Derngate\, Northampton\, Northamptonshire\, NN1 1UH
CATEGORIES:Event
ATTACH;FMTTYPE=image/jpeg:https://www.discovernorthampton.co.uk/wp-content/uploads/2022/10/w3etfge54hyrh.jpeg
END:VEVENT
BEGIN:VEVENT
DTSTART;VALUE=DATE:20221215
DTEND;VALUE=DATE:20221216
DTSTAMP:20260421T013134
CREATED:20221215T112502Z
LAST-MODIFIED:20221215T112502Z
UID:111909-1671062400-1671148799@www.discovernorthampton.co.uk
SUMMARY:Danny Tompkins Christmas Takeover
DESCRIPTION:Our upstairs space will once again be transformed into a restaurant as we welcome back award winning chef Danny Tompkins\, who will be cooking up a festive 3 course fine dining menu.
URL:https://www.discovernorthampton.co.uk/event/danny-tompkins-christmas-takeover/
LOCATION:VnB\, 10 St Giles' Square\, Northampton\, Northamptonshire\, NN1 1DA\, United Kingdom
CATEGORIES:Christmas
ATTACH;FMTTYPE=image/png:https://www.discovernorthampton.co.uk/wp-content/uploads/2022/12/images.png
END:VEVENT
BEGIN:VEVENT
DTSTART;TZID=Europe/London:20221215T193000
DTEND;TZID=Europe/London:20221215T213000
DTSTAMP:20260421T013134
CREATED:20221215T110604Z
LAST-MODIFIED:20221215T110604Z
UID:111883-1671132600-1671139800@www.discovernorthampton.co.uk
SUMMARY:Jazz with the Mayor
DESCRIPTION:Black Tie Event featuring Live Jazz Quartet. Tickets £30 â€“ includes deluxe hot buffet menu.
URL:https://www.discovernorthampton.co.uk/event/jazz-with-the-mayor/
LOCATION:Northampton Town And County Club\, 9 Georges row\, northampton\, Northamptonshire\, NN1 1DF\, United Kingdom
CATEGORIES:Christmas
ATTACH;FMTTYPE=image/webp:https://www.discovernorthampton.co.uk/wp-content/uploads/2022/12/medium-1.webp
END:VEVENT
BEGIN:VEVENT
DTSTART;VALUE=DATE:20221216
DTEND;VALUE=DATE:20221217
DTSTAMP:20260421T013134
CREATED:20221215T112722Z
LAST-MODIFIED:20221215T112722Z
UID:111912-1671148800-1671235199@www.discovernorthampton.co.uk
SUMMARY:Masterclass: Christmas Cocktails
DESCRIPTION:Up your cocktail game this Christmas and learn how to make some festive favourites with our award winning mixologist.
URL:https://www.discovernorthampton.co.uk/event/masterclass-christmas-cocktails/
LOCATION:VnB\, 10 St Giles' Square\, Northampton\, Northamptonshire\, NN1 1DA\, United Kingdom
CATEGORIES:Christmas
ATTACH;FMTTYPE=image/png:https://www.discovernorthampton.co.uk/wp-content/uploads/2022/12/images-1.png
END:VEVENT
BEGIN:VEVENT
DTSTART;VALUE=DATE:20221217
DTEND;VALUE=DATE:20221218
DTSTAMP:20260421T013134
CREATED:20221215T110236Z
LAST-MODIFIED:20221215T110236Z
UID:111880-1671235200-1671321599@www.discovernorthampton.co.uk
SUMMARY:Christmas Saturdays
DESCRIPTION:The magic of Christmas will be brought to life on the Market Square every Saturday leading up to the big day. \nJoin us at the Christmas Bandstand for live festive entertainment including musical performances from local singers\, choirs\, bands and community groups.
URL:https://www.discovernorthampton.co.uk/event/christmas-saturdays/
LOCATION:town centre
CATEGORIES:Christmas
ATTACH;FMTTYPE=image/webp:https://www.discovernorthampton.co.uk/wp-content/uploads/2022/12/medium.webp
END:VEVENT
BEGIN:VEVENT
DTSTART;TZID=Europe/London:20221217T110000
DTEND;TZID=Europe/London:20221217T130000
DTSTAMP:20260421T013134
CREATED:20221215T110820Z
LAST-MODIFIED:20221215T110820Z
UID:111887-1671274800-1671282000@www.discovernorthampton.co.uk
SUMMARY:Festive Sing-Along
DESCRIPTION:On Saturday 17 December\, we have teamed up with V and B on St Giles Square to host a festive sing-along around the Christmas tree. \nFrom 11am â€“ 4pm there will be performances from carol singers and local musicians – the perfect backdrop to your Christmas shopping on the last Saturday before the big day! \nFestive Line Up COMING SOON! \nKeep your eyes peeled for Santaâ€™s mischievous elves! â€˜Elves with Altitudeâ€™\, Vince Pie and Russell Sprout are on a very special mission â€“ to spread the gift of laughter with their â€˜Rudolphâ€™ upgrade biplanes (Rudolph the red-nosed plane-deer!) Checking whether youâ€™ve been naughty or nice (or borderline!)\, the magical â€˜Good-o-Meterâ€™ Elves will be joining in the festivities too ticking off their list for Santa.
URL:https://www.discovernorthampton.co.uk/event/festive-sing-along/
LOCATION:VnB\, 10 St Giles' Square\, Northampton\, Northamptonshire\, NN1 1DA\, United Kingdom
CATEGORIES:Christmas
ATTACH;FMTTYPE=image/webp:https://www.discovernorthampton.co.uk/wp-content/uploads/2022/12/medium-2.webp
END:VEVENT
BEGIN:VEVENT
DTSTART;TZID=Europe/London:20221217T180000
DTEND;TZID=Europe/London:20221217T220000
DTSTAMP:20260421T013134
CREATED:20221215T113050Z
LAST-MODIFIED:20221215T113050Z
UID:111915-1671300000-1671314400@www.discovernorthampton.co.uk
SUMMARY:Christmas Party with DJ Andy Skank
DESCRIPTION:Join us for a good old Christmas Party at the end of what is set to be a very festive day on St Giles Square. There will be carol singers out on the front from 11am\, singing you through the last Saturday  before the big day.
URL:https://www.discovernorthampton.co.uk/event/christmas-party-with-dj-andy-skank/
LOCATION:VnB\, 10 St Giles' Square\, Northampton\, Northamptonshire\, NN1 1DA\, United Kingdom
CATEGORIES:Christmas
ATTACH;FMTTYPE=image/jpeg:https://www.discovernorthampton.co.uk/wp-content/uploads/2022/12/Image.jpeg
END:VEVENT
END:VCALENDAR