BEGIN:VCALENDAR
VERSION:2.0
PRODID:-//Northampton BID - ECPv6.2.4//NONSGML v1.0//EN
CALSCALE:GREGORIAN
METHOD:PUBLISH
X-WR-CALNAME:Northampton BID
X-ORIGINAL-URL:https://www.discovernorthampton.co.uk
X-WR-CALDESC:Events for Northampton BID
REFRESH-INTERVAL;VALUE=DURATION:PT1H
X-Robots-Tag:noindex
X-PUBLISHED-TTL:PT1H
BEGIN:VTIMEZONE
TZID:Europe/London
BEGIN:DAYLIGHT
TZOFFSETFROM:+0000
TZOFFSETTO:+0100
TZNAME:BST
DTSTART:20220327T010000
END:DAYLIGHT
BEGIN:STANDARD
TZOFFSETFROM:+0100
TZOFFSETTO:+0000
TZNAME:GMT
DTSTART:20221030T010000
END:STANDARD
END:VTIMEZONE
BEGIN:VEVENT
DTSTART;TZID=Europe/London:20220312T100000
DTEND;TZID=Europe/London:20220312T120000
DTSTAMP:20260424T170348
CREATED:20220308T173929Z
LAST-MODIFIED:20220308T173929Z
UID:107549-1647079200-1647086400@www.discovernorthampton.co.uk
SUMMARY:Saturday Morning Kids Pokemon Club at Geek Retreat Northampton
DESCRIPTION:Saturday Morning Kids Pokémon Club at Geek Retreat Northampton!
URL:https://www.discovernorthampton.co.uk/event/saturday-morning-kids-pokemon-club-at-geek-retreat-northampton/
LOCATION:Geek Retreat\, 3 Dychurch Ln\, Northampton\, Northamptonshire\, NN1 2DG\, United Kingdom
CATEGORIES:Club
ATTACH;FMTTYPE=image/jpeg:https://www.discovernorthampton.co.uk/wp-content/uploads/2022/03/images.jpg
END:VEVENT
END:VCALENDAR