BEGIN:VCALENDAR
VERSION:2.0
PRODID:-//Northampton BID - ECPv6.2.4//NONSGML v1.0//EN
CALSCALE:GREGORIAN
METHOD:PUBLISH
X-WR-CALNAME:Northampton BID
X-ORIGINAL-URL:https://www.discovernorthampton.co.uk
X-WR-CALDESC:Events for Northampton BID
REFRESH-INTERVAL;VALUE=DURATION:PT1H
X-Robots-Tag:noindex
X-PUBLISHED-TTL:PT1H
BEGIN:VTIMEZONE
TZID:Europe/London
BEGIN:DAYLIGHT
TZOFFSETFROM:+0000
TZOFFSETTO:+0100
TZNAME:BST
DTSTART:20220327T010000
END:DAYLIGHT
BEGIN:STANDARD
TZOFFSETFROM:+0100
TZOFFSETTO:+0000
TZNAME:GMT
DTSTART:20221030T010000
END:STANDARD
BEGIN:DAYLIGHT
TZOFFSETFROM:+0000
TZOFFSETTO:+0100
TZNAME:BST
DTSTART:20230326T010000
END:DAYLIGHT
BEGIN:STANDARD
TZOFFSETFROM:+0100
TZOFFSETTO:+0000
TZNAME:GMT
DTSTART:20231029T010000
END:STANDARD
END:VTIMEZONE
BEGIN:VEVENT
DTSTART;TZID=Europe/London:20231012T183000
DTEND;TZID=Europe/London:20231012T213000
DTSTAMP:20260423T062521
CREATED:20231006T101211Z
LAST-MODIFIED:20231006T101237Z
UID:116150-1697135400-1697146200@www.discovernorthampton.co.uk
SUMMARY:Open Mic
DESCRIPTION:6:30 â€“ 9:30 FREE ENTRY. Hosted by Tu-kay and Ryan
URL:https://www.discovernorthampton.co.uk/event/open-mic-2/
LOCATION:VnB\, 10 St Giles' Square\, Northampton\, Northamptonshire\, NN1 1DA\, United Kingdom
CATEGORIES:show
ATTACH;FMTTYPE=image/png:https://www.discovernorthampton.co.uk/wp-content/uploads/2023/10/download.png
END:VEVENT
BEGIN:VEVENT
DTSTART;TZID=Europe/London:20230415T210000
DTEND;TZID=Europe/London:20230415T230000
DTSTAMP:20260423T062521
CREATED:20230316T122551Z
LAST-MODIFIED:20230316T122551Z
UID:113296-1681592400-1681599600@www.discovernorthampton.co.uk
SUMMARY:Boxeddy
DESCRIPTION:Boxeddy performing at The Wig And Pen
URL:https://www.discovernorthampton.co.uk/event/boxeddy-2/
LOCATION:The Wig And Pen\, 19 St Giles' St\, northampton\, Northamptonshire\, NN1 1JA\, United Kingdom
CATEGORIES:MUSIC
ATTACH;FMTTYPE=image/jpeg:https://www.discovernorthampton.co.uk/wp-content/uploads/2023/03/c1baa244-6321-4f2b-a8e7-36583b96cdc6.jpg
END:VEVENT
BEGIN:VEVENT
DTSTART;TZID=Europe/London:20230414T210000
DTEND;TZID=Europe/London:20230414T230000
DTSTAMP:20260423T062521
CREATED:20230316T121253Z
LAST-MODIFIED:20230316T121253Z
UID:113293-1681506000-1681513200@www.discovernorthampton.co.uk
SUMMARY:Rhythm Junction
DESCRIPTION:Rythm Junction performing at The Wig and Pen
URL:https://www.discovernorthampton.co.uk/event/rhythm-junction/
LOCATION:The Wig And Pen\, 19 St Giles' St\, northampton\, Northamptonshire\, NN1 1JA\, United Kingdom
CATEGORIES:MUSIC
ATTACH;FMTTYPE=image/jpeg:https://www.discovernorthampton.co.uk/wp-content/uploads/2023/03/03f0f64e-8253-40b8-ba9b-6e79006f2178.jpg
END:VEVENT
BEGIN:VEVENT
DTSTART;TZID=Europe/London:20230401T210000
DTEND;TZID=Europe/London:20230401T230000
DTSTAMP:20260423T062521
CREATED:20230316T104345Z
LAST-MODIFIED:20230316T104345Z
UID:113277-1680382800-1680390000@www.discovernorthampton.co.uk
SUMMARY:Allergy - The Wig and Pen
DESCRIPTION:Allergy performing at The Wig and Pen
URL:https://www.discovernorthampton.co.uk/event/allergy-the-wig-and-pen-2/
LOCATION:The Wig And Pen\, 19 St Giles' St\, northampton\, Northamptonshire\, NN1 1JA\, United Kingdom
CATEGORIES:MUSIC
ATTACH;FMTTYPE=image/jpeg:https://www.discovernorthampton.co.uk/wp-content/uploads/2023/03/c6be6d16-724e-45d5-8b70-618bb6daf277.jpg
END:VEVENT
BEGIN:VEVENT
DTSTART;TZID=Europe/London:20230226T160000
DTEND;TZID=Europe/London:20230226T180000
DTSTAMP:20260423T062521
CREATED:20230202T112954Z
LAST-MODIFIED:20230202T112954Z
UID:112360-1677427200-1677434400@www.discovernorthampton.co.uk
SUMMARY:Dee ja Vu
DESCRIPTION:
URL:https://www.discovernorthampton.co.uk/event/dee-ja-vu/
LOCATION:The Wig And Pen\, 19 St Giles' St\, northampton\, Northamptonshire\, NN1 1JA\, United Kingdom
CATEGORIES:MUSIC
ATTACH;FMTTYPE=image/jpeg:https://www.discovernorthampton.co.uk/wp-content/uploads/2023/02/e4728eb9-38f1-47ab-a55a-4fda020af7dc.jpg
END:VEVENT
BEGIN:VEVENT
DTSTART;TZID=Europe/London:20230225T210000
DTEND;TZID=Europe/London:20230225T230000
DTSTAMP:20260423T062521
CREATED:20230202T112813Z
LAST-MODIFIED:20230202T112813Z
UID:112357-1677358800-1677366000@www.discovernorthampton.co.uk
SUMMARY:Soul D
DESCRIPTION:
URL:https://www.discovernorthampton.co.uk/event/soul-d/
LOCATION:The Wig And Pen\, 19 St Giles' St\, northampton\, Northamptonshire\, NN1 1JA\, United Kingdom
CATEGORIES:MUSIC
ATTACH;FMTTYPE=image/jpeg:https://www.discovernorthampton.co.uk/wp-content/uploads/2023/02/7b0ea702-e673-4e30-9830-6404dbbdb877.jpg
END:VEVENT
BEGIN:VEVENT
DTSTART;TZID=Europe/London:20230225T200000
DTEND;TZID=Europe/London:20230225T220000
DTSTAMP:20260423T062521
CREATED:20230214T100210Z
LAST-MODIFIED:20230214T100210Z
UID:112544-1677355200-1677362400@www.discovernorthampton.co.uk
SUMMARY:Diana Ross Tribute Night
DESCRIPTION:
URL:https://www.discovernorthampton.co.uk/event/diana-ross-tribute-night/
LOCATION:The Shipmans\, 12 Drapery\,\, northampton\, Northamptonshire\, NN1 2HG\, United Kingdom
CATEGORIES:MUSIC
ATTACH;FMTTYPE=image/png:https://www.discovernorthampton.co.uk/wp-content/uploads/2023/02/Diana-Ross-Poster.png
END:VEVENT
BEGIN:VEVENT
DTSTART;TZID=Europe/London:20230224T210000
DTEND;TZID=Europe/London:20230224T230000
DTSTAMP:20260423T062521
CREATED:20230202T112623Z
LAST-MODIFIED:20230202T112623Z
UID:112354-1677272400-1677279600@www.discovernorthampton.co.uk
SUMMARY:Big Phat Jukebox
DESCRIPTION:
URL:https://www.discovernorthampton.co.uk/event/big-phat-jukebox/
LOCATION:The Wig And Pen\, 19 St Giles' St\, northampton\, Northamptonshire\, NN1 1JA\, United Kingdom
CATEGORIES:MUSIC
ATTACH;FMTTYPE=image/jpeg:https://www.discovernorthampton.co.uk/wp-content/uploads/2023/02/210f0e2b-95e8-4392-8e19-a248ab85f135.jpg
END:VEVENT
BEGIN:VEVENT
DTSTART;TZID=Europe/London:20230219T160000
DTEND;TZID=Europe/London:20230219T180000
DTSTAMP:20260423T062521
CREATED:20230202T112412Z
LAST-MODIFIED:20230202T112412Z
UID:112351-1676822400-1676829600@www.discovernorthampton.co.uk
SUMMARY:The 88's
DESCRIPTION:
URL:https://www.discovernorthampton.co.uk/event/the-88s/
LOCATION:The Wig And Pen\, 19 St Giles' St\, northampton\, Northamptonshire\, NN1 1JA\, United Kingdom
CATEGORIES:MUSIC
ATTACH;FMTTYPE=image/jpeg:https://www.discovernorthampton.co.uk/wp-content/uploads/2023/02/9d7438b2-41ba-4211-bc74-609855e15b9e.jpg
END:VEVENT
BEGIN:VEVENT
DTSTART;TZID=Europe/London:20230218T210000
DTEND;TZID=Europe/London:20230218T230000
DTSTAMP:20260423T062521
CREATED:20230202T112234Z
LAST-MODIFIED:20230202T112234Z
UID:112348-1676754000-1676761200@www.discovernorthampton.co.uk
SUMMARY:6/5ths
DESCRIPTION:
URL:https://www.discovernorthampton.co.uk/event/6-5ths/
LOCATION:The Wig And Pen\, 19 St Giles' St\, northampton\, Northamptonshire\, NN1 1JA\, United Kingdom
CATEGORIES:MUSIC
ATTACH;FMTTYPE=image/jpeg:https://www.discovernorthampton.co.uk/wp-content/uploads/2023/02/237a9b8c-2b05-4624-90b8-66da4376ad0b.jpg
END:VEVENT
BEGIN:VEVENT
DTSTART;TZID=Europe/London:20230217T210000
DTEND;TZID=Europe/London:20230217T230000
DTSTAMP:20260423T062521
CREATED:20230202T112120Z
LAST-MODIFIED:20230202T112120Z
UID:112344-1676667600-1676674800@www.discovernorthampton.co.uk
SUMMARY:Holly Marie
DESCRIPTION:
URL:https://www.discovernorthampton.co.uk/event/holly-marie/
LOCATION:The Wig And Pen\, 19 St Giles' St\, northampton\, Northamptonshire\, NN1 1JA\, United Kingdom
CATEGORIES:MUSIC
ATTACH;FMTTYPE=image/jpeg:https://www.discovernorthampton.co.uk/wp-content/uploads/2023/02/93df65f3-6ac9-47fb-9111-7028914b9b06.jpg
END:VEVENT
BEGIN:VEVENT
DTSTART;TZID=Europe/London:20230212T210000
DTEND;TZID=Europe/London:20230212T230000
DTSTAMP:20260423T062521
CREATED:20230202T111939Z
LAST-MODIFIED:20230202T111939Z
UID:112341-1676235600-1676242800@www.discovernorthampton.co.uk
SUMMARY:TJ Johnson & The Preachers
DESCRIPTION:
URL:https://www.discovernorthampton.co.uk/event/tj-johnson-the-preachers/
LOCATION:The Wig And Pen\, 19 St Giles' St\, northampton\, Northamptonshire\, NN1 1JA\, United Kingdom
CATEGORIES:MUSIC
ATTACH;FMTTYPE=image/jpeg:https://www.discovernorthampton.co.uk/wp-content/uploads/2023/02/816765c5-8d8c-4af2-9299-64407b4b1873.jpg
END:VEVENT
BEGIN:VEVENT
DTSTART;TZID=Europe/London:20230211T210000
DTEND;TZID=Europe/London:20230211T230000
DTSTAMP:20260423T062521
CREATED:20230202T111726Z
LAST-MODIFIED:20230202T111726Z
UID:112337-1676149200-1676156400@www.discovernorthampton.co.uk
SUMMARY:Six Feet Apart
DESCRIPTION:
URL:https://www.discovernorthampton.co.uk/event/six-feet-apart/
LOCATION:The Wig And Pen\, 19 St Giles' St\, northampton\, Northamptonshire\, NN1 1JA\, United Kingdom
CATEGORIES:MUSIC
ATTACH;FMTTYPE=image/jpeg:https://www.discovernorthampton.co.uk/wp-content/uploads/2023/02/b71ef9a2-2dda-4118-96f8-01dc52c73d0f.jpg
END:VEVENT
BEGIN:VEVENT
DTSTART;TZID=Europe/London:20230210T210000
DTEND;TZID=Europe/London:20230210T230000
DTSTAMP:20260423T062521
CREATED:20230202T111206Z
LAST-MODIFIED:20230202T111206Z
UID:112334-1676062800-1676070000@www.discovernorthampton.co.uk
SUMMARY:NightShift
DESCRIPTION:
URL:https://www.discovernorthampton.co.uk/event/nightshift/
LOCATION:The Wig And Pen\, 19 St Giles' St\, northampton\, Northamptonshire\, NN1 1JA\, United Kingdom
CATEGORIES:MUSIC
ATTACH;FMTTYPE=image/png:https://www.discovernorthampton.co.uk/wp-content/uploads/2023/02/2bb509c7-96a4-468b-bbcb-19cc1cc09f30.png
END:VEVENT
BEGIN:VEVENT
DTSTART;TZID=Europe/London:20230205T160000
DTEND;TZID=Europe/London:20230205T180000
DTSTAMP:20260423T062521
CREATED:20230202T110912Z
LAST-MODIFIED:20230202T110912Z
UID:112330-1675612800-1675620000@www.discovernorthampton.co.uk
SUMMARY:The Oscillators/Stoned Hillbillies
DESCRIPTION:
URL:https://www.discovernorthampton.co.uk/event/the-oscillators-stoned-hillbillies/
LOCATION:The Wig And Pen\, 19 St Giles' St\, northampton\, Northamptonshire\, NN1 1JA\, United Kingdom
CATEGORIES:Night Out
ATTACH;FMTTYPE=image/png:https://www.discovernorthampton.co.uk/wp-content/uploads/2023/02/aeacbbce-234b-4d18-a992-8fc570e177c0.png
END:VEVENT
BEGIN:VEVENT
DTSTART;TZID=Europe/London:20230204T210000
DTEND;TZID=Europe/London:20230204T230000
DTSTAMP:20260423T062521
CREATED:20230202T110527Z
LAST-MODIFIED:20230202T110527Z
UID:112325-1675544400-1675551600@www.discovernorthampton.co.uk
SUMMARY:Jo Jo & The Mojos
DESCRIPTION:
URL:https://www.discovernorthampton.co.uk/event/jo-jo-the-mojos/
LOCATION:The Wig And Pen\, 19 St Giles' St\, northampton\, Northamptonshire\, NN1 1JA\, United Kingdom
CATEGORIES:Concert
ATTACH;FMTTYPE=image/jpeg:https://www.discovernorthampton.co.uk/wp-content/uploads/2023/02/ef3e18df-8ee6-40c2-9d5c-95fa6a54b48f.jpg
END:VEVENT
BEGIN:VEVENT
DTSTART;TZID=Europe/London:20230203T210000
DTEND;TZID=Europe/London:20230203T230000
DTSTAMP:20260423T062521
CREATED:20230202T110309Z
LAST-MODIFIED:20230202T110309Z
UID:112319-1675458000-1675465200@www.discovernorthampton.co.uk
SUMMARY:The B List
DESCRIPTION:
URL:https://www.discovernorthampton.co.uk/event/the-b-list/
LOCATION:The Wig And Pen\, 19 St Giles' St\, northampton\, Northamptonshire\, NN1 1JA\, United Kingdom
CATEGORIES:Concert
ATTACH;FMTTYPE=image/png:https://www.discovernorthampton.co.uk/wp-content/uploads/2023/02/d3eef337-f2be-433e-a802-8aca8c0f8cba.png
END:VEVENT
BEGIN:VEVENT
DTSTART;TZID=Europe/London:20230113T210000
DTEND;TZID=Europe/London:20230113T230000
DTSTAMP:20260423T062521
CREATED:20230112T084702Z
LAST-MODIFIED:20230112T084702Z
UID:112099-1673643600-1673650800@www.discovernorthampton.co.uk
SUMMARY:Sonic Vultures
DESCRIPTION:
URL:https://www.discovernorthampton.co.uk/event/sonic-vultures/
LOCATION:The Wig And Pen\, 19 St Giles' St\, northampton\, Northamptonshire\, NN1 1JA\, United Kingdom
CATEGORIES:Event
ATTACH;FMTTYPE=image/jpeg:https://www.discovernorthampton.co.uk/wp-content/uploads/2023/01/1f53aadc-99be-42b4-934f-9d5183ef7f70.jpg
END:VEVENT
BEGIN:VEVENT
DTSTART;TZID=Europe/London:20230112T183000
DTEND;TZID=Europe/London:20230112T213000
DTSTAMP:20260423T062521
CREATED:20230109T092357Z
LAST-MODIFIED:20230109T092357Z
UID:112089-1673548200-1673559000@www.discovernorthampton.co.uk
SUMMARY:Open Mic - V and B
DESCRIPTION:
URL:https://www.discovernorthampton.co.uk/event/open-mic-v-and-b/
LOCATION:VnB\, 10 St Giles' Square\, Northampton\, Northamptonshire\, NN1 1DA\, United Kingdom
CATEGORIES:MUSIC
ATTACH;FMTTYPE=image/jpeg:https://www.discovernorthampton.co.uk/wp-content/uploads/2023/01/mhgd.jpeg
END:VEVENT
BEGIN:VEVENT
DTSTART;TZID=Europe/London:20221118T210000
DTEND;TZID=Europe/London:20221118T230000
DTSTAMP:20260423T062521
CREATED:20220721T082846Z
LAST-MODIFIED:20220721T082846Z
UID:109485-1668805200-1668812400@www.discovernorthampton.co.uk
SUMMARY:Neil Diamond by Christopher James
DESCRIPTION:Enjoy a night of singing along to songs by Neil Diamond Tribute act by Christopher James
URL:https://www.discovernorthampton.co.uk/event/neil-diamond-by-christopher-james/
LOCATION:Retro Bar\, 16 Bridge St\, Northampton\, Northants\, NN1 1NW\, United Kingdom
CATEGORIES:Club
ATTACH;FMTTYPE=image/png:https://www.discovernorthampton.co.uk/wp-content/uploads/2022/07/poster_2022-07-19-080822.png
END:VEVENT
BEGIN:VEVENT
DTSTART;TZID=Europe/London:20221118T180000
DTEND;TZID=Europe/London:20221118T220000
DTSTAMP:20260423T062521
CREATED:20221102T090758Z
LAST-MODIFIED:20221102T090758Z
UID:111435-1668794400-1668808800@www.discovernorthampton.co.uk
SUMMARY:Revive\, Groove and Social - V and B
DESCRIPTION:Bringing you quality night of soul\, ska\, funk and so much more.
URL:https://www.discovernorthampton.co.uk/event/revive-groove-and-social-v-and-b/
LOCATION:VnB\, 10 St Giles' Square\, Northampton\, Northamptonshire\, NN1 1DA\, United Kingdom
CATEGORIES:MUSIC
ATTACH;FMTTYPE=image/jpeg:https://www.discovernorthampton.co.uk/wp-content/uploads/2022/11/iytfgh.jpeg
END:VEVENT
BEGIN:VEVENT
DTSTART;TZID=Europe/London:20221111T193000
DTEND;TZID=Europe/London:20221111T223000
DTSTAMP:20260423T062521
CREATED:20221102T125041Z
LAST-MODIFIED:20221102T125041Z
UID:111453-1668195000-1668205800@www.discovernorthampton.co.uk
SUMMARY:COCKNEY REJECTS – THE ROADMENDER
DESCRIPTION:
URL:https://www.discovernorthampton.co.uk/event/cockney-rejects-the-roadmender/
LOCATION:Roadmender\, 1 Lady's Ln\, Northampton\, Northamptonshire\, NN1 3AH\, United Kingdom
ATTACH;FMTTYPE=image/jpeg:https://www.discovernorthampton.co.uk/wp-content/uploads/2022/11/Cockney-Rejects-_-Tour-2021-Photo-540X540-540x540-1.jpg
END:VEVENT
BEGIN:VEVENT
DTSTART;TZID=Europe/London:20221103T183000
DTEND;TZID=Europe/London:20221103T210000
DTSTAMP:20260423T062521
CREATED:20221102T083718Z
LAST-MODIFIED:20221102T083718Z
UID:111420-1667500200-1667509200@www.discovernorthampton.co.uk
SUMMARY:Open Mic Night - V and B
DESCRIPTION:free entry and a great opportunity to experience Northamptonâ€™s super talented music scene
URL:https://www.discovernorthampton.co.uk/event/open-mic-night-v-and-b/
LOCATION:VnB\, 10 St Giles' Square\, Northampton\, Northamptonshire\, NN1 1DA\, United Kingdom
CATEGORIES:MUSIC
ATTACH;FMTTYPE=image/jpeg:https://www.discovernorthampton.co.uk/wp-content/uploads/2022/11/gtrgtrhsh.jpeg
END:VEVENT
BEGIN:VEVENT
DTSTART;TZID=Europe/London:20221030T160000
DTEND;TZID=Europe/London:20221030T180000
DTSTAMP:20260423T062521
CREATED:20221005T102740Z
LAST-MODIFIED:20221005T102740Z
UID:110802-1667145600-1667152800@www.discovernorthampton.co.uk
SUMMARY:40 Watt - The Wig And Pen
DESCRIPTION:
URL:https://www.discovernorthampton.co.uk/event/40-watt-the-wig-and-pen/
LOCATION:The Wig And Pen\, 19 St Giles' St\, northampton\, Northamptonshire\, NN1 1JA\, United Kingdom
CATEGORIES:Concert
ATTACH;FMTTYPE=image/jpeg:https://www.discovernorthampton.co.uk/wp-content/uploads/2022/10/download-2.jpg
END:VEVENT
BEGIN:VEVENT
DTSTART;TZID=Europe/London:20221029T210000
DTEND;TZID=Europe/London:20221029T230000
DTSTAMP:20260423T062521
CREATED:20221005T102530Z
LAST-MODIFIED:20221005T102530Z
UID:110800-1667077200-1667084400@www.discovernorthampton.co.uk
SUMMARY:Bmike Gibbons Band - The Wig And Pen
DESCRIPTION:
URL:https://www.discovernorthampton.co.uk/event/bmike-gibbons-band-the-wig-and-pen/
LOCATION:The Wig And Pen\, 19 St Giles' St\, northampton\, Northamptonshire\, NN1 1JA\, United Kingdom
CATEGORIES:Concert
ATTACH;FMTTYPE=image/jpeg:https://www.discovernorthampton.co.uk/wp-content/uploads/2022/10/download-2.jpg
END:VEVENT
BEGIN:VEVENT
DTSTART;TZID=Europe/London:20221028T210000
DTEND;TZID=Europe/London:20221028T230000
DTSTAMP:20260423T062521
CREATED:20221005T102140Z
LAST-MODIFIED:20221005T102140Z
UID:110798-1666990800-1666998000@www.discovernorthampton.co.uk
SUMMARY:The Bruges - The Wig and Pen
DESCRIPTION:
URL:https://www.discovernorthampton.co.uk/event/the-bruges-the-wig-and-pen/
LOCATION:The Wig And Pen\, 19 St Giles' St\, northampton\, Northamptonshire\, NN1 1JA\, United Kingdom
CATEGORIES:Concert
ATTACH;FMTTYPE=image/jpeg:https://www.discovernorthampton.co.uk/wp-content/uploads/2022/10/download-2.jpg
END:VEVENT
BEGIN:VEVENT
DTSTART;TZID=Europe/London:20221023T210000
DTEND;TZID=Europe/London:20221023T230000
DTSTAMP:20260423T062521
CREATED:20221005T101949Z
LAST-MODIFIED:20221005T101949Z
UID:110796-1666558800-1666566000@www.discovernorthampton.co.uk
SUMMARY:Six Feet Apart - The Wig And Pen
DESCRIPTION:
URL:https://www.discovernorthampton.co.uk/event/six-feet-apart-the-wig-and-pen/
LOCATION:The Wig And Pen\, 19 St Giles' St\, northampton\, Northamptonshire\, NN1 1JA\, United Kingdom
CATEGORIES:Concert
ATTACH;FMTTYPE=image/jpeg:https://www.discovernorthampton.co.uk/wp-content/uploads/2022/10/download-2.jpg
END:VEVENT
BEGIN:VEVENT
DTSTART;TZID=Europe/London:20221022T210000
DTEND;TZID=Europe/London:20221022T230000
DTSTAMP:20260423T062521
CREATED:20221005T101737Z
LAST-MODIFIED:20221005T101737Z
UID:110794-1666472400-1666479600@www.discovernorthampton.co.uk
SUMMARY:Bent Black Tulips - The Wig and Pen
DESCRIPTION:
URL:https://www.discovernorthampton.co.uk/event/bent-black-tulips-the-wig-and-pen/
LOCATION:The Wig And Pen\, 19 St Giles' St\, northampton\, Northamptonshire\, NN1 1JA\, United Kingdom
CATEGORIES:Concert
ATTACH;FMTTYPE=image/jpeg:https://www.discovernorthampton.co.uk/wp-content/uploads/2022/10/download-2.jpg
END:VEVENT
BEGIN:VEVENT
DTSTART;TZID=Europe/London:20221021T210000
DTEND;TZID=Europe/London:20221021T230000
DTSTAMP:20260423T062522
CREATED:20221005T101505Z
LAST-MODIFIED:20221005T101505Z
UID:110792-1666386000-1666393200@www.discovernorthampton.co.uk
SUMMARY:Pure Genius - The Wig and Pen
DESCRIPTION:
URL:https://www.discovernorthampton.co.uk/event/pure-genius-the-wig-and-pen/
LOCATION:The Wig And Pen\, 19 St Giles' St\, northampton\, Northamptonshire\, NN1 1JA\, United Kingdom
CATEGORIES:Concert
ATTACH;FMTTYPE=image/jpeg:https://www.discovernorthampton.co.uk/wp-content/uploads/2022/10/download-2.jpg
END:VEVENT
BEGIN:VEVENT
DTSTART;TZID=Europe/London:20221016T160000
DTEND;TZID=Europe/London:20221016T180000
DTSTAMP:20260423T062522
CREATED:20221005T101051Z
LAST-MODIFIED:20221005T101051Z
UID:110790-1665936000-1665943200@www.discovernorthampton.co.uk
SUMMARY:TJ Johnson & The Preachers - The Wig and Pen
DESCRIPTION:
URL:https://www.discovernorthampton.co.uk/event/tj-johnson-the-preachers-the-wig-and-pen-2/
LOCATION:The Wig And Pen\, 19 St Giles' St\, northampton\, Northamptonshire\, NN1 1JA\, United Kingdom
CATEGORIES:Concert
ATTACH;FMTTYPE=image/jpeg:https://www.discovernorthampton.co.uk/wp-content/uploads/2022/10/download-2.jpg
END:VEVENT
END:VCALENDAR