BEGIN:VCALENDAR
VERSION:2.0
PRODID:-//Northampton BID - ECPv6.2.4//NONSGML v1.0//EN
CALSCALE:GREGORIAN
METHOD:PUBLISH
X-WR-CALNAME:Northampton BID
X-ORIGINAL-URL:https://www.discovernorthampton.co.uk
X-WR-CALDESC:Events for Northampton BID
REFRESH-INTERVAL;VALUE=DURATION:PT1H
X-Robots-Tag:noindex
X-PUBLISHED-TTL:PT1H
BEGIN:VTIMEZONE
TZID:Europe/London
BEGIN:DAYLIGHT
TZOFFSETFROM:+0000
TZOFFSETTO:+0100
TZNAME:BST
DTSTART:20210328T010000
END:DAYLIGHT
BEGIN:STANDARD
TZOFFSETFROM:+0100
TZOFFSETTO:+0000
TZNAME:GMT
DTSTART:20211031T010000
END:STANDARD
BEGIN:DAYLIGHT
TZOFFSETFROM:+0000
TZOFFSETTO:+0100
TZNAME:BST
DTSTART:20220327T010000
END:DAYLIGHT
BEGIN:STANDARD
TZOFFSETFROM:+0100
TZOFFSETTO:+0000
TZNAME:GMT
DTSTART:20221030T010000
END:STANDARD
END:VTIMEZONE
BEGIN:VEVENT
DTSTART;VALUE=DATE:20210710
DTEND;VALUE=DATE:20220131
DTSTAMP:20260419T233847
CREATED:20220124T114128Z
LAST-MODIFIED:20220124T114128Z
UID:106488-1625875200-1643587199@www.discovernorthampton.co.uk
SUMMARY:Inspiration
DESCRIPTION:Artists and designers are inspired by all manner of things from the everyday to the fantastical\, from nature to people\, music to stories.This exhibition\, for all ages\, explores the way artists look at the world around them and how this sparks the creative imagination.
URL:https://www.discovernorthampton.co.uk/event/inspiration/
LOCATION:Northampton Museum And Art Gallery\, 4-6 Guildhall Rd\,\, Northampton\, Northamptonshire\, NN1 1DP\, United Kingdom
CATEGORIES:Museum
ATTACH;FMTTYPE=image/jpeg:https://www.discovernorthampton.co.uk/wp-content/uploads/2022/01/Inspiration_960x640.jpg
END:VEVENT
BEGIN:VEVENT
DTSTART;TZID=Europe/London:20211118T100000
DTEND;TZID=Europe/London:20211118T110000
DTSTAMP:20260419T233847
CREATED:20210819T155704Z
LAST-MODIFIED:20210919T165459Z
UID:104790-1637229600-1637233200@www.discovernorthampton.co.uk
SUMMARY:Google Digital Garage - Get Started with Analytics
DESCRIPTION:Join us for the latest Google Digital Garage session delivered by Partnerships for Better Business.\nÂ  \nGet Started with Analytics\nThursday 18 November\, 10am â€“ 11am\nÂ  \n\n\n\n\n\nAbout this event\n\n\nAnalytics can help you better understand your customers and support your digital marketing strategy. This course will help you to apply data-driven thinking to your business. Explore the questions your customer data can help you answer\, discover tools to access these insights\, and learn how to set up Google Analytics. \nIn this session you will learn: \n?  The ways that data analytics can help your business strategy \n?  Which tools can help you understand your audience \n?  How to get started with Google Analytics \nÂ  \nBOOK YOUR PLACE HERE\nÂ  \nGood to know: \nThis session is run using YouTube and is 60 minutes long. The course assumes no prior knowledge or experience so there is no pre-reading necessary. There will be the opportunity to ask questions during the session.
URL:https://www.discovernorthampton.co.uk/event/get-started-with-analytics/
LOCATION:Online
CATEGORIES:Google Digital Garage
ATTACH;FMTTYPE=image/jpeg:https://www.discovernorthampton.co.uk/wp-content/uploads/2021/08/Gogole-Garage-Digital-Workshops.jpg
END:VEVENT
BEGIN:VEVENT
DTSTART;TZID=Europe/London:20211120T000000
DTEND;TZID=Europe/London:20211120T170000
DTSTAMP:20260419T233847
CREATED:20211015T112347Z
LAST-MODIFIED:20211015T112347Z
UID:105672-1637366400-1637427600@www.discovernorthampton.co.uk
SUMMARY:Christmas Light Switch On
DESCRIPTION:Northampton town centre will once again be shining bright this Christmas with its display of festive lights. \nHundreds of extra visitors are expected in town for the big switch-on on Saturday\, 20 November with accompanying entertainment. \nJoin us for the townâ€™s official Christmas lights switch on.
URL:https://www.discovernorthampton.co.uk/event/christmas-light-switch-on/
LOCATION:town centre
ATTACH;FMTTYPE=image/jpeg:https://www.discovernorthampton.co.uk/wp-content/uploads/2020/10/Christmas-Showcase.jpg
END:VEVENT
END:VCALENDAR