BEGIN:VCALENDAR
VERSION:2.0
PRODID:-//Northampton BID - ECPv6.2.4//NONSGML v1.0//EN
CALSCALE:GREGORIAN
METHOD:PUBLISH
X-WR-CALNAME:Northampton BID
X-ORIGINAL-URL:https://www.discovernorthampton.co.uk
X-WR-CALDESC:Events for Northampton BID
REFRESH-INTERVAL;VALUE=DURATION:PT1H
X-Robots-Tag:noindex
X-PUBLISHED-TTL:PT1H
BEGIN:VTIMEZONE
TZID:Europe/London
BEGIN:DAYLIGHT
TZOFFSETFROM:+0000
TZOFFSETTO:+0100
TZNAME:BST
DTSTART:20220327T010000
END:DAYLIGHT
BEGIN:STANDARD
TZOFFSETFROM:+0100
TZOFFSETTO:+0000
TZNAME:GMT
DTSTART:20221030T010000
END:STANDARD
END:VTIMEZONE
BEGIN:VEVENT
DTSTART;TZID=Europe/London:20220613T193000
DTEND;TZID=Europe/London:20220613T213000
DTSTAMP:20260419T150843
CREATED:20220405T140245Z
LAST-MODIFIED:20220405T140245Z
UID:107782-1655148600-1655155800@www.discovernorthampton.co.uk
SUMMARY:What’s Love Got To Do With It?
DESCRIPTION:What’s Love Got To Do With It? is the joyous theatre show celebrating the music of Tina Turner. \nAudiences can expect a night of high energy\, feel-good rock-and-roll featuring Tina’s greatest hits performed by the amazing vocal talent of Elesha Paul Moses (Whitney – Queen Of The Night\, The Voice\, X Factor) supported by a full 10-piece live band. \nYou can look forward to hearing stunning musical arrangements of Tina’s most-loved classic hits including Private Dancer\, What’s Love Got To Do With It?\, Proud Mary\, River Deep\, Nutbush City Limits\, Simply The Best and many more. This not-to-be missed musical experience is a stunning celebration of one of the greatest female singers of our time.
URL:https://www.discovernorthampton.co.uk/event/whats-love-got-to-do-with-it/
LOCATION:Royal and Derngate Theatre\, 19-21 Guildhall Road\, Northampton\, Northamptonshire\, NN1 1DP
CATEGORIES:Royal and Derngate
ATTACH;FMTTYPE=image/jpeg:https://www.discovernorthampton.co.uk/wp-content/uploads/2022/04/1000x1000_NORTHAMPTON-2-1000x476-1.jpg
ORGANIZER;CN="Royal and Derngate":MAILTO:BoxOffice@royalandderngate.co.uk
END:VEVENT
BEGIN:VEVENT
DTSTART;TZID=Europe/London:20220613T193000
DTEND;TZID=Europe/London:20220613T213000
DTSTAMP:20260419T150843
CREATED:20220607T075744Z
LAST-MODIFIED:20220607T075744Z
UID:108863-1655148600-1655155800@www.discovernorthampton.co.uk
SUMMARY:History Of The Space Age - Northamptonshire Natural History Society
DESCRIPTION:By Robert Christy. Topics connected with the history of the Space Age\, tracking satellites or analysing the more-secret aspects of activity in orbit\, Guests are welcome to this meeting on this interesting topic
URL:https://www.discovernorthampton.co.uk/event/history-of-the-space-age-northamptonshire-natural-history-society/
LOCATION:Northamptonshire Natural History Society\, The Humfrey Rooms\, 10 Castilian Terrace\, Northampton\, Northampton\, Northamptonshire\, NN1 1LD\, United Kingdom
CATEGORIES:Natural History
ATTACH;FMTTYPE=image/png:https://www.discovernorthampton.co.uk/wp-content/uploads/2022/06/72428a3d47fddff41b11995b5cea23f3.png
END:VEVENT
BEGIN:VEVENT
DTSTART;TZID=Europe/London:20220614T190000
DTEND;TZID=Europe/London:20220614T210000
DTSTAMP:20260419T150843
CREATED:20220405T140617Z
LAST-MODIFIED:20220405T140617Z
UID:107785-1655233200-1655240400@www.discovernorthampton.co.uk
SUMMARY:NMPAT – The Festival
DESCRIPTION:An opportunity to share in and celebrate Arts performances by young people from some of the county’s primary and secondary schools\, who will be showcasing their talents\, skills and irrepressible energy for you. In partnership with NMPAT\, this promises to be a truly memorable experience for the young people\, their teachers and leaders and you\, their audience.
URL:https://www.discovernorthampton.co.uk/event/nmpat-the-festival/2022-06-14/
LOCATION:Royal and Derngate Theatre\, 19-21 Guildhall Road\, Northampton\, Northamptonshire\, NN1 1DP
CATEGORIES:Royal and Derngate
ATTACH;FMTTYPE=image/jpeg:https://www.discovernorthampton.co.uk/wp-content/uploads/2022/04/The-Festival-1170x476-1.jpg
ORGANIZER;CN="Royal and Derngate":MAILTO:BoxOffice@royalandderngate.co.uk
END:VEVENT
BEGIN:VEVENT
DTSTART;TZID=Europe/London:20220615T200000
DTEND;TZID=Europe/London:20220615T220000
DTSTAMP:20260419T150843
CREATED:20220607T080324Z
LAST-MODIFIED:20220607T080324Z
UID:108865-1655323200-1655330400@www.discovernorthampton.co.uk
SUMMARY:Monopod Competition - Northamptonshire Natural History Society
DESCRIPTION:The last meeting of our programme is our annual set subject competition depicting Religious Subjects from any faith. A competition held in honour of Mrs Humfreyâ€™s interest in church photography. up to three entries per person\, any mix of prints or projected images. \nTrophy Presentations â€“ the evening concludes with the presentation of the annual trophies.
URL:https://www.discovernorthampton.co.uk/event/monopod-competition-northamptonshire-natural-history-society/
LOCATION:Northamptonshire Natural History Society\, The Humfrey Rooms\, 10 Castilian Terrace\, Northampton\, Northampton\, Northamptonshire\, NN1 1LD\, United Kingdom
CATEGORIES:Natural History
ATTACH;FMTTYPE=image/png:https://www.discovernorthampton.co.uk/wp-content/uploads/2022/06/72428a3d47fddff41b11995b5cea23f3.png
END:VEVENT
BEGIN:VEVENT
DTSTART;TZID=Europe/London:20220616T200000
DTEND;TZID=Europe/London:20220616T220000
DTSTAMP:20260419T150843
CREATED:20220405T141109Z
LAST-MODIFIED:20220405T141109Z
UID:107789-1655409600-1655416800@www.discovernorthampton.co.uk
SUMMARY:Romesh Ranganathan: The Cynic’s Mixtape
DESCRIPTION:Romesh Ranganathan is back with a brand new show The Cynic’s Mixtape\, his most brutally honest show yet. \nFresh from The Misadventures Of Romesh Ranganathan\, A League Of Their Own and Judge Romesh\, he’s putting showbiz aside to deliver a carefully curated selection of all the things he has found unacceptable since the last tour\, including why trying to save the environment is a scam\, why none of us are truly free\, and his suspicion that his wife is using gluten intolerance to avoid sleeping with him.
URL:https://www.discovernorthampton.co.uk/event/romesh-ranganathan-the-cynics-mixtape/2022-06-16/
LOCATION:Royal and Derngate Theatre\, 19-21 Guildhall Road\, Northampton\, Northamptonshire\, NN1 1DP
CATEGORIES:Royal and Derngate
ATTACH;FMTTYPE=image/jpeg:https://www.discovernorthampton.co.uk/wp-content/uploads/2022/04/Romesh-2020-web-resize-1170x476-1.jpg
ORGANIZER;CN="Royal and Derngate":MAILTO:BoxOffice@royalandderngate.co.uk
END:VEVENT
BEGIN:VEVENT
DTSTART;TZID=Europe/London:20220617T190000
DTEND;TZID=Europe/London:20220617T233000
DTSTAMP:20260419T150843
CREATED:20220530T142911Z
LAST-MODIFIED:20220530T142923Z
UID:108807-1655492400-1655508600@www.discovernorthampton.co.uk
SUMMARY:Pac To The 80s - The Church Northampton
DESCRIPTION:You’ll be greeted with a complimentary retro cocktail on arrival as well as canapés that will take you straight back to the days of the New Romantics.Dinner is then how the 80s should have been… some classic dishes such as chicken Kiev’s\, filled crispy pancakes and arctic roll which have been brought up to date and refined.You can then party the night away in our transformed venue with old school cocktails and the very retro\, VJ Gary.A party not to be missed!
URL:https://www.discovernorthampton.co.uk/event/pac-to-the-80s-the-church/
LOCATION:The Church\, 67-83 Bridge St\, northampton\, Northamptonshire\, NN1 1PD\, United Kingdom
ATTACH;FMTTYPE=image/jpeg:https://www.discovernorthampton.co.uk/wp-content/uploads/2022/05/backtothe80sparty.jpg
END:VEVENT
BEGIN:VEVENT
DTSTART;TZID=Europe/London:20220617T193000
DTEND;TZID=Europe/London:20220617T213000
DTSTAMP:20260419T150843
CREATED:20220607T105126Z
LAST-MODIFIED:20220607T105126Z
UID:108906-1655494200-1655501400@www.discovernorthampton.co.uk
SUMMARY:Darren Turner- An Evening of Mediumship - The Deco
DESCRIPTION:Darren is bringing his UK wide Tour to Northampton in June 2022\, having worked in the UK and Overseas \, he has gained a reputation as an evidential medium. Having appeared in Chat its Fate magazine as well as radio and TV.\nDarren regularly demonstrates by providing evidence from our loved ones securing his belief that our loved ones continue to exist through the communication they provide. During the evening Darren will use his natural ability to communicate with your loved ones\, friends and family providing detailed messages delivered with love\, compassion\, and the utmost respect for both sides of life.
URL:https://www.discovernorthampton.co.uk/event/darren-turner-an-evening-of-mediumship-the-deco/
LOCATION:The Old Savoy â€“ The home of The Deco Theatre\, Abington Square\, Northampton\, Northamptonshire\, NN1 4AE
CATEGORIES:The Deco
ATTACH;FMTTYPE=image/jpeg:https://www.discovernorthampton.co.uk/wp-content/uploads/2022/06/darren-turner-200x300-1.jpg
ORGANIZER;CN="The Deco":MAILTO:Toni@stage-right.co.uk
END:VEVENT
BEGIN:VEVENT
DTSTART;TZID=Europe/London:20220618T100000
DTEND;TZID=Europe/London:20220618T120000
DTSTAMP:20260419T150843
CREATED:20220510T094043Z
LAST-MODIFIED:20220510T094043Z
UID:108516-1655546400-1655553600@www.discovernorthampton.co.uk
SUMMARY:Build a Droid Workshop
DESCRIPTION:Design and build your very own droid that would be at home in the star wars universe. With the expert help of Star wars prop maker Alan Lenton you will create a droid friend to take home. \nAges 7 to 11
URL:https://www.discovernorthampton.co.uk/event/build-a-droid-workshop/2022-06-18/
LOCATION:Northampton Museum And Art Gallery\, 4-6 Guildhall Rd\,\, Northampton\, Northamptonshire\, NN1 1DP\, United Kingdom
CATEGORIES:Museum
ATTACH;FMTTYPE=image/png:https://www.discovernorthampton.co.uk/wp-content/uploads/2022/05/download.png
END:VEVENT
BEGIN:VEVENT
DTSTART;TZID=Europe/London:20220618T123000
DTEND;TZID=Europe/London:20220618T163000
DTSTAMP:20260419T150843
CREATED:20220223T151231Z
LAST-MODIFIED:20220223T151231Z
UID:107429-1655555400-1655569800@www.discovernorthampton.co.uk
SUMMARY:Picnic in the Park Northampton - Lion King Screening
DESCRIPTION:Picnic in the Park Northampton â€“ Lion King (PG) Screening \nJoin us for our brand new festival â€“ Picnic in the Park for summer 2022 at Delapre Abbey. \nA socially distanced\, COVID compliant mini festival that starts on the Friday evening and ends on the Sunday evening comprising of live bands and blockbuster films. \nThere will also be catering units onsite that will serve the hot drinks\, you can of course bring your own snacks!\nLimited tickets available so make sure to book yours today.
URL:https://www.discovernorthampton.co.uk/event/picnic-in-the-park-northampton-lion-king-screening/
LOCATION:Delepre Abbey\, London Rd\, Northampton\, Northants\, NN4 8AW\, United Kingdom
CATEGORIES:Festival
ATTACH;FMTTYPE=image/jpeg:https://www.discovernorthampton.co.uk/wp-content/uploads/2022/02/986698.jpg
END:VEVENT
BEGIN:VEVENT
DTSTART;VALUE=DATE:20220619
DTEND;VALUE=DATE:20220627
DTSTAMP:20260419T150843
CREATED:20220519T131607Z
LAST-MODIFIED:20220519T131607Z
UID:108687-1655596800-1656287999@www.discovernorthampton.co.uk
SUMMARY:NLive Week of Action
DESCRIPTION:Nlive Week of Action at Nlive radio
URL:https://www.discovernorthampton.co.uk/event/nlive-week-of-action/
LOCATION:Nlive\, Swan St\, northampton\, Northamptonshire\, NN1 1DH\, United Kingdom
CATEGORIES:Northampton Pride
ATTACH;FMTTYPE=image/webp:https://www.discovernorthampton.co.uk/wp-content/uploads/2022/05/logog.webp
END:VEVENT
BEGIN:VEVENT
DTSTART;TZID=Europe/London:20220619T113000
DTEND;TZID=Europe/London:20220619T210000
DTSTAMP:20260419T150843
CREATED:20220607T101426Z
LAST-MODIFIED:20220607T101426Z
UID:108893-1655638200-1655672400@www.discovernorthampton.co.uk
SUMMARY:Northampton Music Festival - Town Centre
DESCRIPTION:Six Stages\, Rock to Opera\, World music to Jazz. Putting shoe town on the music map 11:30am till 9pm free entry. \nOn different stages in town \nMarket Square: main stage \nNorthampton Museum Courtyard: Classical Stage \nGuildhall Courtyard: World Music Stage \nThe Black Prince: New Boots Stage \nElement Courtyard: Student Showcase Stage \nGuildhall Hotel: Jazz Stage
URL:https://www.discovernorthampton.co.uk/event/northampton-music-festival-town-centre/
LOCATION:town centre
CATEGORIES:Festival
ATTACH;FMTTYPE=image/png:https://www.discovernorthampton.co.uk/wp-content/uploads/2022/06/NMF-resized.png
END:VEVENT
END:VCALENDAR