BEGIN:VCALENDAR
VERSION:2.0
PRODID:-//Northampton BID - ECPv6.2.4//NONSGML v1.0//EN
CALSCALE:GREGORIAN
METHOD:PUBLISH
X-WR-CALNAME:Northampton BID
X-ORIGINAL-URL:https://www.discovernorthampton.co.uk
X-WR-CALDESC:Events for Northampton BID
REFRESH-INTERVAL;VALUE=DURATION:PT1H
X-Robots-Tag:noindex
X-PUBLISHED-TTL:PT1H
BEGIN:VTIMEZONE
TZID:Europe/London
BEGIN:DAYLIGHT
TZOFFSETFROM:+0000
TZOFFSETTO:+0100
TZNAME:BST
DTSTART:20220327T010000
END:DAYLIGHT
BEGIN:STANDARD
TZOFFSETFROM:+0100
TZOFFSETTO:+0000
TZNAME:GMT
DTSTART:20221030T010000
END:STANDARD
END:VTIMEZONE
BEGIN:VEVENT
DTSTART;TZID=Europe/London:20220719T110000
DTEND;TZID=Europe/London:20220719T160000
DTSTAMP:20260419T141419
CREATED:20220627T100327Z
LAST-MODIFIED:20220627T100327Z
UID:109132-1658228400-1658246400@www.discovernorthampton.co.uk
SUMMARY:Nutrition Drop-in Clinic with Simeon - Saints Coffee
DESCRIPTION:Nutrition Drop-in Clinic with Simeon â€“ Saints Coffee
URL:https://www.discovernorthampton.co.uk/event/nutrition-drop-in-clinic-with-simeon-saints-coffee/
LOCATION:Saints Coffee\, 62 St Giles' St\, Northampton\, Northamptonshire\, NN1 1JW\, United Kingdom
CATEGORIES:Event
ATTACH;FMTTYPE=image/jpeg:https://www.discovernorthampton.co.uk/wp-content/uploads/2022/04/2021-02-01_19-36-01_1612208205.jpg
END:VEVENT
BEGIN:VEVENT
DTSTART;TZID=Europe/London:20220721T190000
DTEND;TZID=Europe/London:20220721T210000
DTSTAMP:20260419T141419
CREATED:20220627T100901Z
LAST-MODIFIED:20220627T100901Z
UID:109134-1658430000-1658437200@www.discovernorthampton.co.uk
SUMMARY:Book Club - Saints Coffee
DESCRIPTION:Book Club â€“ Saints Coffee
URL:https://www.discovernorthampton.co.uk/event/book-club-saints-coffee-2/
LOCATION:Saints Coffee\, 62 St Giles' St\, Northampton\, Northamptonshire\, NN1 1JW\, United Kingdom
CATEGORIES:Event
ATTACH;FMTTYPE=image/jpeg:https://www.discovernorthampton.co.uk/wp-content/uploads/2022/04/2021-02-01_19-36-01_1612208205.jpg
END:VEVENT
BEGIN:VEVENT
DTSTART;TZID=Europe/London:20220721T190000
DTEND;TZID=Europe/London:20220721T210000
DTSTAMP:20260419T141419
CREATED:20220707T074128Z
LAST-MODIFIED:20220707T074128Z
UID:109280-1658430000-1658437200@www.discovernorthampton.co.uk
SUMMARY:Paint & Prosecco at 78 Derngate
DESCRIPTION:Join us for a night of bubbles and brushes as 78 Derngate hosts its inaugural Prosecco and paint evening! inspired by the work of Charles Rennie Mackintosh\, and the art Deco Movement\, unleash your inner artist with a paint brush in one hand and a drink in the other.
URL:https://www.discovernorthampton.co.uk/event/paint-prosecco-at-78-derngate/
LOCATION:78 Derngate\, Northampton\, Northamptonshire\, NN1 1UH
CATEGORIES:Event
ATTACH;FMTTYPE=image/png:https://www.discovernorthampton.co.uk/wp-content/uploads/2022/07/Paint-and-prosecco.png
END:VEVENT
BEGIN:VEVENT
DTSTART;VALUE=DATE:20220722
DTEND;VALUE=DATE:20220723
DTSTAMP:20260419T141419
CREATED:20220712T094614Z
LAST-MODIFIED:20220712T094614Z
UID:109423-1658448000-1658534399@www.discovernorthampton.co.uk
SUMMARY:Reopening of Shipmans
DESCRIPTION:Phipps Brewery will use one of the few remaning shire horse carriages to go from the brewery at the bottom of bridge street and deliver a barrel of their beer to Shipmans on Friday the 22nd july. \nÂ 
URL:https://www.discovernorthampton.co.uk/event/reopening-of-shipmans/
LOCATION:Shipmans Pub\, 12 The Draprey\, Northampton\, Northants\, NN1 2HG\, United Kingdom
CATEGORIES:Reopening
ATTACH;FMTTYPE=image/webp:https://www.discovernorthampton.co.uk/wp-content/uploads/2022/07/img_20180505_171138.webp
END:VEVENT
BEGIN:VEVENT
DTSTART;TZID=Europe/London:20220722T080000
DTEND;TZID=Europe/London:20220722T170000
DTSTAMP:20260419T141419
CREATED:20220722T075357Z
LAST-MODIFIED:20220722T075357Z
UID:109516-1658476800-1658509200@www.discovernorthampton.co.uk
SUMMARY:Badger Charity Event
DESCRIPTION:Show your support by purchasing a charity pot and receive Badger themed goodies! on the 23rd of July buy a 45ml pot of charity pot for £5 to make your own snow fairy bubble bar shaped into Baffle the Badger! All proceed go to the Northamptonshire Badger Group
URL:https://www.discovernorthampton.co.uk/event/badger-charity-event/2022-07-22/
LOCATION:Lush\, 28\, Newland Walk\, Grosvenor Centre\, Northampton\, Northamptonshire\, NN1 2EB\, United Kingdom
CATEGORIES:Bath Bomb
ATTACH;FMTTYPE=image/jpeg:https://www.discovernorthampton.co.uk/wp-content/uploads/2022/07/Image-scaled.jpeg
END:VEVENT
BEGIN:VEVENT
DTSTART;TZID=Europe/London:20220722T190000
DTEND;TZID=Europe/London:20220722T230000
DTSTAMP:20260419T141419
CREATED:20220617T143308Z
LAST-MODIFIED:20220617T143308Z
UID:109038-1658516400-1658530800@www.discovernorthampton.co.uk
SUMMARY:Peaky Blinders – By Order Of The Old Savoy
DESCRIPTION:The Old Savoy cordially invites you to The Eden Club. \nA lavish evening of food\, drinks and table entertainment. \nOnce greeted by your host you’ll be shown to our bar\, ask the bar tender the right question for a free cocktail and access to the club\, where you’ll experience live music\, table service and entertainment like the VIP you are. \nCome in character – best dressed wins a bottle of prosecco
URL:https://www.discovernorthampton.co.uk/event/peaky-blinders-by-order-of-the-old-savoy/
LOCATION:The Deco\, The Deco\, Abington Square\, Northampton NN1 4AE
CATEGORIES:The Deco
ATTACH;FMTTYPE=image/png:https://www.discovernorthampton.co.uk/wp-content/uploads/2022/06/icon-peaky-blinders-1-296x300-1.png
END:VEVENT
BEGIN:VEVENT
DTSTART;TZID=Europe/London:20220722T210000
DTEND;TZID=Europe/London:20220722T230000
DTSTAMP:20260419T141419
CREATED:20220720T075756Z
LAST-MODIFIED:20220720T075756Z
UID:109474-1658523600-1658530800@www.discovernorthampton.co.uk
SUMMARY:CB3 Mailcoach
DESCRIPTION:Join CB3 for a night of upbeat classic pop\, rock and indie floor-fillers\, guaranteed too get everyone singing along!
URL:https://www.discovernorthampton.co.uk/event/cb3-mailcoach/
LOCATION:Mail Coach\, 8 Derngate\, northampton\, Northamptonshire\, NN1 1UB\, United Kingdom
CATEGORIES:DJ
ATTACH;FMTTYPE=image/jpeg:https://www.discovernorthampton.co.uk/wp-content/uploads/2022/07/6526552_c37ad36a.jpg
END:VEVENT
BEGIN:VEVENT
DTSTART;VALUE=DATE:20220723
DTEND;VALUE=DATE:20220724
DTSTAMP:20260419T141419
CREATED:20220510T094841Z
LAST-MODIFIED:20220510T094841Z
UID:108519-1658534400-1658620799@www.discovernorthampton.co.uk
SUMMARY:Summer at the Museum Challenge
DESCRIPTION:Join us this summer for fun\, games and challenges at both museums. Pick up your summer at the museumâ€™ pack and complete as many challenges as you can before the end of the holidays. Complete them all and you will receive a certificate and a prize.
URL:https://www.discovernorthampton.co.uk/event/summer-at-the-museum-challenge/2022-07-23/
LOCATION:Northampton Museum And Art Gallery\, 4-6 Guildhall Rd\,\, Northampton\, Northamptonshire\, NN1 1DP\, United Kingdom
CATEGORIES:Museum
ATTACH;FMTTYPE=image/png:https://www.discovernorthampton.co.uk/wp-content/uploads/2022/05/download.png
END:VEVENT
BEGIN:VEVENT
DTSTART;VALUE=DATE:20220723
DTEND;VALUE=DATE:20220724
DTSTAMP:20260419T141419
CREATED:20220627T101317Z
LAST-MODIFIED:20220627T101317Z
UID:109136-1658534400-1658620799@www.discovernorthampton.co.uk
SUMMARY:Live Music With Vickii Elizabeth Stocker - Saints Coffee
DESCRIPTION:Live Music With Vickii Elizabeth Stocker â€“ Saints Coffee
URL:https://www.discovernorthampton.co.uk/event/live-music-with-vickii-elizabeth-stocker-saints-coffee/
LOCATION:Saints Coffee\, 62 St Giles' St\, Northampton\, Northamptonshire\, NN1 1JW\, United Kingdom
CATEGORIES:Event
ATTACH;FMTTYPE=image/jpeg:https://www.discovernorthampton.co.uk/wp-content/uploads/2022/04/2021-02-01_19-36-01_1612208205.jpg
END:VEVENT
BEGIN:VEVENT
DTSTART;VALUE=DATE:20220723
DTEND;VALUE=DATE:20220724
DTSTAMP:20260419T141419
CREATED:20220627T101631Z
LAST-MODIFIED:20220627T101631Z
UID:109138-1658534400-1658620799@www.discovernorthampton.co.uk
SUMMARY:Jo Jo's Sound Bath x Saints Coffee Breakfast - Saints Coffee
DESCRIPTION:Jo Joâ€™s Sound Bath x Saints Coffee Breakfast â€“ Saints Coffee
URL:https://www.discovernorthampton.co.uk/event/jo-jos-sound-bath-x-saints-coffee-breakfast-saints-coffee/
LOCATION:Saints Coffee\, 62 St Giles' St\, Northampton\, Northamptonshire\, NN1 1JW\, United Kingdom
CATEGORIES:Event
ATTACH;FMTTYPE=image/jpeg:https://www.discovernorthampton.co.uk/wp-content/uploads/2022/04/2021-02-01_19-36-01_1612208205.jpg
END:VEVENT
BEGIN:VEVENT
DTSTART;TZID=Europe/London:20220723T080000
DTEND;TZID=Europe/London:20220723T170000
DTSTAMP:20260419T141419
CREATED:20220617T145823Z
LAST-MODIFIED:20220617T145823Z
UID:109041-1658563200-1658595600@www.discovernorthampton.co.uk
SUMMARY:An Evening of Burlesque
DESCRIPTION:A scintillating night out of sparkling entertainment\, the UK’s longest running Burlesque show is back touring the nation and it’s bigger than ever. \nJoin us for the good old-fashioned night out as we bring you the ultimate variety show\, blending stylish cabaret\, comedy\, music\, circus and burlesque to light up all your senses. \nEvening of Burlesque is an extravaganza of glitz and glamour! Expect fun\, feathers\, fan dancing\, fabulous costumes plus specialty Artistes\, Cabaret and Circus Stars\, Comedians\, World Guinness record holders and Champagne Showgirls! It’s the perfect night for everyone.
URL:https://www.discovernorthampton.co.uk/event/an-evening-of-burlesque/
LOCATION:The Deco\, The Deco\, Abington Square\, Northampton NN1 4AE
CATEGORIES:The Deco
ATTACH;FMTTYPE=image/jpeg:https://www.discovernorthampton.co.uk/wp-content/uploads/2022/06/EoB21-square-300x300-1.jpg
ORGANIZER;CN="The Deco":MAILTO:Toni@stage-right.co.uk
END:VEVENT
END:VCALENDAR