BEGIN:VCALENDAR
VERSION:2.0
PRODID:-//Northampton BID - ECPv6.2.4//NONSGML v1.0//EN
CALSCALE:GREGORIAN
METHOD:PUBLISH
X-WR-CALNAME:Northampton BID
X-ORIGINAL-URL:https://www.discovernorthampton.co.uk
X-WR-CALDESC:Events for Northampton BID
REFRESH-INTERVAL;VALUE=DURATION:PT1H
X-Robots-Tag:noindex
X-PUBLISHED-TTL:PT1H
BEGIN:VTIMEZONE
TZID:Europe/London
BEGIN:DAYLIGHT
TZOFFSETFROM:+0000
TZOFFSETTO:+0100
TZNAME:BST
DTSTART:20220327T010000
END:DAYLIGHT
BEGIN:STANDARD
TZOFFSETFROM:+0100
TZOFFSETTO:+0000
TZNAME:GMT
DTSTART:20221030T010000
END:STANDARD
END:VTIMEZONE
BEGIN:VEVENT
DTSTART;TZID=Europe/London:20220815T143000
DTEND;TZID=Europe/London:20220815T170000
DTSTAMP:20260421T075814
CREATED:20220811T095305Z
LAST-MODIFIED:20220811T095305Z
UID:109993-1660573800-1660582800@www.discovernorthampton.co.uk
SUMMARY:Support for Refugees to Access Employment
DESCRIPTION:West Northamptonshire Council (WNC) will be delivering a Refugee Employment Support event in partnership with DWP on Monday\, 15 August at Northampton Central Library.\n\nOther services available on the day include:\n• Professional translators to support customers with interviews\n• One to one career support\n• Help with employability skills\n• A childcare expert to discuss childcare options\n• Vacancies from local employers\n• A chance to discuss education and study options
URL:https://www.discovernorthampton.co.uk/event/support-for-refugees-to-access-employment/
LOCATION:Northampton Central Library\, Abington Street\, Northampton\, Northamptonshire\, NN1 2BA\, United Kingdom
CATEGORIES:Library
ATTACH;FMTTYPE=image/jpeg:https://www.discovernorthampton.co.uk/wp-content/uploads/2022/08/scaled_384-1.jpg
END:VEVENT
BEGIN:VEVENT
DTSTART;TZID=Europe/London:20220816T103000
DTEND;TZID=Europe/London:20220816T123000
DTSTAMP:20260421T075814
CREATED:20220510T102401Z
LAST-MODIFIED:20220510T102401Z
UID:108558-1660645800-1660653000@www.discovernorthampton.co.uk
SUMMARY:Bricks 4 Kidz Lego Builders Workshop
DESCRIPTION:Bricks 4 Kidz is an amazing workshop where children get to build motorised models from Lego technic! Itâ€™s all Star Wars Themed and youâ€™ll get the chance to build some of your favourite characters and watch them come to life! During the session\, there will be other other themed Lego Activities to help vring your imaginations alive! \nMay The Lego Be With You!
URL:https://www.discovernorthampton.co.uk/event/bricks-4-kidz-lego-builders-workshop/2022-08-16/
LOCATION:Northampton Museum And Art Gallery\, 4-6 Guildhall Rd\,\, Northampton\, Northamptonshire\, NN1 1DP\, United Kingdom
CATEGORIES:Museum
ATTACH;FMTTYPE=image/jpeg:https://www.discovernorthampton.co.uk/wp-content/uploads/2022/05/0_May-the-toys-be-with-you-sm.jpg
END:VEVENT
BEGIN:VEVENT
DTSTART;TZID=Europe/London:20220816T140000
DTEND;TZID=Europe/London:20220816T160000
DTSTAMP:20260421T075814
CREATED:20220811T101025Z
LAST-MODIFIED:20220811T101025Z
UID:110021-1660658400-1660665600@www.discovernorthampton.co.uk
SUMMARY:Knit and Natter at Northamptonshire Central Library
DESCRIPTION:Our Knit and Natter group meets every Tuesday in the Young Adult area on Ground Floor to knit\, crochet and have a good chat! \nKnitters of all abilities are welcome.
URL:https://www.discovernorthampton.co.uk/event/knit-and-natter-at-northamptonshire-central-library/2022-08-16/
LOCATION:Northampton Central Library\, Abington Street\, Northampton\, Northamptonshire\, NN1 2BA\, United Kingdom
CATEGORIES:Library
ATTACH;FMTTYPE=image/jpeg:https://www.discovernorthampton.co.uk/wp-content/uploads/2022/08/scaled_256-1.jpg
END:VEVENT
BEGIN:VEVENT
DTSTART;TZID=Europe/London:20220816T163000
DTEND;TZID=Europe/London:20220816T170000
DTSTAMP:20260421T075814
CREATED:20220811T101242Z
LAST-MODIFIED:20220811T101242Z
UID:110043-1660667400-1660669200@www.discovernorthampton.co.uk
SUMMARY:Summer Reading Challenge: Balloon Rockets
DESCRIPTION:Summer Reading Challenge: Balloon Rockets
URL:https://www.discovernorthampton.co.uk/event/summer-reading-challenge-balloon-rockets/
LOCATION:Northampton Central Library\, Abington Street\, Northampton\, Northamptonshire\, NN1 2BA\, United Kingdom
CATEGORIES:Library
ATTACH;FMTTYPE=image/jpeg:https://www.discovernorthampton.co.uk/wp-content/uploads/2022/08/scaled_384.jpg
END:VEVENT
BEGIN:VEVENT
DTSTART;TZID=Europe/London:20220816T200000
DTEND;TZID=Europe/London:20220816T220000
DTSTAMP:20260421T075814
CREATED:20220811T110047Z
LAST-MODIFIED:20220811T110047Z
UID:110065-1660680000-1660687200@www.discovernorthampton.co.uk
SUMMARY:BING-wOah!
DESCRIPTION:Animal Songs is our next theme for BING-wOah! \nThe rules are; \n-listen to 15 – 20 seconds clips of music. \n-The numbers on your sheet have been replaced with either the artist\, song or animal \nA variety of prizes are to be won whether they are sassy\, silly or funny. \nMake sure you book your bingo table\, itâ€™s only Ł1
URL:https://www.discovernorthampton.co.uk/event/bing-woah/
LOCATION:Playhouse\, 34-38 Bridge St\, northampton\, Northamptonshire\, NN1 1PA\, United Kingdom
CATEGORIES:bingo
ATTACH;FMTTYPE=image/png:https://www.discovernorthampton.co.uk/wp-content/uploads/2022/08/Animal-songs.png
END:VEVENT
BEGIN:VEVENT
DTSTART;VALUE=DATE:20220817
DTEND;VALUE=DATE:20220818
DTSTAMP:20260421T075814
CREATED:20220804T081108Z
LAST-MODIFIED:20220804T081108Z
UID:109861-1660694400-1660780799@www.discovernorthampton.co.uk
SUMMARY:Candle Decorating Workshop
DESCRIPTION:Candle decorating workshop with @heartsoulcandle
URL:https://www.discovernorthampton.co.uk/event/candle-decorating-workshop/
LOCATION:Saints Coffee\, 62 St Giles' St\, Northampton\, Northamptonshire\, NN1 1JW\, United Kingdom
CATEGORIES:Event
ATTACH;FMTTYPE=image/jpeg:https://www.discovernorthampton.co.uk/wp-content/uploads/2022/08/2021-02-01_19-36-01_1612208205.jpg
END:VEVENT
BEGIN:VEVENT
DTSTART;TZID=Europe/London:20220817T110000
DTEND;TZID=Europe/London:20220817T130000
DTSTAMP:20260421T075814
CREATED:20220729T073358Z
LAST-MODIFIED:20220729T073358Z
UID:109685-1660734000-1660741200@www.discovernorthampton.co.uk
SUMMARY:Mad Hatter’s Tea Party
DESCRIPTION:Are you ready for an important date with Alice\, the Queen of Hearts and the White Rabbit? Tumble down the rabbit hole and discover our Mad Hatter’s Tea Party! All inspired by the whimsical world of Alice in Wonderland. \nOur fantastic school holiday activity is for children and is beyond your wildest imagination. It includes 45 minutes of magic with the Mad Hatter himself whilst Alice and her friends will join the themed tea party. \nPhoto opportunities available! Fancy dress is a must! \nKings and queens adorn the teapots at Mad Hatters Afternoon Tea which is full of sweet treats and savoury delights to tantalise your taste buds – including Grow Me\, Shrink Me\, Bring Me Back glittery potions.\nWill you take a peek through the looking glass? \nGrownups are welcome to stay in our allocated grownup area or drop off and collect after the party!
URL:https://www.discovernorthampton.co.uk/event/mad-hatters-tea-party/2022-08-17/
LOCATION:The Deco\, The Deco\, Abington Square\, Northampton NN1 4AE
CATEGORIES:The Deco
ATTACH;FMTTYPE=image/jpeg:https://www.discovernorthampton.co.uk/wp-content/uploads/2022/07/Alice_image_WEB-987x768-1.jpg
END:VEVENT
BEGIN:VEVENT
DTSTART;TZID=Europe/London:20220817T143000
DTEND;TZID=Europe/London:20220817T151500
DTSTAMP:20260421T075814
CREATED:20220812T131338Z
LAST-MODIFIED:20220812T131338Z
UID:110093-1660746600-1660749300@www.discovernorthampton.co.uk
SUMMARY:LUSH's Party Experience
DESCRIPTION:LUSH are going to be hosting Party Experience Workshops across the week so that customers can get a feel for what a LUSH party is like. They will get hands-on making our most popular bath bomb and they will take home their own exclusive LUSH Party product.
URL:https://www.discovernorthampton.co.uk/event/lushs-party-experience/2022-08-17/
LOCATION:Lush\, 28\, Newland Walk\, Grosvenor Centre\, Northampton\, Northamptonshire\, NN1 2EB\, United Kingdom
CATEGORIES:Bath Bomb
ATTACH;FMTTYPE=image/png:https://www.discovernorthampton.co.uk/wp-content/uploads/2022/08/Lush_Party_Experience-poster.png
END:VEVENT
BEGIN:VEVENT
DTSTART;TZID=Europe/London:20220818T190000
DTEND;TZID=Europe/London:20220818T210000
DTSTAMP:20260421T075814
CREATED:20220804T081425Z
LAST-MODIFIED:20220804T081425Z
UID:109863-1660849200-1660856400@www.discovernorthampton.co.uk
SUMMARY:Cocktail Book Club
DESCRIPTION:we call it book club\, we call it cocktail club
URL:https://www.discovernorthampton.co.uk/event/cocktail-book-club/
LOCATION:Saints Coffee\, 62 St Giles' St\, Northampton\, Northamptonshire\, NN1 1JW\, United Kingdom
CATEGORIES:Event
ATTACH;FMTTYPE=image/jpeg:https://www.discovernorthampton.co.uk/wp-content/uploads/2022/08/2021-02-01_19-36-01_1612208205.jpg
END:VEVENT
BEGIN:VEVENT
DTSTART;TZID=Europe/London:20220819T180000
DTEND;TZID=Europe/London:20220819T220000
DTSTAMP:20260421T075814
CREATED:20220803T081411Z
LAST-MODIFIED:20220803T081411Z
UID:109832-1660932000-1660946400@www.discovernorthampton.co.uk
SUMMARY:DJ Andy Skank
DESCRIPTION:DJ set from the one and only Andy Skank on The 19th
URL:https://www.discovernorthampton.co.uk/event/dj-andy-skank/
LOCATION:VnB\, 10 St Giles' Square\, Northampton\, Northamptonshire\, NN1 1DA\, United Kingdom
CATEGORIES:DJ
ATTACH;FMTTYPE=image/jpeg:https://www.discovernorthampton.co.uk/wp-content/uploads/2022/08/rgdfsgd.jpg
END:VEVENT
BEGIN:VEVENT
DTSTART;TZID=Europe/London:20220819T180000
DTEND;TZID=Europe/London:20220819T220000
DTSTAMP:20260421T075814
CREATED:20220804T081847Z
LAST-MODIFIED:20220804T081847Z
UID:109865-1660932000-1660946400@www.discovernorthampton.co.uk
SUMMARY:Nepali Pop Up
DESCRIPTION:Nepali pop up with @gurkstreetfood curries\, noodles and momos
URL:https://www.discovernorthampton.co.uk/event/nepali-pop-up/
LOCATION:Saints Coffee\, 62 St Giles' St\, Northampton\, Northamptonshire\, NN1 1JW\, United Kingdom
CATEGORIES:Event
ATTACH;FMTTYPE=image/jpeg:https://www.discovernorthampton.co.uk/wp-content/uploads/2022/08/2021-02-01_19-36-01_1612208205.jpg
END:VEVENT
BEGIN:VEVENT
DTSTART;TZID=Europe/London:20220820T180000
DTEND;TZID=Europe/London:20220820T200000
DTSTAMP:20260421T075814
CREATED:20220804T082206Z
LAST-MODIFIED:20220804T082206Z
UID:109867-1661018400-1661025600@www.discovernorthampton.co.uk
SUMMARY:Indian Thali and Cocktails Night
DESCRIPTION:Indian Thali and cocktails! Authentic taste of Gujarat from @macekitchennrothampton
URL:https://www.discovernorthampton.co.uk/event/indian-thali-and-cocktails-night/
LOCATION:Saints Coffee\, 62 St Giles' St\, Northampton\, Northamptonshire\, NN1 1JW\, United Kingdom
CATEGORIES:Event
ATTACH;FMTTYPE=image/jpeg:https://www.discovernorthampton.co.uk/wp-content/uploads/2022/08/2021-02-01_19-36-01_1612208205.jpg
END:VEVENT
END:VCALENDAR