BEGIN:VCALENDAR
VERSION:2.0
PRODID:-//Northampton BID - ECPv6.2.4//NONSGML v1.0//EN
CALSCALE:GREGORIAN
METHOD:PUBLISH
X-WR-CALNAME:Northampton BID
X-ORIGINAL-URL:https://www.discovernorthampton.co.uk
X-WR-CALDESC:Events for Northampton BID
REFRESH-INTERVAL;VALUE=DURATION:PT1H
X-Robots-Tag:noindex
X-PUBLISHED-TTL:PT1H
BEGIN:VTIMEZONE
TZID:Europe/London
BEGIN:DAYLIGHT
TZOFFSETFROM:+0000
TZOFFSETTO:+0100
TZNAME:BST
DTSTART:20220327T010000
END:DAYLIGHT
BEGIN:STANDARD
TZOFFSETFROM:+0100
TZOFFSETTO:+0000
TZNAME:GMT
DTSTART:20221030T010000
END:STANDARD
END:VTIMEZONE
BEGIN:VEVENT
DTSTART;TZID=Europe/London:20220823T180000
DTEND;TZID=Europe/London:20220823T193000
DTSTAMP:20260423T103622
CREATED:20220804T082441Z
LAST-MODIFIED:20220804T082441Z
UID:109869-1661277600-1661283000@www.discovernorthampton.co.uk
SUMMARY:Meno-roots
DESCRIPTION:Meno-roots with @pinkroostercharity and@theginnock\, Northamptonâ€™s Menopause Support group
URL:https://www.discovernorthampton.co.uk/event/meno-roots/
LOCATION:Saints Coffee\, 62 St Giles' St\, Northampton\, Northamptonshire\, NN1 1JW\, United Kingdom
CATEGORIES:Event
ATTACH;FMTTYPE=image/jpeg:https://www.discovernorthampton.co.uk/wp-content/uploads/2022/08/2021-02-01_19-36-01_1612208205.jpg
END:VEVENT
BEGIN:VEVENT
DTSTART;TZID=Europe/London:20220823T190000
DTEND;TZID=Europe/London:20220823T210000
DTSTAMP:20260423T103622
CREATED:20220803T081951Z
LAST-MODIFIED:20220803T081951Z
UID:109835-1661281200-1661288400@www.discovernorthampton.co.uk
SUMMARY:BE.SPOKE Poetry Event
DESCRIPTION:weâ€™ll be getting our poetry on once again with BE.SPOKE poetry on the 23rd
URL:https://www.discovernorthampton.co.uk/event/be-spoke-poetry-event/
LOCATION:VnB\, 10 St Giles' Square\, Northampton\, Northamptonshire\, NN1 1DA\, United Kingdom
CATEGORIES:Event
ATTACH;FMTTYPE=image/jpeg:https://www.discovernorthampton.co.uk/wp-content/uploads/2022/08/rgea.jpg
END:VEVENT
BEGIN:VEVENT
DTSTART;TZID=Europe/London:20220823T200000
DTEND;TZID=Europe/London:20220823T233000
DTSTAMP:20260423T103622
CREATED:20220818T074216Z
LAST-MODIFIED:20220818T074216Z
UID:110149-1661284800-1661297400@www.discovernorthampton.co.uk
SUMMARY:BING WOAH -Playhouse
DESCRIPTION:Listen to 15 – 20 seconds bursts of toe-tapping\, shoulders bouncing and bums wiggling songs linked to a theme.\nThe numbers on your sheet have been replaced with either the artist and song name or noise creator (things get WILD when it’s the animal theme) . Get your dabber at the ready and dab away to win some every random prizes.\n\nEvery week you get the opportunity to go against your friends or our AWESOME Playhouse team in our Games Garage or Lucky Pucks area so\, let the games continue into the night.
URL:https://www.discovernorthampton.co.uk/event/bing-woah-playhouse/2022-08-23/
LOCATION:Playhouse\, 34-38 Bridge St\, northampton\, Northamptonshire\, NN1 1PA\, United Kingdom
CATEGORIES:bingo
ATTACH;FMTTYPE=image/png:https://www.discovernorthampton.co.uk/wp-content/uploads/2022/08/Generic-BingWOAH.png
END:VEVENT
BEGIN:VEVENT
DTSTART;VALUE=DATE:20220824
DTEND;VALUE=DATE:20220825
DTSTAMP:20260423T103622
CREATED:20220804T082623Z
LAST-MODIFIED:20220804T082623Z
UID:109871-1661299200-1661385599@www.discovernorthampton.co.uk
SUMMARY:Ukraine Independence Day Celebrations
DESCRIPTION:Ukraine independence day celebrations
URL:https://www.discovernorthampton.co.uk/event/ukraine-independence-day-celebrations/
LOCATION:Saints Coffee\, 62 St Giles' St\, Northampton\, Northamptonshire\, NN1 1JW\, United Kingdom
CATEGORIES:Event
ATTACH;FMTTYPE=image/jpeg:https://www.discovernorthampton.co.uk/wp-content/uploads/2022/08/2021-02-01_19-36-01_1612208205.jpg
END:VEVENT
BEGIN:VEVENT
DTSTART;TZID=Europe/London:20220824T193000
DTEND;TZID=Europe/London:20220824T223000
DTSTAMP:20260423T103622
CREATED:20220824T080656Z
LAST-MODIFIED:20220824T080656Z
UID:110223-1661369400-1661380200@www.discovernorthampton.co.uk
SUMMARY:Negretti and Zambra - Northamptonshire Natural History Society
DESCRIPTION:A presentation by society President Mike Longman in memory of recently deceased member\, Roger Warren. Detailing two of the greatest photographers and scientific instrument makers of the Victorian Age. followed by Leeuwenhoek and his microscopes\, a short video and presentation by Mike Gibson.
URL:https://www.discovernorthampton.co.uk/event/negretti-and-zambra-northamptonshire-natural-history-society/
LOCATION:Northamptonshire Natural History Society\, The Humfrey Rooms\, 10 Castilian Terrace\, Northampton\, Northampton\, Northamptonshire\, NN1 1LD\, United Kingdom
CATEGORIES:Natural History
ATTACH;FMTTYPE=image/jpeg:https://www.discovernorthampton.co.uk/wp-content/uploads/2022/08/download.jpg
END:VEVENT
BEGIN:VEVENT
DTSTART;TZID=Europe/London:20220824T200000
DTEND;TZID=Europe/London:20220824T220000
DTSTAMP:20260423T103622
CREATED:20220824T073523Z
LAST-MODIFIED:20220824T073523Z
UID:110212-1661371200-1661378400@www.discovernorthampton.co.uk
SUMMARY:Informal Photographic Meeting - Northamptonshire Natural History Society
DESCRIPTION:Come along to have a chat\, show some of your photos or get help with equipment and/or software. Bring your camera! If the weather is nice we may venture outside to take some photos
URL:https://www.discovernorthampton.co.uk/event/informal-photographic-meeting-northamptonshire-natural-history-society/
LOCATION:Northamptonshire Natural History Society\, The Humfrey Rooms\, 10 Castilian Terrace\, Northampton\, Northampton\, Northamptonshire\, NN1 1LD\, United Kingdom
CATEGORIES:Natural History
ATTACH;FMTTYPE=image/jpeg:https://www.discovernorthampton.co.uk/wp-content/uploads/2022/08/download.jpg
END:VEVENT
BEGIN:VEVENT
DTSTART;VALUE=DATE:20220825
DTEND;VALUE=DATE:20220826
DTSTAMP:20260423T103622
CREATED:20220621T085923Z
LAST-MODIFIED:20220621T085923Z
UID:109074-1661385600-1661471999@www.discovernorthampton.co.uk
SUMMARY:Shambala Music Festival 2022
DESCRIPTION:An adventure in utopia\, the Shambala Festival has been delivering creativity for over a decade. According to Shambala this festival is â€˜a space to play\, to reinvent\, revitalize\, and return to the world fueled-up on the beauty of being alive.
URL:https://www.discovernorthampton.co.uk/event/shambala-music-festival-2022/2022-08-25/
CATEGORIES:Festival
ATTACH;FMTTYPE=image/jpeg:https://www.discovernorthampton.co.uk/wp-content/uploads/2022/06/event-cover.jpg
END:VEVENT
BEGIN:VEVENT
DTSTART;VALUE=DATE:20220825
DTEND;VALUE=DATE:20220826
DTSTAMP:20260423T103622
CREATED:20220803T083331Z
LAST-MODIFIED:20220803T083331Z
UID:109838-1661385600-1661471999@www.discovernorthampton.co.uk
SUMMARY:The Spanish Takeover
DESCRIPTION:Think Sangria\, Spanish Wine\, Spanish Music and so much more!!
URL:https://www.discovernorthampton.co.uk/event/the-spanish-takeover/2022-08-25/
LOCATION:VnB\, 10 St Giles' Square\, Northampton\, Northamptonshire\, NN1 1DA\, United Kingdom
CATEGORIES:Event
ATTACH;FMTTYPE=image/jpeg:https://www.discovernorthampton.co.uk/wp-content/uploads/2022/08/rgseg.jpg
END:VEVENT
BEGIN:VEVENT
DTSTART;TZID=Europe/London:20220825T183000
DTEND;TZID=Europe/London:20220825T210000
DTSTAMP:20260423T103622
CREATED:20220806T082414Z
LAST-MODIFIED:20220806T082414Z
UID:109885-1661452200-1661461200@www.discovernorthampton.co.uk
SUMMARY:Prosecco And Paint Evening
DESCRIPTION:Join 78 Derngate for a night of Prosecco and Painting
URL:https://www.discovernorthampton.co.uk/event/prosecco-and-paint-evening/
LOCATION:78 Derngate\, Northampton\, Northamptonshire\, NN1 1UH
CATEGORIES:Event
ATTACH;FMTTYPE=image/jpeg:https://www.discovernorthampton.co.uk/wp-content/uploads/2022/08/VULU.jpg
END:VEVENT
BEGIN:VEVENT
DTSTART;TZID=Europe/London:20220825T190000
DTEND;TZID=Europe/London:20220825T200000
DTSTAMP:20260423T103622
CREATED:20220803T083945Z
LAST-MODIFIED:20220803T083945Z
UID:109843-1661454000-1661457600@www.discovernorthampton.co.uk
SUMMARY:Spanish Wine - Masterclass
DESCRIPTION:Spanish wine Masterclass
URL:https://www.discovernorthampton.co.uk/event/spanish-wine-masterclass/
LOCATION:VnB\, 10 St Giles' Square\, Northampton\, Northamptonshire\, NN1 1DA\, United Kingdom
CATEGORIES:Masterclass
ATTACH;FMTTYPE=image/jpeg:https://www.discovernorthampton.co.uk/wp-content/uploads/2022/08/grwag.jpg
END:VEVENT
BEGIN:VEVENT
DTSTART;VALUE=DATE:20220826
DTEND;VALUE=DATE:20220827
DTSTAMP:20260423T103622
CREATED:20220510T101342Z
LAST-MODIFIED:20220510T101342Z
UID:108556-1661472000-1661558399@www.discovernorthampton.co.uk
SUMMARY:Come to the Theatre
DESCRIPTION:Make puppet or toy theatre to put on your own show
URL:https://www.discovernorthampton.co.uk/event/come-to-the-theatre/
LOCATION:Northampton Museum And Art Gallery\, 4-6 Guildhall Rd\,\, Northampton\, Northamptonshire\, NN1 1DP\, United Kingdom
CATEGORIES:Museum
ATTACH;FMTTYPE=image/png:https://www.discovernorthampton.co.uk/wp-content/uploads/2022/05/images.png
END:VEVENT
BEGIN:VEVENT
DTSTART;TZID=Europe/London:20220826T200000
DTEND;TZID=Europe/London:20220826T220000
DTSTAMP:20260423T103622
CREATED:20220804T083034Z
LAST-MODIFIED:20220804T083034Z
UID:109873-1661544000-1661551200@www.discovernorthampton.co.uk
SUMMARY:DJ Jazz Vibes
DESCRIPTION:DJ Jazz Vibes back with soulful Music! Enjoy Vibes. sip cocktails\, graze charcuterie
URL:https://www.discovernorthampton.co.uk/event/dj-jazz-vibes/
LOCATION:Saints Coffee\, 62 St Giles' St\, Northampton\, Northamptonshire\, NN1 1JW\, United Kingdom
CATEGORIES:DJ
ATTACH;FMTTYPE=image/jpeg:https://www.discovernorthampton.co.uk/wp-content/uploads/2022/08/2021-02-01_19-36-01_1612208205.jpg
END:VEVENT
BEGIN:VEVENT
DTSTART;TZID=Europe/London:20220826T210000
DTEND;TZID=Europe/London:20220826T230000
DTSTAMP:20260423T103622
CREATED:20220721T084206Z
LAST-MODIFIED:20220721T084206Z
UID:109491-1661547600-1661554800@www.discovernorthampton.co.uk
SUMMARY:Soul and Motown night with Sean Connolly
DESCRIPTION:Sean Connolly Live on Stage performing a Soul and Motown set at Retro Bar
URL:https://www.discovernorthampton.co.uk/event/soul-and-motown-night-with-sean-connolly/
LOCATION:Retro Bar\, 16 Bridge St\, Northampton\, Northants\, NN1 1NW\, United Kingdom
CATEGORIES:Club
ATTACH;FMTTYPE=image/png:https://www.discovernorthampton.co.uk/wp-content/uploads/2022/07/poster_2022-07-15-050743.png
END:VEVENT
BEGIN:VEVENT
DTSTART;VALUE=DATE:20220827
DTEND;VALUE=DATE:20220828
DTSTAMP:20260423T103622
CREATED:20220804T083634Z
LAST-MODIFIED:20220804T083634Z
UID:109875-1661558400-1661644799@www.discovernorthampton.co.uk
SUMMARY:Live Music at Saints Coffee
DESCRIPTION:Live Music with @Tukayandryan
URL:https://www.discovernorthampton.co.uk/event/live-music-at-saints-coffee/
LOCATION:Saints Coffee\, 62 St Giles' St\, Northampton\, Northamptonshire\, NN1 1JW\, United Kingdom
CATEGORIES:Event
ATTACH;FMTTYPE=image/jpeg:https://www.discovernorthampton.co.uk/wp-content/uploads/2022/08/2021-02-01_19-36-01_1612208205.jpg
END:VEVENT
BEGIN:VEVENT
DTSTART;TZID=Europe/London:20220827T200000
DTEND;TZID=Europe/London:20220827T235900
DTSTAMP:20260423T103622
CREATED:20220621T083443Z
LAST-MODIFIED:20220621T083443Z
UID:109056-1661630400-1661644740@www.discovernorthampton.co.uk
SUMMARY:Martin Kemp ‘Back to the 80’s’ DJ set – The Roadmender
DESCRIPTION:Martin Kemp returns to the Roadmender Northampton on August 27th\, 2022 transporting us back to the 80s with another electrifying DJ Set! \nWe just couldnâ€™t help ourselves in doing it againâ€¦  So dust off your sweatbands\, leg warmers & double denim for the ULTIMATE 80s PARTY! Nonstop nostalgia\, throwback belters!
URL:https://www.discovernorthampton.co.uk/event/martin-kemp-back-to-the-80s-dj-set-the-roadmender/
LOCATION:Roadmender\, 1 Lady's Ln\, Northampton\, Northamptonshire\, NN1 3AH\, United Kingdom
CATEGORIES:Concert
ATTACH;FMTTYPE=image/png:https://www.discovernorthampton.co.uk/wp-content/uploads/2022/06/Square-540x540-1.png
END:VEVENT
BEGIN:VEVENT
DTSTART;VALUE=DATE:20220828
DTEND;VALUE=DATE:20220829
DTSTAMP:20260423T103622
CREATED:20220803T085025Z
LAST-MODIFIED:20220803T151820Z
UID:109846-1661644800-1661731199@www.discovernorthampton.co.uk
SUMMARY:Screen Northants 48hr Film Challenge
DESCRIPTION:Weâ€™ll be ending the month on a high with the return of screen northants and their 48hr film challenge
URL:https://www.discovernorthampton.co.uk/event/screen-northants-48hr-film-challenge/
LOCATION:VnB\, 10 St Giles' Square\, Northampton\, Northamptonshire\, NN1 1DA\, United Kingdom
CATEGORIES:Event
ATTACH;FMTTYPE=image/jpeg:https://www.discovernorthampton.co.uk/wp-content/uploads/2022/08/regsrdg.jpg
END:VEVENT
BEGIN:VEVENT
DTSTART;TZID=Europe/London:20220828T110000
DTEND;TZID=Europe/London:20220828T130000
DTSTAMP:20260423T103622
CREATED:20220804T083944Z
LAST-MODIFIED:20220804T083944Z
UID:109877-1661684400-1661691600@www.discovernorthampton.co.uk
SUMMARY:Women's Walk And Talk
DESCRIPTION:Womenâ€™s Walk and Talk with @feellovedbysalma
URL:https://www.discovernorthampton.co.uk/event/womens-walk-and-talk-2/
LOCATION:Saints Coffee\, 62 St Giles' St\, Northampton\, Northamptonshire\, NN1 1JW\, United Kingdom
CATEGORIES:Event
ATTACH;FMTTYPE=image/jpeg:https://www.discovernorthampton.co.uk/wp-content/uploads/2022/08/2021-02-01_19-36-01_1612208205.jpg
END:VEVENT
BEGIN:VEVENT
DTSTART;TZID=Europe/London:20220828T190000
DTEND;TZID=Europe/London:20220828T230000
DTSTAMP:20260423T103622
CREATED:20220817T082645Z
LAST-MODIFIED:20220817T082645Z
UID:110131-1661713200-1661727600@www.discovernorthampton.co.uk
SUMMARY:WALL GAMES AFTER PARTY – The Roadmender
DESCRIPTION:
URL:https://www.discovernorthampton.co.uk/event/wall-games-after-party-the-roadmender/
LOCATION:Roadmender\, 1 Lady's Ln\, Northampton\, Northamptonshire\, NN1 3AH\, United Kingdom
CATEGORIES:Concert
ATTACH;FMTTYPE=image/jpeg:https://www.discovernorthampton.co.uk/wp-content/uploads/2022/08/WallGamesAfterParty-Flyer.jpg
END:VEVENT
END:VCALENDAR