BEGIN:VCALENDAR
VERSION:2.0
PRODID:-//Northampton BID - ECPv6.2.4//NONSGML v1.0//EN
CALSCALE:GREGORIAN
METHOD:PUBLISH
X-WR-CALNAME:Northampton BID
X-ORIGINAL-URL:https://www.discovernorthampton.co.uk
X-WR-CALDESC:Events for Northampton BID
REFRESH-INTERVAL;VALUE=DURATION:PT1H
X-Robots-Tag:noindex
X-PUBLISHED-TTL:PT1H
BEGIN:VTIMEZONE
TZID:Europe/London
BEGIN:DAYLIGHT
TZOFFSETFROM:+0000
TZOFFSETTO:+0100
TZNAME:BST
DTSTART:20250330T010000
END:DAYLIGHT
BEGIN:STANDARD
TZOFFSETFROM:+0100
TZOFFSETTO:+0000
TZNAME:GMT
DTSTART:20251026T010000
END:STANDARD
END:VTIMEZONE
BEGIN:VEVENT
DTSTART;TZID=Europe/London:20250504T080000
DTEND;TZID=Europe/London:20250504T080000
DTSTAMP:20260425T233559
CREATED:20250227T115811Z
LAST-MODIFIED:20250227T115811Z
UID:123862-1746345600-1746345600@www.discovernorthampton.co.uk
SUMMARY:Join the 360° Wellness Run Club!
DESCRIPTION:Looking to stay active\, meet like-minded people\, and enjoy the benefits of running? 360° Wellness Run Club meets every Sunday at 8am\, welcoming runners of all ages and levels. Whether youâ€™re a beginner or a seasoned athlete\, youâ€™re invited to join our supportive community! \nWe start and finish at 360° Wellness HQ\, 73 St Gilesâ€™ Street\, NN1 1JF- a boutique wellness centre in the heart of Northampton. Plus\, our sister company\, St Giles Physiotherapy Clinic (38 York Road\, NN1 5QJ)\, is here to help runners stay injury-free and prepare for events. \nCome run with us and be part of something bigger!
URL:https://www.discovernorthampton.co.uk/event/join-the-360-wellness-run-club/2025-05-04/
LOCATION:360 Wellness\, 73 St Giles Street Northampton\, NN1 1JF
CATEGORIES:Run Club
ATTACH;FMTTYPE=image/jpeg:https://www.discovernorthampton.co.uk/wp-content/uploads/2025/02/360°-Wellness-Run-Club-scaled.jpg
ORGANIZER;CN="360 Wellness":MAILTO:info@360wellnessgroup.co.uk
END:VEVENT
BEGIN:VEVENT
DTSTART;TZID=Europe/London:20250427T080000
DTEND;TZID=Europe/London:20250427T080000
DTSTAMP:20260425T233559
CREATED:20250227T115811Z
LAST-MODIFIED:20250227T115811Z
UID:123861-1745740800-1745740800@www.discovernorthampton.co.uk
SUMMARY:Join the 360° Wellness Run Club!
DESCRIPTION:Looking to stay active\, meet like-minded people\, and enjoy the benefits of running? 360° Wellness Run Club meets every Sunday at 8am\, welcoming runners of all ages and levels. Whether youâ€™re a beginner or a seasoned athlete\, youâ€™re invited to join our supportive community! \nWe start and finish at 360° Wellness HQ\, 73 St Gilesâ€™ Street\, NN1 1JF- a boutique wellness centre in the heart of Northampton. Plus\, our sister company\, St Giles Physiotherapy Clinic (38 York Road\, NN1 5QJ)\, is here to help runners stay injury-free and prepare for events. \nCome run with us and be part of something bigger!
URL:https://www.discovernorthampton.co.uk/event/join-the-360-wellness-run-club/2025-04-27/
LOCATION:360 Wellness\, 73 St Giles Street Northampton\, NN1 1JF
CATEGORIES:Run Club
ATTACH;FMTTYPE=image/jpeg:https://www.discovernorthampton.co.uk/wp-content/uploads/2025/02/360°-Wellness-Run-Club-scaled.jpg
ORGANIZER;CN="360 Wellness":MAILTO:info@360wellnessgroup.co.uk
END:VEVENT
BEGIN:VEVENT
DTSTART;TZID=Europe/London:20250420T080000
DTEND;TZID=Europe/London:20250420T080000
DTSTAMP:20260425T233559
CREATED:20250227T115811Z
LAST-MODIFIED:20250227T115811Z
UID:123860-1745136000-1745136000@www.discovernorthampton.co.uk
SUMMARY:Join the 360° Wellness Run Club!
DESCRIPTION:Looking to stay active\, meet like-minded people\, and enjoy the benefits of running? 360° Wellness Run Club meets every Sunday at 8am\, welcoming runners of all ages and levels. Whether youâ€™re a beginner or a seasoned athlete\, youâ€™re invited to join our supportive community! \nWe start and finish at 360° Wellness HQ\, 73 St Gilesâ€™ Street\, NN1 1JF- a boutique wellness centre in the heart of Northampton. Plus\, our sister company\, St Giles Physiotherapy Clinic (38 York Road\, NN1 5QJ)\, is here to help runners stay injury-free and prepare for events. \nCome run with us and be part of something bigger!
URL:https://www.discovernorthampton.co.uk/event/join-the-360-wellness-run-club/2025-04-20/
LOCATION:360 Wellness\, 73 St Giles Street Northampton\, NN1 1JF
CATEGORIES:Run Club
ATTACH;FMTTYPE=image/jpeg:https://www.discovernorthampton.co.uk/wp-content/uploads/2025/02/360°-Wellness-Run-Club-scaled.jpg
ORGANIZER;CN="360 Wellness":MAILTO:info@360wellnessgroup.co.uk
END:VEVENT
BEGIN:VEVENT
DTSTART;TZID=Europe/London:20250413T080000
DTEND;TZID=Europe/London:20250413T080000
DTSTAMP:20260425T233559
CREATED:20250227T115811Z
LAST-MODIFIED:20250227T115811Z
UID:123859-1744531200-1744531200@www.discovernorthampton.co.uk
SUMMARY:Join the 360° Wellness Run Club!
DESCRIPTION:Looking to stay active\, meet like-minded people\, and enjoy the benefits of running? 360° Wellness Run Club meets every Sunday at 8am\, welcoming runners of all ages and levels. Whether youâ€™re a beginner or a seasoned athlete\, youâ€™re invited to join our supportive community! \nWe start and finish at 360° Wellness HQ\, 73 St Gilesâ€™ Street\, NN1 1JF- a boutique wellness centre in the heart of Northampton. Plus\, our sister company\, St Giles Physiotherapy Clinic (38 York Road\, NN1 5QJ)\, is here to help runners stay injury-free and prepare for events. \nCome run with us and be part of something bigger!
URL:https://www.discovernorthampton.co.uk/event/join-the-360-wellness-run-club/2025-04-13/
LOCATION:360 Wellness\, 73 St Giles Street Northampton\, NN1 1JF
CATEGORIES:Run Club
ATTACH;FMTTYPE=image/jpeg:https://www.discovernorthampton.co.uk/wp-content/uploads/2025/02/360°-Wellness-Run-Club-scaled.jpg
ORGANIZER;CN="360 Wellness":MAILTO:info@360wellnessgroup.co.uk
END:VEVENT
BEGIN:VEVENT
DTSTART;TZID=Europe/London:20250406T080000
DTEND;TZID=Europe/London:20250406T080000
DTSTAMP:20260425T233559
CREATED:20250227T115811Z
LAST-MODIFIED:20250227T115811Z
UID:123858-1743926400-1743926400@www.discovernorthampton.co.uk
SUMMARY:Join the 360° Wellness Run Club!
DESCRIPTION:Looking to stay active\, meet like-minded people\, and enjoy the benefits of running? 360° Wellness Run Club meets every Sunday at 8am\, welcoming runners of all ages and levels. Whether youâ€™re a beginner or a seasoned athlete\, youâ€™re invited to join our supportive community! \nWe start and finish at 360° Wellness HQ\, 73 St Gilesâ€™ Street\, NN1 1JF- a boutique wellness centre in the heart of Northampton. Plus\, our sister company\, St Giles Physiotherapy Clinic (38 York Road\, NN1 5QJ)\, is here to help runners stay injury-free and prepare for events. \nCome run with us and be part of something bigger!
URL:https://www.discovernorthampton.co.uk/event/join-the-360-wellness-run-club/2025-04-06/
LOCATION:360 Wellness\, 73 St Giles Street Northampton\, NN1 1JF
CATEGORIES:Run Club
ATTACH;FMTTYPE=image/jpeg:https://www.discovernorthampton.co.uk/wp-content/uploads/2025/02/360°-Wellness-Run-Club-scaled.jpg
ORGANIZER;CN="360 Wellness":MAILTO:info@360wellnessgroup.co.uk
END:VEVENT
BEGIN:VEVENT
DTSTART;TZID=Europe/London:20250330T080000
DTEND;TZID=Europe/London:20250330T080000
DTSTAMP:20260425T233559
CREATED:20250227T115811Z
LAST-MODIFIED:20250227T115811Z
UID:123857-1743321600-1743321600@www.discovernorthampton.co.uk
SUMMARY:Join the 360° Wellness Run Club!
DESCRIPTION:Looking to stay active\, meet like-minded people\, and enjoy the benefits of running? 360° Wellness Run Club meets every Sunday at 8am\, welcoming runners of all ages and levels. Whether youâ€™re a beginner or a seasoned athlete\, youâ€™re invited to join our supportive community! \nWe start and finish at 360° Wellness HQ\, 73 St Gilesâ€™ Street\, NN1 1JF- a boutique wellness centre in the heart of Northampton. Plus\, our sister company\, St Giles Physiotherapy Clinic (38 York Road\, NN1 5QJ)\, is here to help runners stay injury-free and prepare for events. \nCome run with us and be part of something bigger!
URL:https://www.discovernorthampton.co.uk/event/join-the-360-wellness-run-club/2025-03-30/
LOCATION:360 Wellness\, 73 St Giles Street Northampton\, NN1 1JF
CATEGORIES:Run Club
ATTACH;FMTTYPE=image/jpeg:https://www.discovernorthampton.co.uk/wp-content/uploads/2025/02/360°-Wellness-Run-Club-scaled.jpg
ORGANIZER;CN="360 Wellness":MAILTO:info@360wellnessgroup.co.uk
END:VEVENT
BEGIN:VEVENT
DTSTART;TZID=Europe/London:20250323T080000
DTEND;TZID=Europe/London:20250323T080000
DTSTAMP:20260425T233559
CREATED:20250227T115811Z
LAST-MODIFIED:20250227T115811Z
UID:123856-1742716800-1742716800@www.discovernorthampton.co.uk
SUMMARY:Join the 360° Wellness Run Club!
DESCRIPTION:Looking to stay active\, meet like-minded people\, and enjoy the benefits of running? 360° Wellness Run Club meets every Sunday at 8am\, welcoming runners of all ages and levels. Whether youâ€™re a beginner or a seasoned athlete\, youâ€™re invited to join our supportive community! \nWe start and finish at 360° Wellness HQ\, 73 St Gilesâ€™ Street\, NN1 1JF- a boutique wellness centre in the heart of Northampton. Plus\, our sister company\, St Giles Physiotherapy Clinic (38 York Road\, NN1 5QJ)\, is here to help runners stay injury-free and prepare for events. \nCome run with us and be part of something bigger!
URL:https://www.discovernorthampton.co.uk/event/join-the-360-wellness-run-club/2025-03-23/
LOCATION:360 Wellness\, 73 St Giles Street Northampton\, NN1 1JF
CATEGORIES:Run Club
ATTACH;FMTTYPE=image/jpeg:https://www.discovernorthampton.co.uk/wp-content/uploads/2025/02/360°-Wellness-Run-Club-scaled.jpg
ORGANIZER;CN="360 Wellness":MAILTO:info@360wellnessgroup.co.uk
END:VEVENT
BEGIN:VEVENT
DTSTART;TZID=Europe/London:20250316T080000
DTEND;TZID=Europe/London:20250316T080000
DTSTAMP:20260425T233559
CREATED:20250227T115811Z
LAST-MODIFIED:20250227T115811Z
UID:123855-1742112000-1742112000@www.discovernorthampton.co.uk
SUMMARY:Join the 360° Wellness Run Club!
DESCRIPTION:Looking to stay active\, meet like-minded people\, and enjoy the benefits of running? 360° Wellness Run Club meets every Sunday at 8am\, welcoming runners of all ages and levels. Whether youâ€™re a beginner or a seasoned athlete\, youâ€™re invited to join our supportive community! \nWe start and finish at 360° Wellness HQ\, 73 St Gilesâ€™ Street\, NN1 1JF- a boutique wellness centre in the heart of Northampton. Plus\, our sister company\, St Giles Physiotherapy Clinic (38 York Road\, NN1 5QJ)\, is here to help runners stay injury-free and prepare for events. \nCome run with us and be part of something bigger!
URL:https://www.discovernorthampton.co.uk/event/join-the-360-wellness-run-club/2025-03-16/
LOCATION:360 Wellness\, 73 St Giles Street Northampton\, NN1 1JF
CATEGORIES:Run Club
ATTACH;FMTTYPE=image/jpeg:https://www.discovernorthampton.co.uk/wp-content/uploads/2025/02/360°-Wellness-Run-Club-scaled.jpg
ORGANIZER;CN="360 Wellness":MAILTO:info@360wellnessgroup.co.uk
END:VEVENT
BEGIN:VEVENT
DTSTART;TZID=Europe/London:20250309T080000
DTEND;TZID=Europe/London:20250309T080000
DTSTAMP:20260425T233559
CREATED:20250227T115811Z
LAST-MODIFIED:20250227T115811Z
UID:123854-1741507200-1741507200@www.discovernorthampton.co.uk
SUMMARY:Join the 360° Wellness Run Club!
DESCRIPTION:Looking to stay active\, meet like-minded people\, and enjoy the benefits of running? 360° Wellness Run Club meets every Sunday at 8am\, welcoming runners of all ages and levels. Whether youâ€™re a beginner or a seasoned athlete\, youâ€™re invited to join our supportive community! \nWe start and finish at 360° Wellness HQ\, 73 St Gilesâ€™ Street\, NN1 1JF- a boutique wellness centre in the heart of Northampton. Plus\, our sister company\, St Giles Physiotherapy Clinic (38 York Road\, NN1 5QJ)\, is here to help runners stay injury-free and prepare for events. \nCome run with us and be part of something bigger!
URL:https://www.discovernorthampton.co.uk/event/join-the-360-wellness-run-club/2025-03-09/
LOCATION:360 Wellness\, 73 St Giles Street Northampton\, NN1 1JF
CATEGORIES:Run Club
ATTACH;FMTTYPE=image/jpeg:https://www.discovernorthampton.co.uk/wp-content/uploads/2025/02/360°-Wellness-Run-Club-scaled.jpg
ORGANIZER;CN="360 Wellness":MAILTO:info@360wellnessgroup.co.uk
END:VEVENT
BEGIN:VEVENT
DTSTART;TZID=Europe/London:20250302T080000
DTEND;TZID=Europe/London:20250302T080000
DTSTAMP:20260425T233559
CREATED:20250227T115811Z
LAST-MODIFIED:20250227T115811Z
UID:123849-1740902400-1740902400@www.discovernorthampton.co.uk
SUMMARY:Join the 360° Wellness Run Club!
DESCRIPTION:Looking to stay active\, meet like-minded people\, and enjoy the benefits of running? 360° Wellness Run Club meets every Sunday at 8am\, welcoming runners of all ages and levels. Whether youâ€™re a beginner or a seasoned athlete\, youâ€™re invited to join our supportive community! \nWe start and finish at 360° Wellness HQ\, 73 St Gilesâ€™ Street\, NN1 1JF- a boutique wellness centre in the heart of Northampton. Plus\, our sister company\, St Giles Physiotherapy Clinic (38 York Road\, NN1 5QJ)\, is here to help runners stay injury-free and prepare for events. \nCome run with us and be part of something bigger!
URL:https://www.discovernorthampton.co.uk/event/join-the-360-wellness-run-club/2025-03-02/
LOCATION:360 Wellness\, 73 St Giles Street Northampton\, NN1 1JF
CATEGORIES:Run Club
ATTACH;FMTTYPE=image/jpeg:https://www.discovernorthampton.co.uk/wp-content/uploads/2025/02/360°-Wellness-Run-Club-scaled.jpg
ORGANIZER;CN="360 Wellness":MAILTO:info@360wellnessgroup.co.uk
END:VEVENT
END:VCALENDAR