BEGIN:VCALENDAR
VERSION:2.0
PRODID:-//Northampton BID - ECPv6.2.4//NONSGML v1.0//EN
CALSCALE:GREGORIAN
METHOD:PUBLISH
X-WR-CALNAME:Northampton BID
X-ORIGINAL-URL:https://www.discovernorthampton.co.uk
X-WR-CALDESC:Events for Northampton BID
REFRESH-INTERVAL;VALUE=DURATION:PT1H
X-Robots-Tag:noindex
X-PUBLISHED-TTL:PT1H
BEGIN:VTIMEZONE
TZID:Europe/London
BEGIN:DAYLIGHT
TZOFFSETFROM:+0000
TZOFFSETTO:+0100
TZNAME:BST
DTSTART:20250330T010000
END:DAYLIGHT
BEGIN:STANDARD
TZOFFSETFROM:+0100
TZOFFSETTO:+0000
TZNAME:GMT
DTSTART:20251026T010000
END:STANDARD
BEGIN:DAYLIGHT
TZOFFSETFROM:+0000
TZOFFSETTO:+0100
TZNAME:BST
DTSTART:20260329T010000
END:DAYLIGHT
BEGIN:STANDARD
TZOFFSETFROM:+0100
TZOFFSETTO:+0000
TZNAME:GMT
DTSTART:20261025T010000
END:STANDARD
END:VTIMEZONE
BEGIN:VEVENT
DTSTART;TZID=Europe/London:20260206T200000
DTEND;TZID=Europe/London:20260206T200000
DTSTAMP:20260425T154718
CREATED:20260206T145008Z
LAST-MODIFIED:20260206T145008Z
UID:134529-1770408000-1770408000@www.discovernorthampton.co.uk
SUMMARY:HOUSE TAKEOVER
DESCRIPTION:House & Garage\, at Plan B\, Northampton Free before 10:30 Â£5 on door from 10:30 More from midnight See you soon !
URL:https://www.discovernorthampton.co.uk/event/house-takeover/
LOCATION:club 43\, 43\, Gold Street\,\, Northampton\,\, NN1 1RA
CATEGORIES:MUSIC
ATTACH;FMTTYPE=image/png:https://www.discovernorthampton.co.uk/wp-content/uploads/2026/02/Screenshot-2026-02-06-144812.png
END:VEVENT
BEGIN:VEVENT
DTSTART;TZID=Europe/London:20250621T140000
DTEND;TZID=Europe/London:20250621T140000
DTSTAMP:20260425T154718
CREATED:20250503T110729Z
LAST-MODIFIED:20250503T110729Z
UID:126299-1750514400-1750514400@www.discovernorthampton.co.uk
SUMMARY:SoulStructure & Friends Presents - Soul Deep vs Smooth N Groove
DESCRIPTION:SoulStructure & Friends Presents â€“ Soul Deep vs Smooth N Groove. The series returns to the UK this summer with another solid lineup!\nFollowing October’s event in Baltimore\, USA. Soul Deep Vs Smooth N Groove return to the UK with a fully stacked lineup and a new format\, alongside our friends SoulStructure. \nWe are back at Club 43\, Northampton on Saturday 21st June\, proceedings will start at 2pm…Yes\, in the afternoon!! Running through till 1am. \nAs always\, we’ll be representing some of the very best DJs and vocal talents from across the worldwide drum & bass community. \nIt’s the perfect way to celebrate the summer solstice!! ?????? \n\n\n\n\n\n\n\nVillem â€“ Metal Headz / Hospital / Spearhead / Dispatch\nBlade â€“ Metal Headz / Dispatch / Soul Deep / Smooth N Groove\nConrad Subs â€“ Metal Headz / 31 Recordings / Soul Deep / Smooth N Groove\nMadcap â€“ Metal Headz / Dispatch / Creative Wax / Soul Deep / Smooth N Groove\nScott Allen â€“ Soul Deep / Goodlooking / JazzSticks / Smooth N Groove \nSoulStructure â€“ JazzSticks / Soul Deep / Smooth N Groove\nDash â€“ Soul Deep / Smooth N Groove / Default\nCon-Figure â€“ Soul Deep / Smooth N Groove / Default\nMystic Trip â€“ Flight Pattern / Sheer Velocity / Soul Deep / Smooth N Groove\nZero Gravity â€“ JazzSticks / Smooth N Groove \nAON â€“ Murmur / BBC introducing\nMissfortune â€“ Future Sounds Radio\nJoanna O -Turnstyle / 2Tuff DC / Frequency \nCarter â€“ Jazzsticks / Smooth N Groove / Soul Deep / Fokuz \nMC Longman\nRuthless MC\nMC Scott Free
URL:https://www.discovernorthampton.co.uk/event/soulstructure-friends-presents-soul-deep-vs-smooth-n-groove/
LOCATION:club 43\, 43\, Gold Street\,\, Northampton\,\, NN1 1RA
CATEGORIES:DJ,Event,MUSIC
ATTACH;FMTTYPE=image/png:https://www.discovernorthampton.co.uk/wp-content/uploads/2025/05/Screenshot-2025-05-03-120336.png
END:VEVENT
END:VCALENDAR