BEGIN:VCALENDAR
VERSION:2.0
PRODID:-//Northampton BID - ECPv6.2.4//NONSGML v1.0//EN
CALSCALE:GREGORIAN
METHOD:PUBLISH
X-ORIGINAL-URL:https://www.discovernorthampton.co.uk
X-WR-CALDESC:Events for Northampton BID
REFRESH-INTERVAL;VALUE=DURATION:PT1H
X-Robots-Tag:noindex
X-PUBLISHED-TTL:PT1H
BEGIN:VTIMEZONE
TZID:Europe/London
BEGIN:DAYLIGHT
TZOFFSETFROM:+0000
TZOFFSETTO:+0100
TZNAME:BST
DTSTART:20250330T010000
END:DAYLIGHT
BEGIN:STANDARD
TZOFFSETFROM:+0100
TZOFFSETTO:+0000
TZNAME:GMT
DTSTART:20251026T010000
END:STANDARD
BEGIN:DAYLIGHT
TZOFFSETFROM:+0000
TZOFFSETTO:+0100
TZNAME:BST
DTSTART:20260329T010000
END:DAYLIGHT
BEGIN:STANDARD
TZOFFSETFROM:+0100
TZOFFSETTO:+0000
TZNAME:GMT
DTSTART:20261025T010000
END:STANDARD
END:VTIMEZONE
BEGIN:VEVENT
DTSTART;TZID=Europe/London:20260403T200000
DTEND;TZID=Europe/London:20260403T200000
DTSTAMP:20260419T223037
CREATED:20260402T091750Z
LAST-MODIFIED:20260402T091750Z
UID:135586-1775246400-1775246400@www.discovernorthampton.co.uk
SUMMARY:Northampton Saints v Castres Olympique RO16
DESCRIPTION:Sale Dates and Times:\nPublic Onsale : Thu\, 12 Feb 2026 at 10:28 AM
URL:https://www.discovernorthampton.co.uk/event/northampton-saints-v-castres-olympique-ro16/
LOCATION:Franklin’s Gardens\, Weedon Rd\, Northampton\, Northamptonshire\, NN5 5BG\, United Kingdom
ATTACH;FMTTYPE=image/jpeg:https://www.discovernorthampton.co.uk/wp-content/uploads/2026/04/629309795_1367311738770713_5556037741051735436_n.jpg
END:VEVENT
BEGIN:VEVENT
DTSTART;TZID=Europe/London:20260321T150000
DTEND;TZID=Europe/London:20260321T150000
DTSTAMP:20260419T223037
CREATED:20260319T111339Z
LAST-MODIFIED:20260319T111339Z
UID:135172-1774105200-1774105200@www.discovernorthampton.co.uk
SUMMARY:Northampton Saints v Newcastle Red Bulls
DESCRIPTION:
URL:https://www.discovernorthampton.co.uk/event/northampton-saints-v-newcastle-red-bulls/
LOCATION:Franklin’s Gardens\, Weedon Rd\, Northampton\, Northamptonshire\, NN5 5BG\, United Kingdom
CATEGORIES:Rugby
ATTACH;FMTTYPE=image/jpeg:https://www.discovernorthampton.co.uk/wp-content/uploads/2026/03/634718458_1367311758770711_5805502840932003673_n.jpg
END:VEVENT
BEGIN:VEVENT
DTSTART;TZID=Europe/London:20260131T150500
DTEND;TZID=Europe/London:20260131T150500
DTSTAMP:20260419T223037
CREATED:20260116T120235Z
LAST-MODIFIED:20260116T120235Z
UID:133895-1769871900-1769871900@www.discovernorthampton.co.uk
SUMMARY:Northampton Saints vs Leicester Tigers
DESCRIPTION:
URL:https://www.discovernorthampton.co.uk/event/northampton-saints-vs-leicester-tigers-2/
LOCATION:Franklin’s Gardens\, Weedon Rd\, Northampton\, Northamptonshire\, NN5 5BG\, United Kingdom
CATEGORIES:Rugby
ATTACH;FMTTYPE=image/png:https://www.discovernorthampton.co.uk/wp-content/uploads/2026/01/download.png
END:VEVENT
BEGIN:VEVENT
DTSTART;TZID=Europe/London:20260118T151500
DTEND;TZID=Europe/London:20260118T151500
DTSTAMP:20260419T223037
CREATED:20260116T120009Z
LAST-MODIFIED:20260116T120009Z
UID:133892-1768749300-1768749300@www.discovernorthampton.co.uk
SUMMARY:Northampton Saints vs Scarlets
DESCRIPTION:
URL:https://www.discovernorthampton.co.uk/event/northampton-saints-vs-scarlets/
LOCATION:Franklin’s Gardens\, Weedon Rd\, Northampton\, Northamptonshire\, NN5 5BG\, United Kingdom
CATEGORIES:Rugby
ATTACH;FMTTYPE=image/png:https://www.discovernorthampton.co.uk/wp-content/uploads/2026/01/download.png
END:VEVENT
BEGIN:VEVENT
DTSTART;TZID=Europe/London:20251218T183000
DTEND;TZID=Europe/London:20251218T183000
DTSTAMP:20260419T223037
CREATED:20251218T134226Z
LAST-MODIFIED:20251218T134226Z
UID:133231-1766082600-1766082600@www.discovernorthampton.co.uk
SUMMARY:Women's Bookclub 18 Dec 2025
DESCRIPTION:Saints women’s book club! 🍹📚 \nCome on your own or with friends. All women are welcome! We meet every third Thursday of the month. Book talk\, cocktails\, wine\, coffee\, etc 📚🍷🍸🧀 \nTickets are £10 to attend\, the price of the ticket is fully redeemable against drinks purchased on the night. Contribute as much or as little to the book chat as you like\, we’d just love to have you there! For details of each month’s book\, please see Instagram and Facebook posts or direct message us on those platforms. Tickets are non-refundable. Looking forward to welcoming you to the book club! 🤍🤍🤍 \nMeet at 6:30\, settle in\, and discussions start at 7pm
URL:https://www.discovernorthampton.co.uk/event/womens-bookclub-18-dec-2025/
LOCATION:Saints Coffee\, 62 St Giles' St\, Northampton\, Northamptonshire\, NN1 1JW\, United Kingdom
CATEGORIES:Book Club
ATTACH;FMTTYPE=image/png:https://www.discovernorthampton.co.uk/wp-content/uploads/2025/12/Bookclub.png
END:VEVENT
BEGIN:VEVENT
DTSTART;TZID=Europe/London:20251024T194500
DTEND;TZID=Europe/London:20251024T194500
DTSTAMP:20260419T223037
CREATED:20251023T113155Z
LAST-MODIFIED:20251023T113155Z
UID:131436-1761335100-1761335100@www.discovernorthampton.co.uk
SUMMARY:Northampton Saints v Saracens
DESCRIPTION:
URL:https://www.discovernorthampton.co.uk/event/northampton-saints-v-saracens/
LOCATION:Franklin’s Gardens\, Weedon Rd\, Northampton\, Northamptonshire\, NN5 5BG\, United Kingdom
CATEGORIES:Rugby
ATTACH;FMTTYPE=image/jpeg:https://www.discovernorthampton.co.uk/wp-content/uploads/2025/10/559733224_1225014932983721_8398847823984014229_n-1.jpg
END:VEVENT
END:VCALENDAR