BEGIN:VCALENDAR
VERSION:2.0
PRODID:-//Northampton BID - ECPv6.2.4//NONSGML v1.0//EN
CALSCALE:GREGORIAN
METHOD:PUBLISH
X-WR-CALNAME:Northampton BID
X-ORIGINAL-URL:https://www.discovernorthampton.co.uk
X-WR-CALDESC:Events for Northampton BID
REFRESH-INTERVAL;VALUE=DURATION:PT1H
X-Robots-Tag:noindex
X-PUBLISHED-TTL:PT1H
BEGIN:VTIMEZONE
TZID:Europe/London
BEGIN:DAYLIGHT
TZOFFSETFROM:+0000
TZOFFSETTO:+0100
TZNAME:BST
DTSTART:20210328T010000
END:DAYLIGHT
BEGIN:STANDARD
TZOFFSETFROM:+0100
TZOFFSETTO:+0000
TZNAME:GMT
DTSTART:20211031T010000
END:STANDARD
BEGIN:DAYLIGHT
TZOFFSETFROM:+0000
TZOFFSETTO:+0100
TZNAME:BST
DTSTART:20220327T010000
END:DAYLIGHT
BEGIN:STANDARD
TZOFFSETFROM:+0100
TZOFFSETTO:+0000
TZNAME:GMT
DTSTART:20221030T010000
END:STANDARD
END:VTIMEZONE
BEGIN:VEVENT
DTSTART;TZID=Europe/London:20221217T110000
DTEND;TZID=Europe/London:20221217T130000
DTSTAMP:20260420T124433
CREATED:20221215T110820Z
LAST-MODIFIED:20221215T110820Z
UID:111887-1671274800-1671282000@www.discovernorthampton.co.uk
SUMMARY:Festive Sing-Along
DESCRIPTION:On Saturday 17 December\, we have teamed up with V and B on St Giles Square to host a festive sing-along around the Christmas tree. \nFrom 11am â€“ 4pm there will be performances from carol singers and local musicians – the perfect backdrop to your Christmas shopping on the last Saturday before the big day! \nFestive Line Up COMING SOON! \nKeep your eyes peeled for Santaâ€™s mischievous elves! â€˜Elves with Altitudeâ€™\, Vince Pie and Russell Sprout are on a very special mission â€“ to spread the gift of laughter with their â€˜Rudolphâ€™ upgrade biplanes (Rudolph the red-nosed plane-deer!) Checking whether youâ€™ve been naughty or nice (or borderline!)\, the magical â€˜Good-o-Meterâ€™ Elves will be joining in the festivities too ticking off their list for Santa.
URL:https://www.discovernorthampton.co.uk/event/festive-sing-along/
LOCATION:VnB\, 10 St Giles' Square\, Northampton\, Northamptonshire\, NN1 1DA\, United Kingdom
CATEGORIES:Christmas
ATTACH;FMTTYPE=image/webp:https://www.discovernorthampton.co.uk/wp-content/uploads/2022/12/medium-2.webp
END:VEVENT
BEGIN:VEVENT
DTSTART;TZID=Europe/London:20220626T110000
DTEND;TZID=Europe/London:20220626T160000
DTSTAMP:20260420T124433
CREATED:20220519T123645Z
LAST-MODIFIED:20220607T102319Z
UID:108681-1656241200-1656259200@www.discovernorthampton.co.uk
SUMMARY:Northampton Pride Parade
DESCRIPTION:Northampton Pride takes place on Sunday the 26th June 2022. \nTaking place between 11am and 4pm\, the event is organised by Northampton’s LGBTQ and Allies Forum and aims to highlight the LGBTQ+ community\, businesses and support organisations. Previous celebrations have seen organisations such as Q Space\, The Lowdown\, Outlaws and Kinky Boots\, Northampton Leisure Trust and Northamptonshire Healthcare NHS Foundation Trust taking part by holding pop-up shops. \nLocal bands\, performers\, small businesses and community groups who would like the opportunity to take part in this year’s Northampton Pride can contact them on forums.nbc@westnorthants.gov.uk. \nSponsorship opportunities are available to anyone who wants to support the event\, for details please email aimee.luck@westnorthants.gov.uk. Closing date for sponsorship applications is Sunday 10 April 2022. \nParade\nThe Pride Parade will take place as part of this year’s event\, starting and ending at the Market Square from 11am\, where live performances will also be held. \nFestival\nHeld at Market Square
URL:https://www.discovernorthampton.co.uk/event/northampton-pride-parade/
LOCATION:town centre
CATEGORIES:Festival
ATTACH;FMTTYPE=image/jpeg:https://www.discovernorthampton.co.uk/wp-content/uploads/2022/05/283657666_321254443529386_6005682046329919973_n.jpg
END:VEVENT
BEGIN:VEVENT
DTSTART;VALUE=DATE:20220609
DTEND;VALUE=DATE:20220610
DTSTAMP:20260420T124433
CREATED:20220519T130138Z
LAST-MODIFIED:20220519T130138Z
UID:108684-1654732800-1654819199@www.discovernorthampton.co.uk
SUMMARY:Becket's Pride Colour Run
DESCRIPTION:Pride Colour Run at becketâ€™s park for a fun day out celebrating pride
URL:https://www.discovernorthampton.co.uk/event/beckets-pride-colour-run/
LOCATION:Becketâ€™s Park\, Northampton\, NN1 5BB
CATEGORIES:Northampton Pride
ATTACH;FMTTYPE=image/webp:https://www.discovernorthampton.co.uk/wp-content/uploads/2022/05/w3xrmghsjsv0x2yenqeq-1.webp
END:VEVENT
BEGIN:VEVENT
DTSTART;TZID=Europe/London:20211106T163000
DTEND;TZID=Europe/London:20211106T200000
DTSTAMP:20260420T124433
CREATED:20211106T185707Z
LAST-MODIFIED:20211106T185707Z
UID:106103-1636216200-1636228800@www.discovernorthampton.co.uk
SUMMARY:Northampton's Annual Firework Display
DESCRIPTION:Join Northampton Town Council for their annual Firework Display this Bonfire Night\, this Saturday 6th November 2021\, at The Racecourse. With childrenâ€™s entertainments and food concessions from 4:30pm before a spectacular firework display from 6:00pm. Free Entry. \nParking is available in the nearby council carpark on St Michaels Road.
URL:https://www.discovernorthampton.co.uk/event/northamptons-annual-firework-display/
ATTACH;FMTTYPE=image/png:https://www.discovernorthampton.co.uk/wp-content/uploads/2021/11/Fireworks.png
END:VEVENT
END:VCALENDAR