BEGIN:VCALENDAR
VERSION:2.0
PRODID:-//Northampton BID - ECPv6.2.4//NONSGML v1.0//EN
CALSCALE:GREGORIAN
METHOD:PUBLISH
X-WR-CALNAME:Northampton BID
X-ORIGINAL-URL:https://www.discovernorthampton.co.uk
X-WR-CALDESC:Events for Northampton BID
REFRESH-INTERVAL;VALUE=DURATION:PT1H
X-Robots-Tag:noindex
X-PUBLISHED-TTL:PT1H
BEGIN:VTIMEZONE
TZID:Europe/London
BEGIN:DAYLIGHT
TZOFFSETFROM:+0000
TZOFFSETTO:+0100
TZNAME:BST
DTSTART:20230326T010000
END:DAYLIGHT
BEGIN:STANDARD
TZOFFSETFROM:+0100
TZOFFSETTO:+0000
TZNAME:GMT
DTSTART:20231029T010000
END:STANDARD
END:VTIMEZONE
BEGIN:VEVENT
DTSTART;TZID=Europe/London:20231123T190000
DTEND;TZID=Europe/London:20231123T220000
DTSTAMP:20260423T055852
CREATED:20231101T134459Z
LAST-MODIFIED:20231101T134459Z
UID:116720-1700766000-1700776800@www.discovernorthampton.co.uk
SUMMARY:OZRIC TENTACLES & GONG
DESCRIPTION:OZRIC TENTACLES FULL BAND\nOZRIC TENTACLES ARE REGARDED AS ONE OF THE MOST INFLUENTIAL BANDS TO EMERGE FROM THE UK’S FESTIVAL SCENE\, FORMED DURING THE SOLSTICE AT STONEHENGE FREE FESTIVAL 1983 GOING ON TO BECOME PSYCHEDELIC STAPLES AT GLASTONBURY AND OTHER FESTIVALS. THE CREATIVE VISION OF MULTI-INSTRUMENTALIST ED WYNNE\, THE OZRICS’ UNIQUELY TRIPPY SOUNDSCAPES CONNECT FANS OF PROGRESSIVE ROCK\, PSYCHEDELIA AND DANCE MUSIC CULTURE. AFTER A PROLONGED HIATUS THE BAND RELEASED THE 2020 ALBUM SPACE FOR THE EARTH (K-SCOPE). \nOZRICS BANDLEADER ED WYNNE IS PARTICULARLY LOOKING FORWARD TO THE TOUR: “I RECENTLY TOURED WITH SILAS WYNNE AS AN ELECTRONIC VERSION OF THE BAND\, BUT THE OPPORTUNITY TO PUT TOGETHER A FULL LIVE AGAIN BAND AFTER SUCH A LONG HIATUS IS BOTH DAUNTING AND EXHILARATING. ONE THING’S FOR SURE THOUGH\, THIS TOUR WILL BE AN AMAZING EXPERIENCE TO SHARE WITH ALL OUR FANS.”
URL:https://www.discovernorthampton.co.uk/event/ozric-tentacles-gong/
LOCATION:Roadmender\, 1 Lady's Ln\, Northampton\, Northamptonshire\, NN1 3AH\, United Kingdom
ATTACH;FMTTYPE=image/jpeg:https://www.discovernorthampton.co.uk/wp-content/uploads/2023/11/Ozrics-Gong-Square-copy-540x540-1.jpg
END:VEVENT
BEGIN:VEVENT
DTSTART;TZID=Europe/London:20231111T193000
DTEND;TZID=Europe/London:20231111T223000
DTSTAMP:20260423T055852
CREATED:20231101T134301Z
LAST-MODIFIED:20231101T134301Z
UID:116717-1699731000-1699741800@www.discovernorthampton.co.uk
SUMMARY:HEAVEN 17
DESCRIPTION:UK TOUR NOVEMBER 2023 \nHEAVEN 17 HAVE TODAY ANNOUNCED A VERY SPECIAL UK TOUR TO PERFORM THEIR CELEBRATED AND ACCLAIMED 1983 ALBUM THE LUXURY GAP CULMINATING WITH A HOMETOWN SHOW AT SHEFFIELD O2 ACADEMY ON SATURDAY 18TH NOVEMBER. \nHAILING FROM SHEFFIELD\, HEAVEN 17 ARE ONE OF THE MOST IMPORTANT BRITISH POST-PUNK BANDS.  HEAVEN 17’S 2ND ALBUM ‘THE LUXURY GAP’ IN 1983 WAS THE MOMENT WHEN EVERYTHING JUST CLICKED INTO PLACE TO OVERWHELMING EFFECT. IT UNDOUBTEDLY BECAME A POP MASTERPIECE.
URL:https://www.discovernorthampton.co.uk/event/heaven-17/
LOCATION:Roadmender\, 1 Lady's Ln\, Northampton\, Northamptonshire\, NN1 3AH\, United Kingdom
ATTACH;FMTTYPE=image/jpeg:https://www.discovernorthampton.co.uk/wp-content/uploads/2023/11/H17_2023_1200x1200_NATIONAL_01-540x540-1-1.jpg
END:VEVENT
BEGIN:VEVENT
DTSTART;TZID=Europe/London:20231110T190000
DTEND;TZID=Europe/London:20231110T220000
DTSTAMP:20260423T055852
CREATED:20231101T133947Z
LAST-MODIFIED:20231101T133947Z
UID:116714-1699642800-1699653600@www.discovernorthampton.co.uk
SUMMARY:EMBRACE
DESCRIPTION:CELEBRATE THE 25TH ANNIVERSARY OF THEIR DEBUT ALBUMThe Good Will OutWITH A 13-DATE UK TOUR IN NOVEMBER\, PLAYING THEIR SEMINAL ALBUM IN FULL\, ALONG WITH THEIR GREATEST HITS. \nTHE TOUR FOLLOWS ON FROM THE BAND’S MASSIVE SOLD-OUT HOMETOWN SHOW IN FRONT OF 6\,000 FANS AT HALIFAX PIECE HALL EARLIER THIS MONTH. \nRELEASED IN 1998\, THE GOOD WILL OUT BECAME ONE OF THE FASTEST SELLING DEBUT ALBUMS BY A BRITISH ARTIST\, CERTIFIED GOLD ON DAY OF RELEASE AND CHARTING AT NUMBER 1 IN THE UK ALBUM CHART. THE ALBUM ACHIEVED PLATINUM STATUS IN THE YEAR OF RELEASE AND HAS GONE ON TO SELL OVER HALF A MILLION COPIES IN THE UK ALONE.
URL:https://www.discovernorthampton.co.uk/event/embrace/
LOCATION:Roadmender\, 1 Lady's Ln\, Northampton\, Northamptonshire\, NN1 3AH\, United Kingdom
ATTACH;FMTTYPE=image/jpeg:https://www.discovernorthampton.co.uk/wp-content/uploads/2023/11/Embrace_SQ-540x540-1.jpg
END:VEVENT
BEGIN:VEVENT
DTSTART;TZID=Europe/London:20231109T190000
DTEND;TZID=Europe/London:20231109T220000
DTSTAMP:20260423T055852
CREATED:20231101T133602Z
LAST-MODIFIED:20231101T133602Z
UID:116711-1699556400-1699567200@www.discovernorthampton.co.uk
SUMMARY:ALABAMA 3
DESCRIPTION:
URL:https://www.discovernorthampton.co.uk/event/alabama-3/
LOCATION:Roadmender\, 1 Lady's Ln\, Northampton\, Northamptonshire\, NN1 3AH\, United Kingdom
ATTACH;FMTTYPE=image/jpeg:https://www.discovernorthampton.co.uk/wp-content/uploads/2023/11/1080-NH-Updated-540x540-1-1.jpg
END:VEVENT
BEGIN:VEVENT
DTSTART;TZID=Europe/London:20231103T220000
DTEND;TZID=Europe/London:20231103T235900
DTSTAMP:20260423T055852
CREATED:20231101T133433Z
LAST-MODIFIED:20231101T133433Z
UID:116708-1699048800-1699055940@www.discovernorthampton.co.uk
SUMMARY:Roni Size x LTJ Bukem
DESCRIPTION:
URL:https://www.discovernorthampton.co.uk/event/roni-size-x-ltj-bukem/
LOCATION:Roadmender\, 1 Lady's Ln\, Northampton\, Northamptonshire\, NN1 3AH\, United Kingdom
ATTACH;FMTTYPE=image/jpeg:https://www.discovernorthampton.co.uk/wp-content/uploads/2023/11/Bukem-and-Size-UK-tour-Insta_Tour-Dates-540x540-1.jpg
END:VEVENT
BEGIN:VEVENT
DTSTART;TZID=Europe/London:20231102T193000
DTEND;TZID=Europe/London:20231102T213000
DTSTAMP:20260423T055852
CREATED:20231101T133144Z
LAST-MODIFIED:20231101T133144Z
UID:116705-1698953400-1698960600@www.discovernorthampton.co.uk
SUMMARY:Mr.B The Gentleman Rhymer
DESCRIPTION:MR.B BEGAN HIS CHAP-HOP CAREER IN THE SUMMER OF 2007 HE INVENTED A NEW MUSICAL FORM.. \nSINCE THEN HE HAS TRAVELLED THE WORLD\, FROM SURREY TO OSAKA\, BANSTEAD TO BERLIN\, MIDDLESBROUGH TO MINNEAPOLIS\, NORWAY TO NEW YORK AND THE EDINBURGH FRINGE TO GLASTONBURY BRINGING HIS BEATS\, RHYMES AND MANNERS. AS WELL AS SONGS ABOUT CRICKET\, PIPE SMOKING\, HIGH SOCIETY AND INTERFERING WITH LIVESTOCK. \nMR.B HAS RECORDED 11 LONG PLAYERS\, HIS VIDEOS HAVE GARNERED MILLIONS OF VIEW ON YOUTUBE\, AND HIS MEDIA APPEARANCES HAVE INCLUDED RAPPING FOR JEREMY PAXMAN ON NEWSNIGHT\, PLAYING LIVE ON BBC RADIO ONE FOR ROB DA BANK\, NICK GRIMSHAW AND SCOTT MILLS\, ON RADIO TWO FOR CLAUDIA WINKLEMAN AND STEVE LAMACQ\, 6MUSIC FOR TOM ROBINSON AND SHAUN KEANVENY AND FOR ZOE BALL ON SKY ARTS. HE WAS ALSO ONCE THE FRONT PAGE OF THE WALL STREET JOURNAL AND WAS DESCRIBED BY THE DAILY MAIL AS ‘CONTROVERSIAL’.
URL:https://www.discovernorthampton.co.uk/event/mr-b-the-gentleman-rhymer/
LOCATION:Roadmender\, 1 Lady's Ln\, Northampton\, Northamptonshire\, NN1 3AH\, United Kingdom
ATTACH;FMTTYPE=image/jpeg:https://www.discovernorthampton.co.uk/wp-content/uploads/2023/11/Screenshot-2023-05-18-at-22.38.51-540x540-1.jpg
END:VEVENT
BEGIN:VEVENT
DTSTART;TZID=Europe/London:20231028T080000
DTEND;TZID=Europe/London:20231028T170000
DTSTAMP:20260423T055852
CREATED:20230926T105921Z
LAST-MODIFIED:20230926T105921Z
UID:115825-1698480000-1698512400@www.discovernorthampton.co.uk
SUMMARY:SHAM 69
DESCRIPTION:SHAM 69 WAS FORMED IN THE WORKING-CLASS COMMUNITY OF HERSHAM (IN SURREY) IN 1975 BY SINGER AND LYRICIST JIMMY PURSEY; THE NAME CAME FROM AN ANCIENT BIT OF GRAFFITI CELEBRATING A LOCAL FOOTBALL TEAM’S WINNING SEASON IN 1969. FROM THE START\, SHAM 69’S POLITICS WERE POPULIST\, AND THEIR SOUND ACCESSIBLE; STRAIGHT-AHEAD FOUR-SQUARE PUNK WITH A HARD ROCK INFLUENCE AND LYRICS THAT OFTEN USED SING-ALONG SLOGANS IN THEIR CHORUSES\, SUCH AS “IF THE KIDS ARE UNITED” AND “(GONNABE A) BORSTAL BREAKOUT.
URL:https://www.discovernorthampton.co.uk/event/sham-69/
LOCATION:Roadmender\, 1 Lady's Ln\, Northampton\, Northamptonshire\, NN1 3AH\, United Kingdom
ATTACH;FMTTYPE=image/jpeg:https://www.discovernorthampton.co.uk/wp-content/uploads/2023/09/Sham-Poster-1-540x540-1.jpeg
END:VEVENT
BEGIN:VEVENT
DTSTART;TZID=Europe/London:20231027T180000
DTEND;TZID=Europe/London:20231027T220000
DTSTAMP:20260423T055852
CREATED:20230926T105727Z
LAST-MODIFIED:20230926T105727Z
UID:115822-1698429600-1698444000@www.discovernorthampton.co.uk
SUMMARY:BINGO LOCO
DESCRIPTION:BINGO LOCO NORTHAMPTON\nBINGO LOCO IS COMING TO YOU AFTER SOLD OUT SHOWS IN DUBLIN / NEW YORK / SYDNEY / VANCOUVER + 200 OTHER DESTINATIONS AROUND THE WORLD.\nGEAR UP FOR A NIGHT OF BINGO MADNESS FEATURING HILARIOUS HOSTS\, DJS PLAYING THE BEST OF 90S/00 MUSIC\, CONFETTI SHOWERS\, DANCE OFFS\, LIP SYNC BATTLES AND INCREDIBLE PRIZES RANGING FROM INTERNATIONAL HOLIDAYS TO LAWNMOWERS.”\nLOCATION – ROADMENDER\nSHOW TIME: 6PM-10PM\nGET YOUR TICKETS BELOW! ?
URL:https://www.discovernorthampton.co.uk/event/bingo-loco-5/
LOCATION:Roadmender\, 1 Lady's Ln\, Northampton\, Northamptonshire\, NN1 3AH\, United Kingdom
ATTACH;FMTTYPE=image/jpeg:https://www.discovernorthampton.co.uk/wp-content/uploads/2023/09/Northampton-01-2-540x540-1.jpg
END:VEVENT
BEGIN:VEVENT
DTSTART;TZID=Europe/London:20231026T190000
DTEND;TZID=Europe/London:20231026T210000
DTSTAMP:20260423T055852
CREATED:20230926T105305Z
LAST-MODIFIED:20230926T105305Z
UID:115819-1698346800-1698354000@www.discovernorthampton.co.uk
SUMMARY:MADDOX JONES
DESCRIPTION:
URL:https://www.discovernorthampton.co.uk/event/maddox-jones/
LOCATION:Roadmender\, 1 Lady's Ln\, Northampton\, Northamptonshire\, NN1 3AH\, United Kingdom
ATTACH;FMTTYPE=image/jpeg:https://www.discovernorthampton.co.uk/wp-content/uploads/2023/09/Poster-540x540-1.jpg
END:VEVENT
BEGIN:VEVENT
DTSTART;TZID=Europe/London:20231020T220000
DTEND;TZID=Europe/London:20231020T235900
DTSTAMP:20260423T055852
CREATED:20230926T104927Z
LAST-MODIFIED:20230926T104927Z
UID:115816-1697839200-1697846340@www.discovernorthampton.co.uk
SUMMARY:SWIFTOGEDDON
DESCRIPTION:Swiftogeddon – The Taylor Swift Club Night \nA night dedicated to worshipping at the altar of Taylor Swift: non-stop Swifty all night: deep cuts\, extended mixes\, fan favourites and all the hits. \nDo you have a Blank Space in your diary? Then this night is Taylor-made for you! Join fellow fans in a celebration of the genius of the Swift – because she’ll never go out of Style.
URL:https://www.discovernorthampton.co.uk/event/swiftogeddon/
LOCATION:Roadmender\, 1 Lady's Ln\, Northampton\, Northamptonshire\, NN1 3AH\, United Kingdom
ATTACH;FMTTYPE=image/jpeg:https://www.discovernorthampton.co.uk/wp-content/uploads/2023/09/SwiftOct20NorthamptonPosterA-540x540-1.jpg
END:VEVENT
BEGIN:VEVENT
DTSTART;TZID=Europe/London:20231013T193000
DTEND;TZID=Europe/London:20231013T213000
DTSTAMP:20260423T055852
CREATED:20230926T104627Z
LAST-MODIFIED:20230926T104627Z
UID:115813-1697225400-1697232600@www.discovernorthampton.co.uk
SUMMARY:SARPA SALPA
DESCRIPTION:
URL:https://www.discovernorthampton.co.uk/event/sarpa-salpa/
LOCATION:Roadmender\, 1 Lady's Ln\, Northampton\, Northamptonshire\, NN1 3AH\, United Kingdom
ATTACH;FMTTYPE=image/jpeg:https://www.discovernorthampton.co.uk/wp-content/uploads/2023/09/SarpaSalpaFarewellPoster1x1_v2-540x540-1.jpg
END:VEVENT
BEGIN:VEVENT
DTSTART;TZID=Europe/London:20231007T220000
DTEND;TZID=Europe/London:20231007T235900
DTSTAMP:20260423T055852
CREATED:20230926T104238Z
LAST-MODIFIED:20230926T104238Z
UID:115810-1696716000-1696723140@www.discovernorthampton.co.uk
SUMMARY:KANINE
DESCRIPTION:
URL:https://www.discovernorthampton.co.uk/event/kanine/
LOCATION:Roadmender\, 1 Lady's Ln\, Northampton\, Northamptonshire\, NN1 3AH\, United Kingdom
ATTACH;FMTTYPE=image/jpeg:https://www.discovernorthampton.co.uk/wp-content/uploads/2023/09/Kanine_Northampton_071023_1x1-540x540-1.jpg
END:VEVENT
BEGIN:VEVENT
DTSTART;TZID=Europe/London:20231006T193000
DTEND;TZID=Europe/London:20231006T213000
DTSTAMP:20260423T055852
CREATED:20230926T103809Z
LAST-MODIFIED:20230926T103809Z
UID:115807-1696620600-1696627800@www.discovernorthampton.co.uk
SUMMARY:SKINDRED
DESCRIPTION:SKINDRED
URL:https://www.discovernorthampton.co.uk/event/skindred/
LOCATION:Roadmender\, 1 Lady's Ln\, Northampton\, Northamptonshire\, NN1 3AH\, United Kingdom
ATTACH;FMTTYPE=image/jpeg:https://www.discovernorthampton.co.uk/wp-content/uploads/2023/09/SKINDRED_SQUARE-540x540-1-1.jpg
END:VEVENT
BEGIN:VEVENT
DTSTART;TZID=Europe/London:20230930T150000
DTEND;TZID=Europe/London:20230930T220000
DTSTAMP:20260423T055852
CREATED:20230821T144953Z
LAST-MODIFIED:20230821T144953Z
UID:115285-1696086000-1696111200@www.discovernorthampton.co.uk
SUMMARY:WE CALL IT JUNGLE
DESCRIPTION:
URL:https://www.discovernorthampton.co.uk/event/we-call-it-jungle-2/
LOCATION:Roadmender\, 1 Lady's Ln\, Northampton\, Northamptonshire\, NN1 3AH\, United Kingdom
ATTACH;FMTTYPE=image/jpeg:https://www.discovernorthampton.co.uk/wp-content/uploads/2023/08/image0-540x540-1-1.jpg
END:VEVENT
BEGIN:VEVENT
DTSTART;TZID=Europe/London:20230929T190000
DTEND;TZID=Europe/London:20230929T223000
DTSTAMP:20260423T055852
CREATED:20230821T144744Z
LAST-MODIFIED:20230821T144744Z
UID:115281-1696014000-1696026600@www.discovernorthampton.co.uk
SUMMARY:LONDON CALLING
DESCRIPTION:LONDON CALLING PLAY THE 1978 ALBUM BY THE CLASH IN FULL TO CELEBRATE IT’S 45TH ANNIVERSARY.THE CLASH RELEASED THEIR ACCLAIMED SECOND ALBUM GIVE ‘EM ENOUGH ROPE IN 1978. IT WENT TO #2 IN THE UK CHARTS AND WAS THE FIRST ALBUM BY THE BAND TO BE RELEASED IN THE USA. SOUNDS MAGAZINE NAMED THE ALBUM AS THE ‘BEST ALBUM OF THE YEAR’. NME VOTED IT THE ’87TH GREATEST ALBUM OF ALL TIME’ RETROSPECTIVELY IN 1993.
URL:https://www.discovernorthampton.co.uk/event/london-calling/
LOCATION:Roadmender\, 1 Lady's Ln\, Northampton\, Northamptonshire\, NN1 3AH\, United Kingdom
ATTACH;FMTTYPE=image/jpeg:https://www.discovernorthampton.co.uk/wp-content/uploads/2023/08/London-Calling-540x540-1-1.jpg
END:VEVENT
BEGIN:VEVENT
DTSTART;TZID=Europe/London:20230923T193000
DTEND;TZID=Europe/London:20230923T223000
DTSTAMP:20260423T055852
CREATED:20230821T144418Z
LAST-MODIFIED:20230821T144418Z
UID:115278-1695497400-1695508200@www.discovernorthampton.co.uk
SUMMARY:FEROCIOUS DOG
DESCRIPTION:Ferocious DogARE A SIX-PIECE BAND\, WHO DEAL IN A VIBRANT VEIN OF CELTIC-FOLK INFUSED PUNK ROCK\, COMFORTABLY SLOTTING IN BETWEEN BILLY BRAGG AND THE LEVELLERS. HOWEVER\, LIKE THE LEVELLERS AND NEW MODEL ARMY (ALSO LISTED AS AN INFLUENCE)\, FEROCIOUS DOG HAVE A BROAD SPECTRUM OF INFLUENCES\, TIED TOGETHER BY THE BAND’S LEFT-LEANING CONVICTIONS AND A SHARED DESIRE TO COMMUNICATE THROUGH MUSIC.
URL:https://www.discovernorthampton.co.uk/event/ferocious-dog/
LOCATION:Roadmender\, 1 Lady's Ln\, Northampton\, Northamptonshire\, NN1 3AH\, United Kingdom
ATTACH;FMTTYPE=image/jpeg:https://www.discovernorthampton.co.uk/wp-content/uploads/2023/08/NORTHAMPTON-NEW-2023-540x540-1.jpg
END:VEVENT
BEGIN:VEVENT
DTSTART;TZID=Europe/London:20230916T190000
DTEND;TZID=Europe/London:20230916T223000
DTSTAMP:20260423T055852
CREATED:20230821T144006Z
LAST-MODIFIED:20230821T144006Z
UID:115275-1694890800-1694903400@www.discovernorthampton.co.uk
SUMMARY:Definitely Oasis vs The Complete Stone Roses
DESCRIPTION:JALP EVENTS PRESENTS \nDEFINITELY OASIS VS THE COMPLETE STONE ROSES \nPERFORM EXCLUSIVELY \nThe Debut Albums! Definitely Maybe vs The Stone Roses IN FULL
URL:https://www.discovernorthampton.co.uk/event/definitely-oasis-vs-the-complete-stone-roses/
LOCATION:Roadmender\, 1 Lady's Ln\, Northampton\, Northamptonshire\, NN1 3AH\, United Kingdom
ATTACH;FMTTYPE=image/png:https://www.discovernorthampton.co.uk/wp-content/uploads/2023/08/Square.png
END:VEVENT
BEGIN:VEVENT
DTSTART;TZID=Europe/London:20230915T190000
DTEND;TZID=Europe/London:20230915T223000
DTSTAMP:20260423T055852
CREATED:20230821T143756Z
LAST-MODIFIED:20230821T143756Z
UID:115272-1694804400-1694817000@www.discovernorthampton.co.uk
SUMMARY:TOM CLARKE
DESCRIPTION:Playing All The Classic Hits by The Enemy – Electro / Acoustic
URL:https://www.discovernorthampton.co.uk/event/tom-clarke/
LOCATION:Roadmender\, 1 Lady's Ln\, Northampton\, Northamptonshire\, NN1 3AH\, United Kingdom
ATTACH;FMTTYPE=image/jpeg:https://www.discovernorthampton.co.uk/wp-content/uploads/2023/08/Instagram-540x540-1.jpg
END:VEVENT
BEGIN:VEVENT
DTSTART;TZID=Europe/London:20230914T193000
DTEND;TZID=Europe/London:20230914T223000
DTSTAMP:20260423T055852
CREATED:20230821T143223Z
LAST-MODIFIED:20230821T143223Z
UID:115269-1694719800-1694730600@www.discovernorthampton.co.uk
SUMMARY:Brian Downey’s Alive and Dangerous
DESCRIPTION:BRIAN DOWNEY ON DRUMS NEEDS NO INTRODUCTION…… \nHAILING ORIGINALLY FROM DUBLIN\, BRIAN ENJOYED HIS FIRST TASTE OF SUCCESS IN IRELAND WITH THE TOP 20 HIT ‘MORNING DEW’ BEFORE FORMING ‘ORPHANAGE’ WITH PHIL LYNOTT.
URL:https://www.discovernorthampton.co.uk/event/brian-downeys-alive-and-dangerous/
LOCATION:Roadmender\, 1 Lady's Ln\, Northampton\, Northamptonshire\, NN1 3AH\, United Kingdom
ATTACH;FMTTYPE=image/png:https://www.discovernorthampton.co.uk/wp-content/uploads/2023/08/540x540.png
END:VEVENT
BEGIN:VEVENT
DTSTART;TZID=Europe/London:20230909T193000
DTEND;TZID=Europe/London:20230909T220000
DTSTAMP:20260423T055852
CREATED:20230821T142840Z
LAST-MODIFIED:20230821T142840Z
UID:115266-1694287800-1694296800@www.discovernorthampton.co.uk
SUMMARY:SANCTUM SANCTORIUM - The Darkside of the 80's
DESCRIPTION:FORMED THROUGH A MUTUAL LOVE OF 80’S GOTH AND ALTERNATIVE ROCK MUSIC.  SANCTUM SANTORIUM ARE A LIVE 6-PIECE BAND THAT FAITHFULLY RECREATE CLASSIC HITS BY ARTISTS SUCH ASThe Cult\, Killing Joke\, Sisters of Mercy\, Siouxsie & The Banshees\, The Cure\, Billy Idol\, Bauhaus
URL:https://www.discovernorthampton.co.uk/event/sanctum-sanctorium-the-darkside-of-the-80s/
LOCATION:Roadmender\, 1 Lady's Ln\, Northampton\, Northamptonshire\, NN1 3AH\, United Kingdom
ATTACH;FMTTYPE=image/jpeg:https://www.discovernorthampton.co.uk/wp-content/uploads/2023/08/cropped-image-540x540-1.jpg
END:VEVENT
BEGIN:VEVENT
DTSTART;TZID=Europe/London:20230811T190000
DTEND;TZID=Europe/London:20230811T223000
DTSTAMP:20260423T055852
CREATED:20230722T094516Z
LAST-MODIFIED:20230722T094516Z
UID:115039-1691780400-1691793000@www.discovernorthampton.co.uk
SUMMARY:Sex Pistols Expose
DESCRIPTION:
URL:https://www.discovernorthampton.co.uk/event/sex-pistols-expose/
LOCATION:Roadmender\, 1 Lady's Ln\, Northampton\, Northamptonshire\, NN1 3AH\, United Kingdom
ATTACH;FMTTYPE=image/jpeg:https://www.discovernorthampton.co.uk/wp-content/uploads/2023/07/540x540.jpg
END:VEVENT
BEGIN:VEVENT
DTSTART;TZID=Europe/London:20230811T190000
DTEND;TZID=Europe/London:20230811T223000
DTSTAMP:20260423T055852
CREATED:20230722T094251Z
LAST-MODIFIED:20230722T094251Z
UID:115036-1691780400-1691793000@www.discovernorthampton.co.uk
SUMMARY:HARBINGER
DESCRIPTION:
URL:https://www.discovernorthampton.co.uk/event/harbinger/
LOCATION:Roadmender\, 1 Lady's Ln\, Northampton\, Northamptonshire\, NN1 3AH\, United Kingdom
ATTACH;FMTTYPE=image/jpeg:https://www.discovernorthampton.co.uk/wp-content/uploads/2023/07/Image-2-540x540-1.jpg
END:VEVENT
BEGIN:VEVENT
DTSTART;TZID=Europe/London:20230810T193000
DTEND;TZID=Europe/London:20230810T223000
DTSTAMP:20260423T055852
CREATED:20230722T094007Z
LAST-MODIFIED:20230722T094007Z
UID:115033-1691695800-1691706600@www.discovernorthampton.co.uk
SUMMARY:SEETHING AKIRA
DESCRIPTION:
URL:https://www.discovernorthampton.co.uk/event/seething-akira/
LOCATION:Roadmender\, 1 Lady's Ln\, Northampton\, Northamptonshire\, NN1 3AH\, United Kingdom
ATTACH;FMTTYPE=image/jpeg:https://www.discovernorthampton.co.uk/wp-content/uploads/2023/07/SAxDaybreaker-Bloodstock-blank-540x540-1.jpg
END:VEVENT
BEGIN:VEVENT
DTSTART;TZID=Europe/London:20230728T190000
DTEND;TZID=Europe/London:20230728T223000
DTSTAMP:20260423T055852
CREATED:20230628T104247Z
LAST-MODIFIED:20230628T104247Z
UID:114761-1690570800-1690583400@www.discovernorthampton.co.uk
SUMMARY:THE WONDER STUFF
DESCRIPTION:
URL:https://www.discovernorthampton.co.uk/event/the-wonder-stuff/
LOCATION:Roadmender\, 1 Lady's Ln\, Northampton\, Northamptonshire\, NN1 3AH\, United Kingdom
ATTACH;FMTTYPE=image/jpeg:https://www.discovernorthampton.co.uk/wp-content/uploads/2023/06/The-Wonder-Stuff-Northampton-Insta-540X540.jpg
END:VEVENT
BEGIN:VEVENT
DTSTART;TZID=Europe/London:20230722T080000
DTEND;TZID=Europe/London:20230722T170000
DTSTAMP:20260423T055852
CREATED:20230722T095048Z
LAST-MODIFIED:20230722T095048Z
UID:115042-1690012800-1690045200@www.discovernorthampton.co.uk
SUMMARY:BINGO LOCO
DESCRIPTION:
URL:https://www.discovernorthampton.co.uk/event/bingo-loco-4/
LOCATION:Roadmender\, 1 Lady's Ln\, Northampton\, Northamptonshire\, NN1 3AH\, United Kingdom
ATTACH;FMTTYPE=image/jpeg:https://www.discovernorthampton.co.uk/wp-content/uploads/2023/07/Ad-Concept-insta-540x540-1.jpg
END:VEVENT
BEGIN:VEVENT
DTSTART;TZID=Europe/London:20230721T193000
DTEND;TZID=Europe/London:20230721T223000
DTSTAMP:20260423T055852
CREATED:20230628T102236Z
LAST-MODIFIED:20230628T102236Z
UID:114758-1689967800-1689978600@www.discovernorthampton.co.uk
SUMMARY:GLENN HUGHES PERFORMS CLASSIC DEEP PURPLE LIVE
DESCRIPTION:
URL:https://www.discovernorthampton.co.uk/event/glenn-hughes-performs-classic-deep-purple-live/
LOCATION:Roadmender\, 1 Lady's Ln\, Northampton\, Northamptonshire\, NN1 3AH\, United Kingdom
ATTACH;FMTTYPE=image/jpeg:https://www.discovernorthampton.co.uk/wp-content/uploads/2023/06/GHJULYSQ-540x540-1.jpg
END:VEVENT
BEGIN:VEVENT
DTSTART;TZID=Europe/London:20230720T190000
DTEND;TZID=Europe/London:20230720T223000
DTSTAMP:20260423T055852
CREATED:20230628T095054Z
LAST-MODIFIED:20230628T095054Z
UID:114755-1689879600-1689892200@www.discovernorthampton.co.uk
SUMMARY:JOHNNY MARR
DESCRIPTION:
URL:https://www.discovernorthampton.co.uk/event/johnny-marr/
LOCATION:Roadmender\, 1 Lady's Ln\, Northampton\, Northamptonshire\, NN1 3AH\, United Kingdom
ATTACH;FMTTYPE=image/jpeg:https://www.discovernorthampton.co.uk/wp-content/uploads/2023/06/JM-Sq2-540x540-1-1.jpg
END:VEVENT
BEGIN:VEVENT
DTSTART;TZID=Europe/London:20230708T190000
DTEND;TZID=Europe/London:20230708T230000
DTSTAMP:20260423T055852
CREATED:20230628T094757Z
LAST-MODIFIED:20230628T094757Z
UID:114752-1688842800-1688857200@www.discovernorthampton.co.uk
SUMMARY:ANTI!I & T1T4N
DESCRIPTION:
URL:https://www.discovernorthampton.co.uk/event/antii-t1t4n/
LOCATION:Roadmender\, 1 Lady's Ln\, Northampton\, Northamptonshire\, NN1 3AH\, United Kingdom
ATTACH;FMTTYPE=image/jpeg:https://www.discovernorthampton.co.uk/wp-content/uploads/2023/06/Square-540x540-1.jpg
END:VEVENT
BEGIN:VEVENT
DTSTART;TZID=Europe/London:20230701T210000
DTEND;TZID=Europe/London:20230701T230000
DTSTAMP:20260423T055852
CREATED:20230628T094057Z
LAST-MODIFIED:20230628T094057Z
UID:114749-1688245200-1688252400@www.discovernorthampton.co.uk
SUMMARY:Trevor Nelson Soul Nation-Soul/RnB Club Classics
DESCRIPTION:TREVOR NELSON HOLDS A CORNERSTONE IN UK MUSIC HISTORY WITH A CAREER THAT SPANS DECADES AND GENRES. LONDON NATIVE BEGAN ON THEN PIRATE RADIO STATION WHICH WE’VE COME TO KNOW AS KISS FM. NELSONS TOOK FANS THROUGH HIS COLLECTION OF SOUL\, R&B\, REGGAE AND DANCEHALL DAILY WITH HIS BBC RADIO 1 EXTRA STINT. NOW THAT HE’S MOVED TO ONLY PRESENTING ON SUNDAYS HE’S READY TO GRACE FANS WITH SOMETHING SPECIAL.
URL:https://www.discovernorthampton.co.uk/event/trevor-nelson-soul-nation-soul-rnb-club-classics/
LOCATION:Roadmender\, 1 Lady's Ln\, Northampton\, Northamptonshire\, NN1 3AH\, United Kingdom
ATTACH;FMTTYPE=image/jpeg:https://www.discovernorthampton.co.uk/wp-content/uploads/2023/06/Trevor-Nelson_-540x540-1.jpg
END:VEVENT
BEGIN:VEVENT
DTSTART;TZID=Europe/London:20230630T190000
DTEND;TZID=Europe/London:20230630T223000
DTSTAMP:20260423T055852
CREATED:20230601T105335Z
LAST-MODIFIED:20230601T105335Z
UID:114272-1688151600-1688164200@www.discovernorthampton.co.uk
SUMMARY:Kopycat Killers + Scam Fender & Subarctic Monkeys
DESCRIPTION:
URL:https://www.discovernorthampton.co.uk/event/kopycat-killers-scam-fender-subarctic-monkeys/
LOCATION:Roadmender\, 1 Lady's Ln\, Northampton\, Northamptonshire\, NN1 3AH\, United Kingdom
ATTACH;FMTTYPE=image/jpeg:https://www.discovernorthampton.co.uk/wp-content/uploads/2023/06/nton-triplersquare-540x540-1.jpg
END:VEVENT
END:VCALENDAR