BEGIN:VCALENDAR
VERSION:2.0
PRODID:-//Northampton BID - ECPv6.2.4//NONSGML v1.0//EN
CALSCALE:GREGORIAN
METHOD:PUBLISH
X-WR-CALNAME:Northampton BID
X-ORIGINAL-URL:https://www.discovernorthampton.co.uk
X-WR-CALDESC:Events for Northampton BID
REFRESH-INTERVAL;VALUE=DURATION:PT1H
X-Robots-Tag:noindex
X-PUBLISHED-TTL:PT1H
BEGIN:VTIMEZONE
TZID:Europe/London
BEGIN:DAYLIGHT
TZOFFSETFROM:+0000
TZOFFSETTO:+0100
TZNAME:BST
DTSTART:20240331T010000
END:DAYLIGHT
BEGIN:STANDARD
TZOFFSETFROM:+0100
TZOFFSETTO:+0000
TZNAME:GMT
DTSTART:20241027T010000
END:STANDARD
END:VTIMEZONE
BEGIN:VEVENT
DTSTART;TZID=Europe/London:20240512T110000
DTEND;TZID=Europe/London:20240512T130000
DTSTAMP:20260425T200711
CREATED:20240508T102936Z
LAST-MODIFIED:20240508T102936Z
UID:119738-1715511600-1715518800@www.discovernorthampton.co.uk
SUMMARY:Women's Wellness Walk
DESCRIPTION:
URL:https://www.discovernorthampton.co.uk/event/womens-wellness-walk-23/
LOCATION:Saints Coffee\, 62 St Giles' St\, Northampton\, Northamptonshire\, NN1 1JW\, United Kingdom
ATTACH;FMTTYPE=image/webp:https://www.discovernorthampton.co.uk/wp-content/uploads/2024/05/Saints-Coffee-Logo-.webp
END:VEVENT
BEGIN:VEVENT
DTSTART;TZID=Europe/London:20240430T190000
DTEND;TZID=Europe/London:20240430T210000
DTSTAMP:20260425T200711
CREATED:20240326T152240Z
LAST-MODIFIED:20240326T152240Z
UID:119204-1714503600-1714510800@www.discovernorthampton.co.uk
SUMMARY:Art Jam & Cocktails
DESCRIPTION:Art Jam & Cocktails
URL:https://www.discovernorthampton.co.uk/event/art-jam-cocktails-2/
LOCATION:Saints Coffee\, 62 St Giles' St\, Northampton\, Northamptonshire\, NN1 1JW\, United Kingdom
ATTACH;FMTTYPE=image/webp:https://www.discovernorthampton.co.uk/wp-content/uploads/2024/03/2021-02-01_19-36-01_1612208205.webp
END:VEVENT
BEGIN:VEVENT
DTSTART;TZID=Europe/London:20240426T100000
DTEND;TZID=Europe/London:20240426T120000
DTSTAMP:20260425T200711
CREATED:20240326T152101Z
LAST-MODIFIED:20240418T090841Z
UID:119202-1714125600-1714132800@www.discovernorthampton.co.uk
SUMMARY:Menopause Meet-up
DESCRIPTION:
URL:https://www.discovernorthampton.co.uk/event/menopause-meet-up-2/
LOCATION:Saints Coffee\, 62 St Giles' St\, Northampton\, Northamptonshire\, NN1 1JW\, United Kingdom
ATTACH;FMTTYPE=image/webp:https://www.discovernorthampton.co.uk/wp-content/uploads/2024/03/Saints-Coffee-Logo-.webp
END:VEVENT
BEGIN:VEVENT
DTSTART;TZID=Europe/London:20240424T190000
DTEND;TZID=Europe/London:20240424T210000
DTSTAMP:20260425T200711
CREATED:20240326T151737Z
LAST-MODIFIED:20240418T091858Z
UID:119200-1713985200-1713992400@www.discovernorthampton.co.uk
SUMMARY:Comedy Evening
DESCRIPTION:
URL:https://www.discovernorthampton.co.uk/event/comedy-evening-3/
LOCATION:Saints Coffee\, 62 St Giles' St\, Northampton\, Northamptonshire\, NN1 1JW\, United Kingdom
ATTACH;FMTTYPE=image/webp:https://www.discovernorthampton.co.uk/wp-content/uploads/2024/03/Saints-Coffee-Logo-.webp
END:VEVENT
BEGIN:VEVENT
DTSTART;TZID=Europe/London:20240421T110000
DTEND;TZID=Europe/London:20240421T130000
DTSTAMP:20260425T200711
CREATED:20240326T151615Z
LAST-MODIFIED:20240418T091935Z
UID:119198-1713697200-1713704400@www.discovernorthampton.co.uk
SUMMARY:Men's Wellness Walk
DESCRIPTION:
URL:https://www.discovernorthampton.co.uk/event/mens-wellness-walk-29/
LOCATION:Saints Coffee\, 62 St Giles' St\, Northampton\, Northamptonshire\, NN1 1JW\, United Kingdom
ATTACH;FMTTYPE=image/webp:https://www.discovernorthampton.co.uk/wp-content/uploads/2024/03/Saints-Coffee-Logo-.webp
END:VEVENT
BEGIN:VEVENT
DTSTART;TZID=Europe/London:20240421T110000
DTEND;TZID=Europe/London:20240421T130000
DTSTAMP:20260425T200711
CREATED:20240326T150757Z
LAST-MODIFIED:20240418T091227Z
UID:119196-1713697200-1713704400@www.discovernorthampton.co.uk
SUMMARY:Saints Book Club & Cocktails
DESCRIPTION:
URL:https://www.discovernorthampton.co.uk/event/saints-book-club-cocktails-8/
LOCATION:Saints Coffee\, 62 St Giles' St\, Northampton\, Northamptonshire\, NN1 1JW\, United Kingdom
ATTACH;FMTTYPE=image/webp:https://www.discovernorthampton.co.uk/wp-content/uploads/2024/03/Saints-Coffee-Logo-.webp
END:VEVENT
BEGIN:VEVENT
DTSTART;TZID=Europe/London:20240418T170000
DTEND;TZID=Europe/London:20240418T183000
DTSTAMP:20260425T200711
CREATED:20240326T150125Z
LAST-MODIFIED:20240418T092122Z
UID:119194-1713459600-1713465000@www.discovernorthampton.co.uk
SUMMARY:Coffee & Catch Up with Northants Lesbian Society
DESCRIPTION:
URL:https://www.discovernorthampton.co.uk/event/coffee-catch-up-with-northants-lesbian-society-4/
LOCATION:Saints Coffee\, 62 St Giles' St\, Northampton\, Northamptonshire\, NN1 1JW\, United Kingdom
ATTACH;FMTTYPE=image/webp:https://www.discovernorthampton.co.uk/wp-content/uploads/2024/03/Saints-Coffee-Logo-.webp
END:VEVENT
BEGIN:VEVENT
DTSTART;TZID=Europe/London:20240414T110000
DTEND;TZID=Europe/London:20240414T130000
DTSTAMP:20260425T200711
CREATED:20240326T145938Z
LAST-MODIFIED:20240326T145938Z
UID:119192-1713092400-1713099600@www.discovernorthampton.co.uk
SUMMARY:Women's Wellness Walk
DESCRIPTION:
URL:https://www.discovernorthampton.co.uk/event/womens-wellness-walk-22/
LOCATION:Saints Coffee\, 62 St Giles' St\, Northampton\, Northamptonshire\, NN1 1JW\, United Kingdom
ATTACH;FMTTYPE=image/webp:https://www.discovernorthampton.co.uk/wp-content/uploads/2024/03/2021-02-01_19-36-01_1612208205.webp
END:VEVENT
BEGIN:VEVENT
DTSTART;TZID=Europe/London:20240409T183000
DTEND;TZID=Europe/London:20240409T203000
DTSTAMP:20260425T200711
CREATED:20240326T145755Z
LAST-MODIFIED:20240326T145755Z
UID:119190-1712687400-1712694600@www.discovernorthampton.co.uk
SUMMARY:Mixed Heritage Meetup/Discussion
DESCRIPTION:
URL:https://www.discovernorthampton.co.uk/event/mixed-heritage-meetup-discussion-2/
LOCATION:Saints Coffee\, 62 St Giles' St\, Northampton\, Northamptonshire\, NN1 1JW\, United Kingdom
ATTACH;FMTTYPE=image/webp:https://www.discovernorthampton.co.uk/wp-content/uploads/2024/03/2021-02-01_19-36-01_1612208205.webp
END:VEVENT
BEGIN:VEVENT
DTSTART;TZID=Europe/London:20240407T110000
DTEND;TZID=Europe/London:20240407T130000
DTSTAMP:20260425T200711
CREATED:20240326T145522Z
LAST-MODIFIED:20240326T145522Z
UID:119187-1712487600-1712494800@www.discovernorthampton.co.uk
SUMMARY:Men's Wellness Walk
DESCRIPTION:
URL:https://www.discovernorthampton.co.uk/event/mens-wellness-walk-28/
LOCATION:Saints Coffee\, 62 St Giles' St\, Northampton\, Northamptonshire\, NN1 1JW\, United Kingdom
ATTACH;FMTTYPE=image/webp:https://www.discovernorthampton.co.uk/wp-content/uploads/2024/03/2021-02-01_19-36-01_1612208205.webp
END:VEVENT
BEGIN:VEVENT
DTSTART;TZID=Europe/London:20240331T110000
DTEND;TZID=Europe/London:20240331T130000
DTSTAMP:20260425T200711
CREATED:20240229T091000Z
LAST-MODIFIED:20240229T091000Z
UID:118596-1711882800-1711890000@www.discovernorthampton.co.uk
SUMMARY:Men's Wellness Walk
DESCRIPTION:
URL:https://www.discovernorthampton.co.uk/event/mens-wellness-walk-27/
LOCATION:Saints Coffee\, 62 St Giles' St\, Northampton\, Northamptonshire\, NN1 1JW\, United Kingdom
END:VEVENT
BEGIN:VEVENT
DTSTART;TZID=Europe/London:20240329T100000
DTEND;TZID=Europe/London:20240329T120000
DTSTAMP:20260425T200711
CREATED:20240229T090714Z
LAST-MODIFIED:20240229T090845Z
UID:118594-1711706400-1711713600@www.discovernorthampton.co.uk
SUMMARY:Menopause Meet-up
DESCRIPTION:
URL:https://www.discovernorthampton.co.uk/event/menopause-meet-up/
LOCATION:Saints Coffee\, 62 St Giles' St\, Northampton\, Northamptonshire\, NN1 1JW\, United Kingdom
ATTACH;FMTTYPE=image/jpeg:https://www.discovernorthampton.co.uk/wp-content/uploads/2024/02/saints-coffee-at-the-brampton-halt.jpg
END:VEVENT
BEGIN:VEVENT
DTSTART;TZID=Europe/London:20240327T190000
DTEND;TZID=Europe/London:20240327T210000
DTSTAMP:20260425T200711
CREATED:20240229T090424Z
LAST-MODIFIED:20240229T090424Z
UID:118592-1711566000-1711573200@www.discovernorthampton.co.uk
SUMMARY:Comedy Evening
DESCRIPTION:
URL:https://www.discovernorthampton.co.uk/event/comedy-evening-2/
LOCATION:Saints Coffee\, 62 St Giles' St\, Northampton\, Northamptonshire\, NN1 1JW\, United Kingdom
ATTACH;FMTTYPE=image/jpeg:https://www.discovernorthampton.co.uk/wp-content/uploads/2024/02/saints-coffee-at-the-brampton-halt.jpg
END:VEVENT
BEGIN:VEVENT
DTSTART;TZID=Europe/London:20240326T190000
DTEND;TZID=Europe/London:20240326T210000
DTSTAMP:20260425T200711
CREATED:20240229T090241Z
LAST-MODIFIED:20240229T090241Z
UID:118590-1711479600-1711486800@www.discovernorthampton.co.uk
SUMMARY:Art Jam & Cocktails
DESCRIPTION:
URL:https://www.discovernorthampton.co.uk/event/art-jam-cocktails/
LOCATION:Saints Coffee\, 62 St Giles' St\, Northampton\, Northamptonshire\, NN1 1JW\, United Kingdom
ATTACH;FMTTYPE=image/jpeg:https://www.discovernorthampton.co.uk/wp-content/uploads/2024/02/saints-coffee-at-the-brampton-halt.jpg
END:VEVENT
BEGIN:VEVENT
DTSTART;TZID=Europe/London:20240321T190000
DTEND;TZID=Europe/London:20240321T210000
DTSTAMP:20260425T200711
CREATED:20240229T085854Z
LAST-MODIFIED:20240229T085854Z
UID:118588-1711047600-1711054800@www.discovernorthampton.co.uk
SUMMARY:Saints Book Club & Cocktails
DESCRIPTION:
URL:https://www.discovernorthampton.co.uk/event/saints-book-club-cocktails-7/
LOCATION:Saints Coffee\, 62 St Giles' St\, Northampton\, Northamptonshire\, NN1 1JW\, United Kingdom
ATTACH;FMTTYPE=image/jpeg:https://www.discovernorthampton.co.uk/wp-content/uploads/2024/02/saints-coffee-at-the-brampton-halt.jpg
END:VEVENT
BEGIN:VEVENT
DTSTART;TZID=Europe/London:20240321T170000
DTEND;TZID=Europe/London:20240321T183000
DTSTAMP:20260425T200711
CREATED:20240229T085651Z
LAST-MODIFIED:20240229T085651Z
UID:118586-1711040400-1711045800@www.discovernorthampton.co.uk
SUMMARY:Coffee & Catch up with Northants Lesbian Society
DESCRIPTION:
URL:https://www.discovernorthampton.co.uk/event/coffee-catch-up-with-northants-lesbian-society-3/
LOCATION:Saints Coffee\, 62 St Giles' St\, Northampton\, Northamptonshire\, NN1 1JW\, United Kingdom
ATTACH;FMTTYPE=image/jpeg:https://www.discovernorthampton.co.uk/wp-content/uploads/2024/02/saints-coffee-at-the-brampton-halt.jpg
END:VEVENT
BEGIN:VEVENT
DTSTART;TZID=Europe/London:20240317T110000
DTEND;TZID=Europe/London:20240317T130000
DTSTAMP:20260425T200711
CREATED:20240229T085340Z
LAST-MODIFIED:20240229T085340Z
UID:118584-1710673200-1710680400@www.discovernorthampton.co.uk
SUMMARY:Men's Wellness Walk
DESCRIPTION:
URL:https://www.discovernorthampton.co.uk/event/mens-wellness-walk-26/
LOCATION:Saints Coffee\, 62 St Giles' St\, Northampton\, Northamptonshire\, NN1 1JW\, United Kingdom
ATTACH;FMTTYPE=image/jpeg:https://www.discovernorthampton.co.uk/wp-content/uploads/2024/02/saints-coffee-at-the-brampton-halt.jpg
END:VEVENT
BEGIN:VEVENT
DTSTART;TZID=Europe/London:20240310T110000
DTEND;TZID=Europe/London:20240310T130000
DTSTAMP:20260425T200711
CREATED:20240229T085206Z
LAST-MODIFIED:20240229T085206Z
UID:118582-1710068400-1710075600@www.discovernorthampton.co.uk
SUMMARY:Women's Wellness Walk
DESCRIPTION:
URL:https://www.discovernorthampton.co.uk/event/womens-wellness-walk-21/
LOCATION:Saints Coffee\, 62 St Giles' St\, Northampton\, Northamptonshire\, NN1 1JW\, United Kingdom
ATTACH;FMTTYPE=image/jpeg:https://www.discovernorthampton.co.uk/wp-content/uploads/2024/02/saints-coffee-at-the-brampton-halt.jpg
END:VEVENT
BEGIN:VEVENT
DTSTART;TZID=Europe/London:20240308T190000
DTEND;TZID=Europe/London:20240308T210000
DTSTAMP:20260425T200711
CREATED:20240229T084931Z
LAST-MODIFIED:20240229T084931Z
UID:118580-1709924400-1709931600@www.discovernorthampton.co.uk
SUMMARY:Floating Floral Workshop
DESCRIPTION:
URL:https://www.discovernorthampton.co.uk/event/floating-floral-workshop/
LOCATION:Saints Coffee\, 62 St Giles' St\, Northampton\, Northamptonshire\, NN1 1JW\, United Kingdom
ATTACH;FMTTYPE=image/jpeg:https://www.discovernorthampton.co.uk/wp-content/uploads/2024/02/saints-coffee-at-the-brampton-halt.jpg
END:VEVENT
BEGIN:VEVENT
DTSTART;TZID=Europe/London:20240303T110000
DTEND;TZID=Europe/London:20240303T130000
DTSTAMP:20260425T200711
CREATED:20240229T084658Z
LAST-MODIFIED:20240229T084658Z
UID:118578-1709463600-1709470800@www.discovernorthampton.co.uk
SUMMARY:Men's Wellness Walk
DESCRIPTION:
URL:https://www.discovernorthampton.co.uk/event/mens-wellness-walk-25/
LOCATION:Saints Coffee\, 62 St Giles' St\, Northampton\, Northamptonshire\, NN1 1JW\, United Kingdom
ATTACH;FMTTYPE=image/jpeg:https://www.discovernorthampton.co.uk/wp-content/uploads/2024/02/saints-coffee-at-the-brampton-halt.jpg
END:VEVENT
BEGIN:VEVENT
DTSTART;TZID=Europe/London:20240228T193000
DTEND;TZID=Europe/London:20240228T213000
DTSTAMP:20260425T200711
CREATED:20240209T122420Z
LAST-MODIFIED:20240209T122446Z
UID:118289-1709148600-1709155800@www.discovernorthampton.co.uk
SUMMARY:Comedy Evening
DESCRIPTION:
URL:https://www.discovernorthampton.co.uk/event/comedy-evening/
LOCATION:Saints Coffee\, 62 St Giles' St\, Northampton\, Northamptonshire\, NN1 1JW\, United Kingdom
ATTACH;FMTTYPE=image/jpeg:https://www.discovernorthampton.co.uk/wp-content/uploads/2024/02/saints-coffee-at-the-brampton-halt.jpg
END:VEVENT
BEGIN:VEVENT
DTSTART;TZID=Europe/London:20240227T190000
DTEND;TZID=Europe/London:20240227T210000
DTSTAMP:20260425T200711
CREATED:20240209T120520Z
LAST-MODIFIED:20240209T120520Z
UID:118287-1709060400-1709067600@www.discovernorthampton.co.uk
SUMMARY:Classic Art Jam & Cocktails
DESCRIPTION:
URL:https://www.discovernorthampton.co.uk/event/classic-art-jam-cocktails/
LOCATION:Saints Coffee\, 62 St Giles' St\, Northampton\, Northamptonshire\, NN1 1JW\, United Kingdom
ATTACH;FMTTYPE=image/jpeg:https://www.discovernorthampton.co.uk/wp-content/uploads/2024/02/saints-coffee-at-the-brampton-halt.jpg
END:VEVENT
BEGIN:VEVENT
DTSTART;TZID=Europe/London:20240223T100000
DTEND;TZID=Europe/London:20240223T120000
DTSTAMP:20260425T200711
CREATED:20240209T120342Z
LAST-MODIFIED:20240209T120342Z
UID:118285-1708682400-1708689600@www.discovernorthampton.co.uk
SUMMARY:Menopause Meetup
DESCRIPTION:
URL:https://www.discovernorthampton.co.uk/event/menopause-meetup-3/
LOCATION:Saints Coffee\, 62 St Giles' St\, Northampton\, Northamptonshire\, NN1 1JW\, United Kingdom
ATTACH;FMTTYPE=image/jpeg:https://www.discovernorthampton.co.uk/wp-content/uploads/2024/02/saints-coffee-at-the-brampton-halt.jpg
END:VEVENT
BEGIN:VEVENT
DTSTART;TZID=Europe/London:20240218T110000
DTEND;TZID=Europe/London:20240218T130000
DTSTAMP:20260425T200711
CREATED:20240209T120142Z
LAST-MODIFIED:20240209T120142Z
UID:118283-1708254000-1708261200@www.discovernorthampton.co.uk
SUMMARY:Men's Wellness Walk
DESCRIPTION:
URL:https://www.discovernorthampton.co.uk/event/mens-wellness-walk-24/
LOCATION:Saints Coffee\, 62 St Giles' St\, Northampton\, Northamptonshire\, NN1 1JW\, United Kingdom
ATTACH;FMTTYPE=image/jpeg:https://www.discovernorthampton.co.uk/wp-content/uploads/2024/02/saints-coffee-at-the-brampton-halt.jpg
END:VEVENT
BEGIN:VEVENT
DTSTART;TZID=Europe/London:20240216T190000
DTEND;TZID=Europe/London:20240216T210000
DTSTAMP:20260425T200711
CREATED:20240209T115456Z
LAST-MODIFIED:20240209T115456Z
UID:118281-1708110000-1708117200@www.discovernorthampton.co.uk
SUMMARY:Paint Your Partner - Art Jam & Cocktails
DESCRIPTION:
URL:https://www.discovernorthampton.co.uk/event/paint-your-partner-art-jam-cocktails/
LOCATION:Saints Coffee\, 62 St Giles' St\, Northampton\, Northamptonshire\, NN1 1JW\, United Kingdom
ATTACH;FMTTYPE=image/jpeg:https://www.discovernorthampton.co.uk/wp-content/uploads/2024/02/saints-coffee-at-the-brampton-halt.jpg
END:VEVENT
BEGIN:VEVENT
DTSTART;TZID=Europe/London:20240215T170000
DTEND;TZID=Europe/London:20240215T183000
DTSTAMP:20260425T200711
CREATED:20240209T113855Z
LAST-MODIFIED:20240209T113855Z
UID:118277-1708016400-1708021800@www.discovernorthampton.co.uk
SUMMARY:Coffee & Catch Up - Northants Lesbian Society
DESCRIPTION:
URL:https://www.discovernorthampton.co.uk/event/coffee-catch-up-northants-lesbian-society/
LOCATION:Saints Coffee\, 62 St Giles' St\, Northampton\, Northamptonshire\, NN1 1JW\, United Kingdom
ATTACH;FMTTYPE=image/jpeg:https://www.discovernorthampton.co.uk/wp-content/uploads/2024/02/saints-coffee-at-the-brampton-halt.jpg
END:VEVENT
BEGIN:VEVENT
DTSTART;TZID=Europe/London:20240211T110000
DTEND;TZID=Europe/London:20240211T130000
DTSTAMP:20260425T200711
CREATED:20240209T113232Z
LAST-MODIFIED:20240209T113232Z
UID:118272-1707649200-1707656400@www.discovernorthampton.co.uk
SUMMARY:Women's Wellness Walk
DESCRIPTION:
URL:https://www.discovernorthampton.co.uk/event/womens-wellness-walk-20/
LOCATION:Saints Coffee\, 62 St Giles' St\, Northampton\, Northamptonshire\, NN1 1JW\, United Kingdom
ATTACH;FMTTYPE=image/jpeg:https://www.discovernorthampton.co.uk/wp-content/uploads/2024/02/saints-coffee-at-the-brampton-halt.jpg
END:VEVENT
BEGIN:VEVENT
DTSTART;TZID=Europe/London:20240128T110000
DTEND;TZID=Europe/London:20240128T130000
DTSTAMP:20260425T200711
CREATED:20240108T101947Z
LAST-MODIFIED:20240108T101947Z
UID:117831-1706439600-1706446800@www.discovernorthampton.co.uk
SUMMARY:Women's Wellness Walk
DESCRIPTION:
URL:https://www.discovernorthampton.co.uk/event/womens-wellness-walk-19/
LOCATION:Saints Coffee\, 62 St Giles' St\, Northampton\, Northamptonshire\, NN1 1JW\, United Kingdom
ATTACH;FMTTYPE=image/jpeg:https://www.discovernorthampton.co.uk/wp-content/uploads/2023/11/saints-coffee-at-the-brampton-halt.jpg
END:VEVENT
BEGIN:VEVENT
DTSTART;TZID=Europe/London:20240126T100000
DTEND;TZID=Europe/London:20240126T120000
DTSTAMP:20260425T200711
CREATED:20240108T101616Z
LAST-MODIFIED:20240108T101616Z
UID:117829-1706263200-1706270400@www.discovernorthampton.co.uk
SUMMARY:Menopause Meetup
DESCRIPTION:
URL:https://www.discovernorthampton.co.uk/event/menopause-meetup-2/
LOCATION:Saints Coffee\, 62 St Giles' St\, Northampton\, Northamptonshire\, NN1 1JW\, United Kingdom
ATTACH;FMTTYPE=image/jpeg:https://www.discovernorthampton.co.uk/wp-content/uploads/2023/11/saints-coffee-at-the-brampton-halt.jpg
END:VEVENT
BEGIN:VEVENT
DTSTART;TZID=Europe/London:20240121T110000
DTEND;TZID=Europe/London:20240121T130000
DTSTAMP:20260425T200711
CREATED:20240108T101455Z
LAST-MODIFIED:20240108T101455Z
UID:117827-1705834800-1705842000@www.discovernorthampton.co.uk
SUMMARY:Men's Wellness Walk
DESCRIPTION:
URL:https://www.discovernorthampton.co.uk/event/mens-wellness-walk-23/
LOCATION:Saints Coffee\, 62 St Giles' St\, Northampton\, Northamptonshire\, NN1 1JW\, United Kingdom
ATTACH;FMTTYPE=image/jpeg:https://www.discovernorthampton.co.uk/wp-content/uploads/2023/11/saints-coffee-at-the-brampton-halt.jpg
END:VEVENT
END:VCALENDAR