BEGIN:VCALENDAR
VERSION:2.0
PRODID:-//Northampton BID - ECPv6.2.4//NONSGML v1.0//EN
CALSCALE:GREGORIAN
METHOD:PUBLISH
X-ORIGINAL-URL:https://www.discovernorthampton.co.uk
X-WR-CALDESC:Events for Northampton BID
REFRESH-INTERVAL;VALUE=DURATION:PT1H
X-Robots-Tag:noindex
X-PUBLISHED-TTL:PT1H
BEGIN:VTIMEZONE
TZID:Europe/London
BEGIN:DAYLIGHT
TZOFFSETFROM:+0000
TZOFFSETTO:+0100
TZNAME:BST
DTSTART:20240331T010000
END:DAYLIGHT
BEGIN:STANDARD
TZOFFSETFROM:+0100
TZOFFSETTO:+0000
TZNAME:GMT
DTSTART:20241027T010000
END:STANDARD
BEGIN:DAYLIGHT
TZOFFSETFROM:+0000
TZOFFSETTO:+0100
TZNAME:BST
DTSTART:20250330T010000
END:DAYLIGHT
BEGIN:STANDARD
TZOFFSETFROM:+0100
TZOFFSETTO:+0000
TZNAME:GMT
DTSTART:20251026T010000
END:STANDARD
END:VTIMEZONE
BEGIN:VEVENT
DTSTART;TZID=Europe/London:20250309T110000
DTEND;TZID=Europe/London:20250309T110000
DTSTAMP:20260421T013925
CREATED:20250227T132400Z
LAST-MODIFIED:20250227T132400Z
UID:123963-1741518000-1741518000@www.discovernorthampton.co.uk
SUMMARY:Women’s Wellness Walk
DESCRIPTION:Sunday 9th March\, 11am â€“ women’s Wellness Walk (Just turn up!)????????
URL:https://www.discovernorthampton.co.uk/event/womens-wellness-walk-32/
LOCATION:Saints Coffee\, 62 St Giles' St\, Northampton\, Northamptonshire\, NN1 1JW\, United Kingdom
ATTACH;FMTTYPE=image/jpeg:https://www.discovernorthampton.co.uk/wp-content/uploads/2024/02/saints-coffee-at-the-brampton-halt.jpg
END:VEVENT
BEGIN:VEVENT
DTSTART;TZID=Europe/London:20250302T110000
DTEND;TZID=Europe/London:20250302T110000
DTSTAMP:20260421T013925
CREATED:20250227T132232Z
LAST-MODIFIED:20250227T132232Z
UID:123961-1740913200-1740913200@www.discovernorthampton.co.uk
SUMMARY:Men’s Wellness Walk
DESCRIPTION:Sunday 2nd march\, 11am â€“ Men’s Wellness Walk w/ @litcounselling @nn_mens_wellness_walks @_simeonjames (Just turn up!)
URL:https://www.discovernorthampton.co.uk/event/mens-wellness-walk-46/
LOCATION:Saints Coffee\, 62 St Giles' St\, Northampton\, Northamptonshire\, NN1 1JW\, United Kingdom
ATTACH;FMTTYPE=image/jpeg:https://www.discovernorthampton.co.uk/wp-content/uploads/2024/02/saints-coffee-at-the-brampton-halt.jpg
END:VEVENT
BEGIN:VEVENT
DTSTART;TZID=Europe/London:20250220T183000
DTEND;TZID=Europe/London:20250220T183000
DTSTAMP:20260421T013925
CREATED:20250213T114026Z
LAST-MODIFIED:20250213T114026Z
UID:123468-1740076200-1740076200@www.discovernorthampton.co.uk
SUMMARY:Women's Bookclub February
DESCRIPTION:Saints womenâ€™s book club! ?? Come on your own or with friends. All women are welcome! We meet every third Thursday of the month. Book talk\, cocktails\, wine\, coffee\, etc ???? Tickets are £10 to attend\, the price of the ticket is fully redeemable against drinks purchased on the night. Contribute as much or as little to the book chat as you like\, weâ€™d just love to have you there! For details of each monthâ€™s book\, please see Instagram and Facebook posts or direct message us on those platforms. Tickets are non-refundable. Looking forward to welcoming you to the book club! ??? Meet at 6:30\, settle in\, and discussions start at 7pm
URL:https://www.discovernorthampton.co.uk/event/womens-bookclub-february/
LOCATION:Saints Coffee\, 62 St Giles' St\, Northampton\, Northamptonshire\, NN1 1JW\, United Kingdom
CATEGORIES:Event
ATTACH;FMTTYPE=image/webp:https://www.discovernorthampton.co.uk/wp-content/uploads/2024/05/Saints-Coffee-Logo-1-2.webp
END:VEVENT
BEGIN:VEVENT
DTSTART;TZID=Europe/London:20250220T170000
DTEND;TZID=Europe/London:20250220T183000
DTSTAMP:20260421T013925
CREATED:20250206T134202Z
LAST-MODIFIED:20250206T134202Z
UID:123409-1740070800-1740076200@www.discovernorthampton.co.uk
SUMMARY:Coffee & Catch Up
DESCRIPTION:Thursday 20th February\, 5-6:30pm â€“ Coffee & Catch Up w/ @northantslesbiansociety
URL:https://www.discovernorthampton.co.uk/event/coffee-catch-up-4/
LOCATION:Saints Coffee\, 62 St Giles' St\, Northampton\, Northamptonshire\, NN1 1JW\, United Kingdom
CATEGORIES:Coffee Morning,Workshop
ATTACH;FMTTYPE=image/jpeg:https://www.discovernorthampton.co.uk/wp-content/uploads/2025/01/Saints-Calendar.jpg
END:VEVENT
BEGIN:VEVENT
DTSTART;TZID=Europe/London:20250216T110000
DTEND;TZID=Europe/London:20250216T130000
DTSTAMP:20260421T013925
CREATED:20250130T095653Z
LAST-MODIFIED:20250130T095653Z
UID:123322-1739703600-1739710800@www.discovernorthampton.co.uk
SUMMARY:Men's Wellness Walk
DESCRIPTION:Sunday 2nd February\, 11am â€“ Men’s Wellness Walk w/ @litcounselling @nn_mens_wellness_walks @_simeonjames (Just turn up!)
URL:https://www.discovernorthampton.co.uk/event/mens-wellness-walk-45/2025-02-16/
LOCATION:Saints Coffee\, 62 St Giles' St\, Northampton\, Northamptonshire\, NN1 1JW\, United Kingdom
CATEGORIES:Coffee Morning,Meetings
ATTACH;FMTTYPE=image/jpeg:https://www.discovernorthampton.co.uk/wp-content/uploads/2025/01/Saints-Calendar.jpg
END:VEVENT
BEGIN:VEVENT
DTSTART;TZID=Europe/London:20250211T183000
DTEND;TZID=Europe/London:20250211T203000
DTSTAMP:20260421T013925
CREATED:20250206T133639Z
LAST-MODIFIED:20250206T133639Z
UID:123405-1739298600-1739305800@www.discovernorthampton.co.uk
SUMMARY:Mixed Heritage Meetup/Discussion
DESCRIPTION:Tuesday 11th February \, 6:30pm â€“ Mixed Heritage Meetup/Discussion w/ @mixednetworknn
URL:https://www.discovernorthampton.co.uk/event/mixed-heritage-meetup-discussion-10/
LOCATION:Saints Coffee\, 62 St Giles' St\, Northampton\, Northamptonshire\, NN1 1JW\, United Kingdom
CATEGORIES:Event,Workshop
ATTACH;FMTTYPE=image/jpeg:https://www.discovernorthampton.co.uk/wp-content/uploads/2025/01/Saints-Calendar.jpg
END:VEVENT
BEGIN:VEVENT
DTSTART;TZID=Europe/London:20250209T110000
DTEND;TZID=Europe/London:20250209T130000
DTSTAMP:20260421T013925
CREATED:20250130T100712Z
LAST-MODIFIED:20250130T100712Z
UID:123324-1739098800-1739106000@www.discovernorthampton.co.uk
SUMMARY:Women's Wellness Walk
DESCRIPTION:Sunday 9th February\, 11am â€“ women’s Wellness Walk (Just turn up!)????????
URL:https://www.discovernorthampton.co.uk/event/womens-wellness-walk-31/
LOCATION:Saints Coffee\, 62 St Giles' St\, Northampton\, Northamptonshire\, NN1 1JW\, United Kingdom
CATEGORIES:Coffee Morning,Meetings
ATTACH;FMTTYPE=image/jpeg:https://www.discovernorthampton.co.uk/wp-content/uploads/2025/01/Saints-Calendar.jpg
END:VEVENT
BEGIN:VEVENT
DTSTART;TZID=Europe/London:20250202T110000
DTEND;TZID=Europe/London:20250202T130000
DTSTAMP:20260421T013925
CREATED:20250130T095653Z
LAST-MODIFIED:20250130T095653Z
UID:123319-1738494000-1738501200@www.discovernorthampton.co.uk
SUMMARY:Men's Wellness Walk
DESCRIPTION:Sunday 2nd February\, 11am â€“ Men’s Wellness Walk w/ @litcounselling @nn_mens_wellness_walks @_simeonjames (Just turn up!)
URL:https://www.discovernorthampton.co.uk/event/mens-wellness-walk-45/2025-02-02/
LOCATION:Saints Coffee\, 62 St Giles' St\, Northampton\, Northamptonshire\, NN1 1JW\, United Kingdom
CATEGORIES:Coffee Morning,Meetings
ATTACH;FMTTYPE=image/jpeg:https://www.discovernorthampton.co.uk/wp-content/uploads/2025/01/Saints-Calendar.jpg
END:VEVENT
BEGIN:VEVENT
DTSTART;TZID=Europe/London:20250131T100000
DTEND;TZID=Europe/London:20250131T120000
DTSTAMP:20260421T013925
CREATED:20250102T142045Z
LAST-MODIFIED:20250102T142045Z
UID:122944-1738317600-1738324800@www.discovernorthampton.co.uk
SUMMARY:Menopause Meet-up
DESCRIPTION:Friday 31st January\, 10am â€“ Menopause Meet-up w/ @ruth.menopausecoach_etc
URL:https://www.discovernorthampton.co.uk/event/menopause-meet-up-10/
LOCATION:Saints Coffee\, 62 St Giles' St\, Northampton\, Northamptonshire\, NN1 1JW\, United Kingdom
CATEGORIES:Club,Coffee Morning,Event
ATTACH;FMTTYPE=image/jpeg:https://www.discovernorthampton.co.uk/wp-content/uploads/2025/01/Saints-Calender.jpg
END:VEVENT
BEGIN:VEVENT
DTSTART;TZID=Europe/London:20250129T190000
DTEND;TZID=Europe/London:20250129T220000
DTSTAMP:20260421T013925
CREATED:20250102T141733Z
LAST-MODIFIED:20250102T141733Z
UID:122942-1738177200-1738188000@www.discovernorthampton.co.uk
SUMMARY:Comedy evening
DESCRIPTION:Wednesday 29th January\, 7pm doors\, 8pm start â€“ Comedy evening w/ @thecomedycrate (Tickets available via their site)
URL:https://www.discovernorthampton.co.uk/event/comedy-evening-8/
LOCATION:Saints Coffee\, 62 St Giles' St\, Northampton\, Northamptonshire\, NN1 1JW\, United Kingdom
CATEGORIES:Club,Coffee Morning,Comedy Night,Event
ATTACH;FMTTYPE=image/jpeg:https://www.discovernorthampton.co.uk/wp-content/uploads/2025/01/Saints-Calender.jpg
END:VEVENT
BEGIN:VEVENT
DTSTART;TZID=Europe/London:20250121T190000
DTEND;TZID=Europe/London:20250121T200000
DTSTAMP:20260421T013925
CREATED:20250102T141409Z
LAST-MODIFIED:20250102T141409Z
UID:122940-1737486000-1737489600@www.discovernorthampton.co.uk
SUMMARY:Art Jam & Cocktails
DESCRIPTION:Tuesday 21st January\, 7pm â€“ Art Jam & Cocktails w/ @sophiesladeart  (Tickets available at sophiesladeart.com)
URL:https://www.discovernorthampton.co.uk/event/art-jam-cocktails-8/
LOCATION:Saints Coffee\, 62 St Giles' St\, Northampton\, Northamptonshire\, NN1 1JW\, United Kingdom
CATEGORIES:Club,Coffee Morning,Event
ATTACH;FMTTYPE=image/jpeg:https://www.discovernorthampton.co.uk/wp-content/uploads/2025/01/Saints-Calender.jpg
END:VEVENT
BEGIN:VEVENT
DTSTART;TZID=Europe/London:20250119T110000
DTEND;TZID=Europe/London:20250119T130000
DTSTAMP:20260421T013925
CREATED:20250102T141218Z
LAST-MODIFIED:20250102T141218Z
UID:122938-1737284400-1737291600@www.discovernorthampton.co.uk
SUMMARY:Men’s Wellness Walk
DESCRIPTION:Sunday 19th January \, 11am â€“ Men’s Wellness Walk w/ @litcounselling @nn_mens_wellness_walks @_simeonjames (Just turn up!)
URL:https://www.discovernorthampton.co.uk/event/mens-wellness-walk-44/
LOCATION:Saints Coffee\, 62 St Giles' St\, Northampton\, Northamptonshire\, NN1 1JW\, United Kingdom
CATEGORIES:Club,Coffee Morning,Event
ATTACH;FMTTYPE=image/jpeg:https://www.discovernorthampton.co.uk/wp-content/uploads/2025/01/Saints-Calender.jpg
END:VEVENT
BEGIN:VEVENT
DTSTART;TZID=Europe/London:20250116T190000
DTEND;TZID=Europe/London:20250116T200000
DTSTAMP:20260421T013925
CREATED:20250102T140611Z
LAST-MODIFIED:20250102T140611Z
UID:122936-1737054000-1737057600@www.discovernorthampton.co.uk
SUMMARY:Saints Book Club & Cocktails
DESCRIPTION:Thursday 16th January\, 7pm â€“ Saints Book Club & Cocktails (Open to all women\, DM if interested!)  (Tickets available for purchase through the link in our bio or our website â€“ www.saintscoffee.co.uk)
URL:https://www.discovernorthampton.co.uk/event/saints-book-club-cocktails-16/
LOCATION:Saints Coffee\, 62 St Giles' St\, Northampton\, Northamptonshire\, NN1 1JW\, United Kingdom
CATEGORIES:Book Club,Coffee Morning,Event
ATTACH;FMTTYPE=image/jpeg:https://www.discovernorthampton.co.uk/wp-content/uploads/2025/01/Saints-Calender.jpg
END:VEVENT
BEGIN:VEVENT
DTSTART;TZID=Europe/London:20250116T173000
DTEND;TZID=Europe/London:20250116T180000
DTSTAMP:20260421T013925
CREATED:20250102T140336Z
LAST-MODIFIED:20250102T140336Z
UID:122934-1737048600-1737050400@www.discovernorthampton.co.uk
SUMMARY:Coffee & Catch Up
DESCRIPTION:Thursday 16th January\, 5-6:30pm â€“ Coffee & Catch Up w/ @northantslesbiansociety
URL:https://www.discovernorthampton.co.uk/event/coffee-catch-up-3/
LOCATION:Saints Coffee\, 62 St Giles' St\, Northampton\, Northamptonshire\, NN1 1JW\, United Kingdom
CATEGORIES:Coffee Morning,Event
ATTACH;FMTTYPE=image/jpeg:https://www.discovernorthampton.co.uk/wp-content/uploads/2025/01/Saints-Calender.jpg
END:VEVENT
BEGIN:VEVENT
DTSTART;TZID=Europe/London:20250114T183000
DTEND;TZID=Europe/London:20250114T193000
DTSTAMP:20260421T013925
CREATED:20250102T140140Z
LAST-MODIFIED:20250102T140140Z
UID:122932-1736879400-1736883000@www.discovernorthampton.co.uk
SUMMARY:Mixed Heritage Meetup/Discussion
DESCRIPTION:Tuesday 14th January\, 6:30pm â€“ Mixed Heritage Meetup/Discussion w/ @mixednetworknn
URL:https://www.discovernorthampton.co.uk/event/mixed-heritage-meetup-discussion-9/
LOCATION:Saints Coffee\, 62 St Giles' St\, Northampton\, Northamptonshire\, NN1 1JW\, United Kingdom
CATEGORIES:Coffee Morning,Event
ATTACH;FMTTYPE=image/jpeg:https://www.discovernorthampton.co.uk/wp-content/uploads/2025/01/Saints-Calender.jpg
END:VEVENT
BEGIN:VEVENT
DTSTART;TZID=Europe/London:20250112T110000
DTEND;TZID=Europe/London:20250112T130000
DTSTAMP:20260421T013925
CREATED:20250102T135055Z
LAST-MODIFIED:20250102T135055Z
UID:122930-1736679600-1736686800@www.discovernorthampton.co.uk
SUMMARY:Women’s Wellness Walk
DESCRIPTION:Sunday 12th January\, 11am â€“ women’s Wellness Walk (Just turn up!)????????
URL:https://www.discovernorthampton.co.uk/event/womens-wellness-walk-30/
LOCATION:Saints Coffee\, 62 St Giles' St\, Northampton\, Northamptonshire\, NN1 1JW\, United Kingdom
CATEGORIES:Coffee Morning,Event
ATTACH;FMTTYPE=image/jpeg:https://www.discovernorthampton.co.uk/wp-content/uploads/2025/01/Saints-Calender.jpg
END:VEVENT
BEGIN:VEVENT
DTSTART;TZID=Europe/London:20250105T110000
DTEND;TZID=Europe/London:20250105T130000
DTSTAMP:20260421T013925
CREATED:20250102T134644Z
LAST-MODIFIED:20250102T134644Z
UID:122926-1736074800-1736082000@www.discovernorthampton.co.uk
SUMMARY:Men’s Wellness Walk at Saints Coffee
DESCRIPTION:Sunday 5th January \, 11am â€“ Men’s Wellness Walk w/ @litcounselling @nn_mens_wellness_walks @_simeonjames (Just turn up!)
URL:https://www.discovernorthampton.co.uk/event/mens-wellness-walk-at-saints-coffee/
LOCATION:Saints Coffee\, 62 St Giles' St\, Northampton\, Northamptonshire\, NN1 1JW\, United Kingdom
CATEGORIES:Coffee Morning,Event
ATTACH;FMTTYPE=image/jpeg:https://www.discovernorthampton.co.uk/wp-content/uploads/2025/01/Saints-Calender.jpg
END:VEVENT
BEGIN:VEVENT
DTSTART;TZID=Europe/London:20241227T100000
DTEND;TZID=Europe/London:20241227T120000
DTSTAMP:20260421T013925
CREATED:20241128T093946Z
LAST-MODIFIED:20241128T093946Z
UID:122379-1735293600-1735300800@www.discovernorthampton.co.uk
SUMMARY:Menopause Meet-up
DESCRIPTION:
URL:https://www.discovernorthampton.co.uk/event/menopause-meet-up-9/
LOCATION:Saints Coffee\, 62 St Giles' St\, Northampton\, Northamptonshire\, NN1 1JW\, United Kingdom
ATTACH;FMTTYPE=image/jpeg:https://www.discovernorthampton.co.uk/wp-content/uploads/2024/11/download.jpg
END:VEVENT
BEGIN:VEVENT
DTSTART;TZID=Europe/London:20241219T190000
DTEND;TZID=Europe/London:20241219T210000
DTSTAMP:20260421T013925
CREATED:20241128T093816Z
LAST-MODIFIED:20241128T093816Z
UID:122377-1734634800-1734642000@www.discovernorthampton.co.uk
SUMMARY:Saints Book Club & Cocktails
DESCRIPTION:
URL:https://www.discovernorthampton.co.uk/event/saints-book-club-cocktails-15/
LOCATION:Saints Coffee\, 62 St Giles' St\, Northampton\, Northamptonshire\, NN1 1JW\, United Kingdom
ATTACH;FMTTYPE=image/jpeg:https://www.discovernorthampton.co.uk/wp-content/uploads/2024/11/download.jpg
END:VEVENT
BEGIN:VEVENT
DTSTART;TZID=Europe/London:20241219T170000
DTEND;TZID=Europe/London:20241219T183000
DTSTAMP:20260421T013925
CREATED:20241128T093425Z
LAST-MODIFIED:20241128T093425Z
UID:122375-1734627600-1734633000@www.discovernorthampton.co.uk
SUMMARY:Coffee & Catch Up With Northants Lesbian Society
DESCRIPTION:
URL:https://www.discovernorthampton.co.uk/event/coffee-catch-up-with-northants-lesbian-society-11/
LOCATION:Saints Coffee\, 62 St Giles' St\, Northampton\, Northamptonshire\, NN1 1JW\, United Kingdom
ATTACH;FMTTYPE=image/jpeg:https://www.discovernorthampton.co.uk/wp-content/uploads/2024/11/download.jpg
END:VEVENT
BEGIN:VEVENT
DTSTART;TZID=Europe/London:20241217T190000
DTEND;TZID=Europe/London:20241217T210000
DTSTAMP:20260421T013925
CREATED:20241128T093102Z
LAST-MODIFIED:20241128T093102Z
UID:122373-1734462000-1734469200@www.discovernorthampton.co.uk
SUMMARY:Art Jam & Cocktails
DESCRIPTION:
URL:https://www.discovernorthampton.co.uk/event/art-jam-cocktails-7/
LOCATION:Saints Coffee\, 62 St Giles' St\, Northampton\, Northamptonshire\, NN1 1JW\, United Kingdom
ATTACH;FMTTYPE=image/jpeg:https://www.discovernorthampton.co.uk/wp-content/uploads/2024/11/download.jpg
END:VEVENT
BEGIN:VEVENT
DTSTART;TZID=Europe/London:20241210T183000
DTEND;TZID=Europe/London:20241210T203000
DTSTAMP:20260421T013925
CREATED:20241128T092927Z
LAST-MODIFIED:20241128T092927Z
UID:122371-1733855400-1733862600@www.discovernorthampton.co.uk
SUMMARY:Mixed Heritage Meetup/Discussion
DESCRIPTION:
URL:https://www.discovernorthampton.co.uk/event/mixed-heritage-meetup-discussion-8/
LOCATION:Saints Coffee\, 62 St Giles' St\, Northampton\, Northamptonshire\, NN1 1JW\, United Kingdom
ATTACH;FMTTYPE=image/jpeg:https://www.discovernorthampton.co.uk/wp-content/uploads/2024/11/download.jpg
END:VEVENT
BEGIN:VEVENT
DTSTART;TZID=Europe/London:20241208T110000
DTEND;TZID=Europe/London:20241208T130000
DTSTAMP:20260421T013925
CREATED:20241128T092709Z
LAST-MODIFIED:20241128T092709Z
UID:122369-1733655600-1733662800@www.discovernorthampton.co.uk
SUMMARY:Women's Wellness Walk
DESCRIPTION:
URL:https://www.discovernorthampton.co.uk/event/womens-wellness-walk-29/
LOCATION:Saints Coffee\, 62 St Giles' St\, Northampton\, Northamptonshire\, NN1 1JW\, United Kingdom
ATTACH;FMTTYPE=image/jpeg:https://www.discovernorthampton.co.uk/wp-content/uploads/2024/11/download.jpg
END:VEVENT
BEGIN:VEVENT
DTSTART;TZID=Europe/London:20241208T110000
DTEND;TZID=Europe/London:20241208T130000
DTSTAMP:20260421T013925
CREATED:20241128T092247Z
LAST-MODIFIED:20241128T092247Z
UID:122367-1733655600-1733662800@www.discovernorthampton.co.uk
SUMMARY:Men's Wellness Walk
DESCRIPTION:
URL:https://www.discovernorthampton.co.uk/event/mens-wellness-walk-43/
LOCATION:Saints Coffee\, 62 St Giles' St\, Northampton\, Northamptonshire\, NN1 1JW\, United Kingdom
ATTACH;FMTTYPE=image/jpeg:https://www.discovernorthampton.co.uk/wp-content/uploads/2024/11/download.jpg
END:VEVENT
BEGIN:VEVENT
DTSTART;TZID=Europe/London:20241129T100000
DTEND;TZID=Europe/London:20241129T120000
DTSTAMP:20260421T013925
CREATED:20241107T112712Z
LAST-MODIFIED:20241107T112712Z
UID:122288-1732874400-1732881600@www.discovernorthampton.co.uk
SUMMARY:Menopause Meet-up
DESCRIPTION:
URL:https://www.discovernorthampton.co.uk/event/menopause-meet-up-8/
LOCATION:Saints Coffee\, 62 St Giles' St\, Northampton\, Northamptonshire\, NN1 1JW\, United Kingdom
ATTACH;FMTTYPE=image/jpeg:https://www.discovernorthampton.co.uk/wp-content/uploads/2024/11/download.jpg
END:VEVENT
BEGIN:VEVENT
DTSTART;TZID=Europe/London:20241127T190000
DTEND;TZID=Europe/London:20241127T210000
DTSTAMP:20260421T013925
CREATED:20241107T112606Z
LAST-MODIFIED:20241107T112606Z
UID:122286-1732734000-1732741200@www.discovernorthampton.co.uk
SUMMARY:Comedy Evening
DESCRIPTION:
URL:https://www.discovernorthampton.co.uk/event/comedy-evening-7/
LOCATION:Saints Coffee\, 62 St Giles' St\, Northampton\, Northamptonshire\, NN1 1JW\, United Kingdom
ATTACH;FMTTYPE=image/jpeg:https://www.discovernorthampton.co.uk/wp-content/uploads/2024/11/download.jpg
END:VEVENT
BEGIN:VEVENT
DTSTART;TZID=Europe/London:20241124T110000
DTEND;TZID=Europe/London:20241124T130000
DTSTAMP:20260421T013925
CREATED:20241107T112234Z
LAST-MODIFIED:20241107T112234Z
UID:122284-1732446000-1732453200@www.discovernorthampton.co.uk
SUMMARY:Men's Wellness Walk
DESCRIPTION:
URL:https://www.discovernorthampton.co.uk/event/mens-wellness-walk-42/
LOCATION:Saints Coffee\, 62 St Giles' St\, Northampton\, Northamptonshire\, NN1 1JW\, United Kingdom
ATTACH;FMTTYPE=image/jpeg:https://www.discovernorthampton.co.uk/wp-content/uploads/2024/11/download.jpg
END:VEVENT
BEGIN:VEVENT
DTSTART;TZID=Europe/London:20241121T190000
DTEND;TZID=Europe/London:20241121T210000
DTSTAMP:20260421T013925
CREATED:20241107T112051Z
LAST-MODIFIED:20241107T112051Z
UID:122282-1732215600-1732222800@www.discovernorthampton.co.uk
SUMMARY:Saints Book Club & Cocktails
DESCRIPTION:
URL:https://www.discovernorthampton.co.uk/event/saints-book-club-cocktails-14/
LOCATION:Saints Coffee\, 62 St Giles' St\, Northampton\, Northamptonshire\, NN1 1JW\, United Kingdom
ATTACH;FMTTYPE=image/jpeg:https://www.discovernorthampton.co.uk/wp-content/uploads/2024/11/download.jpg
END:VEVENT
BEGIN:VEVENT
DTSTART;TZID=Europe/London:20241121T170000
DTEND;TZID=Europe/London:20241121T183000
DTSTAMP:20260421T013925
CREATED:20241107T111106Z
LAST-MODIFIED:20241107T111106Z
UID:122280-1732208400-1732213800@www.discovernorthampton.co.uk
SUMMARY:Coffee & Catch Up With Northants Lesbian Society
DESCRIPTION:
URL:https://www.discovernorthampton.co.uk/event/coffee-catch-up-with-northants-lesbian-society-10/
LOCATION:Saints Coffee\, 62 St Giles' St\, Northampton\, Northamptonshire\, NN1 1JW\, United Kingdom
ATTACH;FMTTYPE=image/jpeg:https://www.discovernorthampton.co.uk/wp-content/uploads/2024/11/download.jpg
END:VEVENT
BEGIN:VEVENT
DTSTART;TZID=Europe/London:20241112T183000
DTEND;TZID=Europe/London:20241112T203000
DTSTAMP:20260421T013925
CREATED:20241107T110935Z
LAST-MODIFIED:20241107T110935Z
UID:122278-1731436200-1731443400@www.discovernorthampton.co.uk
SUMMARY:Mixed Heritage Meetup/Discussion
DESCRIPTION:
URL:https://www.discovernorthampton.co.uk/event/mixed-heritage-meetup-discussion-7/
LOCATION:Saints Coffee\, 62 St Giles' St\, Northampton\, Northamptonshire\, NN1 1JW\, United Kingdom
ATTACH;FMTTYPE=image/jpeg:https://www.discovernorthampton.co.uk/wp-content/uploads/2024/11/download.jpg
END:VEVENT
END:VCALENDAR