BEGIN:VCALENDAR
VERSION:2.0
PRODID:-//Northampton BID - ECPv6.2.4//NONSGML v1.0//EN
CALSCALE:GREGORIAN
METHOD:PUBLISH
X-WR-CALNAME:Northampton BID
X-ORIGINAL-URL:https://www.discovernorthampton.co.uk
X-WR-CALDESC:Events for Northampton BID
REFRESH-INTERVAL;VALUE=DURATION:PT1H
X-Robots-Tag:noindex
X-PUBLISHED-TTL:PT1H
BEGIN:VTIMEZONE
TZID:Europe/London
BEGIN:DAYLIGHT
TZOFFSETFROM:+0000
TZOFFSETTO:+0100
TZNAME:BST
DTSTART:20240331T010000
END:DAYLIGHT
BEGIN:STANDARD
TZOFFSETFROM:+0100
TZOFFSETTO:+0000
TZNAME:GMT
DTSTART:20241027T010000
END:STANDARD
END:VTIMEZONE
BEGIN:VEVENT
DTSTART;TZID=Europe/London:20240827T190000
DTEND;TZID=Europe/London:20240827T210000
DTSTAMP:20260425T200253
CREATED:20240815T085506Z
LAST-MODIFIED:20240815T085506Z
UID:121066-1724785200-1724792400@www.discovernorthampton.co.uk
SUMMARY:Art Jam & & Cocktails
DESCRIPTION:
URL:https://www.discovernorthampton.co.uk/event/art-jam-cocktails-4/
LOCATION:Saints Coffee\, 62 St Giles' St\, Northampton\, Northamptonshire\, NN1 1JW\, United Kingdom
ATTACH;FMTTYPE=image/jpeg:https://www.discovernorthampton.co.uk/wp-content/uploads/2024/08/download.jpg
END:VEVENT
BEGIN:VEVENT
DTSTART;TZID=Europe/London:20240818T110000
DTEND;TZID=Europe/London:20240818T130000
DTSTAMP:20260425T200253
CREATED:20240815T085318Z
LAST-MODIFIED:20240815T085318Z
UID:121064-1723978800-1723986000@www.discovernorthampton.co.uk
SUMMARY:Men's Wellness Walk
DESCRIPTION:
URL:https://www.discovernorthampton.co.uk/event/mens-wellness-walk-35/
LOCATION:Saints Coffee\, 62 St Giles' St\, Northampton\, Northamptonshire\, NN1 1JW\, United Kingdom
ATTACH;FMTTYPE=image/jpeg:https://www.discovernorthampton.co.uk/wp-content/uploads/2024/08/download.jpg
END:VEVENT
BEGIN:VEVENT
DTSTART;TZID=Europe/London:20240815T190000
DTEND;TZID=Europe/London:20240815T210000
DTSTAMP:20260425T200253
CREATED:20240815T084703Z
LAST-MODIFIED:20240815T084703Z
UID:121062-1723748400-1723755600@www.discovernorthampton.co.uk
SUMMARY:Saints Book Club & Cocktails
DESCRIPTION:
URL:https://www.discovernorthampton.co.uk/event/saints-book-club-cocktails-11/
LOCATION:Saints Coffee\, 62 St Giles' St\, Northampton\, Northamptonshire\, NN1 1JW\, United Kingdom
ATTACH;FMTTYPE=image/jpeg:https://www.discovernorthampton.co.uk/wp-content/uploads/2024/08/download.jpg
END:VEVENT
BEGIN:VEVENT
DTSTART;TZID=Europe/London:20240815T170000
DTEND;TZID=Europe/London:20240815T183000
DTSTAMP:20260425T200253
CREATED:20240815T083451Z
LAST-MODIFIED:20240815T083451Z
UID:121059-1723741200-1723746600@www.discovernorthampton.co.uk
SUMMARY:Coffee & Catch Up with Northants Lesbian Society
DESCRIPTION:
URL:https://www.discovernorthampton.co.uk/event/coffee-catch-up-with-northants-lesbian-society-6/
LOCATION:Saints Coffee\, 62 St Giles' St\, Northampton\, Northamptonshire\, NN1 1JW\, United Kingdom
ATTACH;FMTTYPE=image/jpeg:https://www.discovernorthampton.co.uk/wp-content/uploads/2024/08/download.jpg
END:VEVENT
BEGIN:VEVENT
DTSTART;TZID=Europe/London:20240804T110000
DTEND;TZID=Europe/London:20240804T110000
DTSTAMP:20260425T200253
CREATED:20240801T112713Z
LAST-MODIFIED:20240801T112713Z
UID:120950-1722769200-1722769200@www.discovernorthampton.co.uk
SUMMARY:Men's Wellness Walk
DESCRIPTION:Sunday 4th August\, 11am â€“ Men’s Wellness Walk w/ @litcounselling @nn_mens_wellness_walks @_simeonjames (Just turn up!)
URL:https://www.discovernorthampton.co.uk/event/mens-wellness-walk-34/
LOCATION:Saints Coffee\, 62 St Giles' St\, Northampton\, Northamptonshire\, NN1 1JW\, United Kingdom
ATTACH;FMTTYPE=image/webp:https://www.discovernorthampton.co.uk/wp-content/uploads/2024/05/Saints-Coffee-Logo-1-2.webp
END:VEVENT
BEGIN:VEVENT
DTSTART;TZID=Europe/London:20240723T190000
DTEND;TZID=Europe/London:20240723T210000
DTSTAMP:20260425T200253
CREATED:20240704T104657Z
LAST-MODIFIED:20240704T104657Z
UID:120236-1721761200-1721768400@www.discovernorthampton.co.uk
SUMMARY:Art Jam and Cocktails
DESCRIPTION:
URL:https://www.discovernorthampton.co.uk/event/art-jam-and-cocktails-3/
LOCATION:Saints Coffee\, 62 St Giles' St\, Northampton\, Northamptonshire\, NN1 1JW\, United Kingdom
ATTACH;FMTTYPE=image/jpeg:https://www.discovernorthampton.co.uk/wp-content/uploads/2024/07/download.jpg
END:VEVENT
BEGIN:VEVENT
DTSTART;TZID=Europe/London:20240721T110000
DTEND;TZID=Europe/London:20240721T130000
DTSTAMP:20260425T200253
CREATED:20240704T104544Z
LAST-MODIFIED:20240704T104544Z
UID:120234-1721559600-1721566800@www.discovernorthampton.co.uk
SUMMARY:Men's Wellness Walk
DESCRIPTION:
URL:https://www.discovernorthampton.co.uk/event/mens-wellness-walk-33/
LOCATION:Saints Coffee\, 62 St Giles' St\, Northampton\, Northamptonshire\, NN1 1JW\, United Kingdom
ATTACH;FMTTYPE=image/jpeg:https://www.discovernorthampton.co.uk/wp-content/uploads/2024/07/download.jpg
END:VEVENT
BEGIN:VEVENT
DTSTART;TZID=Europe/London:20240718T190000
DTEND;TZID=Europe/London:20240718T210000
DTSTAMP:20260425T200253
CREATED:20240704T103230Z
LAST-MODIFIED:20240704T103230Z
UID:120232-1721329200-1721336400@www.discovernorthampton.co.uk
SUMMARY:Saints Book Club & Cocktails
DESCRIPTION:
URL:https://www.discovernorthampton.co.uk/event/saints-book-club-cocktails-10/
LOCATION:Saints Coffee\, 62 St Giles' St\, Northampton\, Northamptonshire\, NN1 1JW\, United Kingdom
ATTACH;FMTTYPE=image/jpeg:https://www.discovernorthampton.co.uk/wp-content/uploads/2024/07/download.jpg
END:VEVENT
BEGIN:VEVENT
DTSTART;TZID=Europe/London:20240718T170000
DTEND;TZID=Europe/London:20240718T183000
DTSTAMP:20260425T200253
CREATED:20240704T103108Z
LAST-MODIFIED:20240704T103108Z
UID:120230-1721322000-1721327400@www.discovernorthampton.co.uk
SUMMARY:Coffee & Catch Up
DESCRIPTION:
URL:https://www.discovernorthampton.co.uk/event/coffee-catch-up-2/
LOCATION:Saints Coffee\, 62 St Giles' St\, Northampton\, Northamptonshire\, NN1 1JW\, United Kingdom
ATTACH;FMTTYPE=image/jpeg:https://www.discovernorthampton.co.uk/wp-content/uploads/2024/07/download.jpg
END:VEVENT
BEGIN:VEVENT
DTSTART;TZID=Europe/London:20240714T110000
DTEND;TZID=Europe/London:20240714T130000
DTSTAMP:20260425T200253
CREATED:20240704T102624Z
LAST-MODIFIED:20240704T102624Z
UID:120228-1720954800-1720962000@www.discovernorthampton.co.uk
SUMMARY:Women's Wellness Walk
DESCRIPTION:
URL:https://www.discovernorthampton.co.uk/event/womens-wellness-walk-24/
LOCATION:Saints Coffee\, 62 St Giles' St\, Northampton\, Northamptonshire\, NN1 1JW\, United Kingdom
ATTACH;FMTTYPE=image/jpeg:https://www.discovernorthampton.co.uk/wp-content/uploads/2024/07/download.jpg
END:VEVENT
BEGIN:VEVENT
DTSTART;TZID=Europe/London:20240711T190000
DTEND;TZID=Europe/London:20240711T213000
DTSTAMP:20260425T200253
CREATED:20240704T102247Z
LAST-MODIFIED:20240704T102247Z
UID:120226-1720724400-1720733400@www.discovernorthampton.co.uk
SUMMARY:Fermentation workshop
DESCRIPTION:
URL:https://www.discovernorthampton.co.uk/event/fermentation-workshop/
LOCATION:Saints Coffee\, 62 St Giles' St\, Northampton\, Northamptonshire\, NN1 1JW\, United Kingdom
ATTACH;FMTTYPE=image/jpeg:https://www.discovernorthampton.co.uk/wp-content/uploads/2024/07/download.jpg
END:VEVENT
BEGIN:VEVENT
DTSTART;TZID=Europe/London:20240709T183000
DTEND;TZID=Europe/London:20240709T203000
DTSTAMP:20260425T200253
CREATED:20240704T102046Z
LAST-MODIFIED:20240704T102046Z
UID:120224-1720549800-1720557000@www.discovernorthampton.co.uk
SUMMARY:Mixed Heritage Meetup/Discussion
DESCRIPTION:
URL:https://www.discovernorthampton.co.uk/event/mixed-heritage-meetup-discussion-4/
LOCATION:Saints Coffee\, 62 St Giles' St\, Northampton\, Northamptonshire\, NN1 1JW\, United Kingdom
ATTACH;FMTTYPE=image/jpeg:https://www.discovernorthampton.co.uk/wp-content/uploads/2024/07/download.jpg
END:VEVENT
BEGIN:VEVENT
DTSTART;TZID=Europe/London:20240707T110000
DTEND;TZID=Europe/London:20240707T130000
DTSTAMP:20260425T200253
CREATED:20240704T101402Z
LAST-MODIFIED:20240704T101402Z
UID:120221-1720350000-1720357200@www.discovernorthampton.co.uk
SUMMARY:Men's Wellness Walk
DESCRIPTION:
URL:https://www.discovernorthampton.co.uk/event/mens-wellness-walk-32/
LOCATION:Saints Coffee\, 62 St Giles' St\, Northampton\, Northamptonshire\, NN1 1JW\, United Kingdom
ATTACH;FMTTYPE=image/jpeg:https://www.discovernorthampton.co.uk/wp-content/uploads/2024/07/download.jpg
END:VEVENT
BEGIN:VEVENT
DTSTART;TZID=Europe/London:20240531T100000
DTEND;TZID=Europe/London:20240531T120000
DTSTAMP:20260425T200253
CREATED:20240508T105428Z
LAST-MODIFIED:20240523T090705Z
UID:119755-1717149600-1717156800@www.discovernorthampton.co.uk
SUMMARY:Menopause Meet-up
DESCRIPTION:
URL:https://www.discovernorthampton.co.uk/event/menopause-meet-up-3/
LOCATION:Saints Coffee\, 62 St Giles' St\, Northampton\, Northamptonshire\, NN1 1JW\, United Kingdom
ATTACH;FMTTYPE=image/jpeg:https://www.discovernorthampton.co.uk/wp-content/uploads/2024/05/download.jpg
END:VEVENT
BEGIN:VEVENT
DTSTART;TZID=Europe/London:20240528T190000
DTEND;TZID=Europe/London:20240528T210000
DTSTAMP:20260425T200253
CREATED:20240508T104737Z
LAST-MODIFIED:20240508T104737Z
UID:119752-1716922800-1716930000@www.discovernorthampton.co.uk
SUMMARY:Art Jam & Cocktails
DESCRIPTION:
URL:https://www.discovernorthampton.co.uk/event/art-jam-cocktails-3/
LOCATION:Saints Coffee\, 62 St Giles' St\, Northampton\, Northamptonshire\, NN1 1JW\, United Kingdom
ATTACH;FMTTYPE=image/webp:https://www.discovernorthampton.co.uk/wp-content/uploads/2024/05/Saints-Coffee-Logo-1-2.webp
END:VEVENT
BEGIN:VEVENT
DTSTART;TZID=Europe/London:20240526T110000
DTEND;TZID=Europe/London:20240526T130000
DTSTAMP:20260425T200253
CREATED:20240508T104254Z
LAST-MODIFIED:20240523T090735Z
UID:119750-1716721200-1716728400@www.discovernorthampton.co.uk
SUMMARY:Men's Wellness Walk
DESCRIPTION:
URL:https://www.discovernorthampton.co.uk/event/mens-wellness-walk-31/
LOCATION:Saints Coffee\, 62 St Giles' St\, Northampton\, Northamptonshire\, NN1 1JW\, United Kingdom
ATTACH;FMTTYPE=image/jpeg:https://www.discovernorthampton.co.uk/wp-content/uploads/2024/05/download.jpg
END:VEVENT
BEGIN:VEVENT
DTSTART;TZID=Europe/London:20240516T190000
DTEND;TZID=Europe/London:20240516T210000
DTSTAMP:20260425T200253
CREATED:20240508T104134Z
LAST-MODIFIED:20240508T104134Z
UID:119748-1715886000-1715893200@www.discovernorthampton.co.uk
SUMMARY:Saints Book Club & Cocktails
DESCRIPTION:
URL:https://www.discovernorthampton.co.uk/event/saints-book-club-cocktails-9/
LOCATION:Saints Coffee\, 62 St Giles' St\, Northampton\, Northamptonshire\, NN1 1JW\, United Kingdom
ATTACH;FMTTYPE=image/webp:https://www.discovernorthampton.co.uk/wp-content/uploads/2024/05/Saints-Coffee-Logo-1-1.webp
END:VEVENT
BEGIN:VEVENT
DTSTART;TZID=Europe/London:20240516T170000
DTEND;TZID=Europe/London:20240516T183000
DTSTAMP:20260425T200253
CREATED:20240508T103752Z
LAST-MODIFIED:20240508T103752Z
UID:119746-1715878800-1715884200@www.discovernorthampton.co.uk
SUMMARY:Coffee & Catch up with Northants Lesbian Society
DESCRIPTION:
URL:https://www.discovernorthampton.co.uk/event/coffee-catch-up-with-northants-lesbian-society-5/
LOCATION:Saints Coffee\, 62 St Giles' St\, Northampton\, Northamptonshire\, NN1 1JW\, United Kingdom
ATTACH;FMTTYPE=image/webp:https://www.discovernorthampton.co.uk/wp-content/uploads/2024/05/Saints-Coffee-Logo-1-1.webp
END:VEVENT
BEGIN:VEVENT
DTSTART;TZID=Europe/London:20240514T183000
DTEND;TZID=Europe/London:20240514T193000
DTSTAMP:20260425T200253
CREATED:20240508T103550Z
LAST-MODIFIED:20240508T103550Z
UID:119743-1715711400-1715715000@www.discovernorthampton.co.uk
SUMMARY:Mixed Heritage Meetup/Discussion
DESCRIPTION:
URL:https://www.discovernorthampton.co.uk/event/mixed-heritage-meetup-discussion-3/
LOCATION:Saints Coffee\, 62 St Giles' St\, Northampton\, Northamptonshire\, NN1 1JW\, United Kingdom
ATTACH;FMTTYPE=image/webp:https://www.discovernorthampton.co.uk/wp-content/uploads/2024/05/Saints-Coffee-Logo-1-1.webp
END:VEVENT
BEGIN:VEVENT
DTSTART;TZID=Europe/London:20240512T110000
DTEND;TZID=Europe/London:20240512T130000
DTSTAMP:20260425T200253
CREATED:20240508T103355Z
LAST-MODIFIED:20240508T103355Z
UID:119741-1715511600-1715518800@www.discovernorthampton.co.uk
SUMMARY:Men's Wellness Walk
DESCRIPTION:
URL:https://www.discovernorthampton.co.uk/event/mens-wellness-walk-30/
LOCATION:Saints Coffee\, 62 St Giles' St\, Northampton\, Northamptonshire\, NN1 1JW\, United Kingdom
ATTACH;FMTTYPE=image/webp:https://www.discovernorthampton.co.uk/wp-content/uploads/2024/05/Saints-Coffee-Logo-.webp
END:VEVENT
BEGIN:VEVENT
DTSTART;TZID=Europe/London:20240512T110000
DTEND;TZID=Europe/London:20240512T130000
DTSTAMP:20260425T200253
CREATED:20240508T102936Z
LAST-MODIFIED:20240508T102936Z
UID:119738-1715511600-1715518800@www.discovernorthampton.co.uk
SUMMARY:Women's Wellness Walk
DESCRIPTION:
URL:https://www.discovernorthampton.co.uk/event/womens-wellness-walk-23/
LOCATION:Saints Coffee\, 62 St Giles' St\, Northampton\, Northamptonshire\, NN1 1JW\, United Kingdom
ATTACH;FMTTYPE=image/webp:https://www.discovernorthampton.co.uk/wp-content/uploads/2024/05/Saints-Coffee-Logo-.webp
END:VEVENT
BEGIN:VEVENT
DTSTART;TZID=Europe/London:20240430T190000
DTEND;TZID=Europe/London:20240430T210000
DTSTAMP:20260425T200253
CREATED:20240326T152240Z
LAST-MODIFIED:20240326T152240Z
UID:119204-1714503600-1714510800@www.discovernorthampton.co.uk
SUMMARY:Art Jam & Cocktails
DESCRIPTION:Art Jam & Cocktails
URL:https://www.discovernorthampton.co.uk/event/art-jam-cocktails-2/
LOCATION:Saints Coffee\, 62 St Giles' St\, Northampton\, Northamptonshire\, NN1 1JW\, United Kingdom
ATTACH;FMTTYPE=image/webp:https://www.discovernorthampton.co.uk/wp-content/uploads/2024/03/2021-02-01_19-36-01_1612208205.webp
END:VEVENT
BEGIN:VEVENT
DTSTART;TZID=Europe/London:20240426T100000
DTEND;TZID=Europe/London:20240426T120000
DTSTAMP:20260425T200253
CREATED:20240326T152101Z
LAST-MODIFIED:20240418T090841Z
UID:119202-1714125600-1714132800@www.discovernorthampton.co.uk
SUMMARY:Menopause Meet-up
DESCRIPTION:
URL:https://www.discovernorthampton.co.uk/event/menopause-meet-up-2/
LOCATION:Saints Coffee\, 62 St Giles' St\, Northampton\, Northamptonshire\, NN1 1JW\, United Kingdom
ATTACH;FMTTYPE=image/webp:https://www.discovernorthampton.co.uk/wp-content/uploads/2024/03/Saints-Coffee-Logo-.webp
END:VEVENT
BEGIN:VEVENT
DTSTART;TZID=Europe/London:20240424T190000
DTEND;TZID=Europe/London:20240424T210000
DTSTAMP:20260425T200253
CREATED:20240326T151737Z
LAST-MODIFIED:20240418T091858Z
UID:119200-1713985200-1713992400@www.discovernorthampton.co.uk
SUMMARY:Comedy Evening
DESCRIPTION:
URL:https://www.discovernorthampton.co.uk/event/comedy-evening-3/
LOCATION:Saints Coffee\, 62 St Giles' St\, Northampton\, Northamptonshire\, NN1 1JW\, United Kingdom
ATTACH;FMTTYPE=image/webp:https://www.discovernorthampton.co.uk/wp-content/uploads/2024/03/Saints-Coffee-Logo-.webp
END:VEVENT
BEGIN:VEVENT
DTSTART;TZID=Europe/London:20240421T110000
DTEND;TZID=Europe/London:20240421T130000
DTSTAMP:20260425T200253
CREATED:20240326T151615Z
LAST-MODIFIED:20240418T091935Z
UID:119198-1713697200-1713704400@www.discovernorthampton.co.uk
SUMMARY:Men's Wellness Walk
DESCRIPTION:
URL:https://www.discovernorthampton.co.uk/event/mens-wellness-walk-29/
LOCATION:Saints Coffee\, 62 St Giles' St\, Northampton\, Northamptonshire\, NN1 1JW\, United Kingdom
ATTACH;FMTTYPE=image/webp:https://www.discovernorthampton.co.uk/wp-content/uploads/2024/03/Saints-Coffee-Logo-.webp
END:VEVENT
BEGIN:VEVENT
DTSTART;TZID=Europe/London:20240421T110000
DTEND;TZID=Europe/London:20240421T130000
DTSTAMP:20260425T200253
CREATED:20240326T150757Z
LAST-MODIFIED:20240418T091227Z
UID:119196-1713697200-1713704400@www.discovernorthampton.co.uk
SUMMARY:Saints Book Club & Cocktails
DESCRIPTION:
URL:https://www.discovernorthampton.co.uk/event/saints-book-club-cocktails-8/
LOCATION:Saints Coffee\, 62 St Giles' St\, Northampton\, Northamptonshire\, NN1 1JW\, United Kingdom
ATTACH;FMTTYPE=image/webp:https://www.discovernorthampton.co.uk/wp-content/uploads/2024/03/Saints-Coffee-Logo-.webp
END:VEVENT
BEGIN:VEVENT
DTSTART;TZID=Europe/London:20240418T170000
DTEND;TZID=Europe/London:20240418T183000
DTSTAMP:20260425T200253
CREATED:20240326T150125Z
LAST-MODIFIED:20240418T092122Z
UID:119194-1713459600-1713465000@www.discovernorthampton.co.uk
SUMMARY:Coffee & Catch Up with Northants Lesbian Society
DESCRIPTION:
URL:https://www.discovernorthampton.co.uk/event/coffee-catch-up-with-northants-lesbian-society-4/
LOCATION:Saints Coffee\, 62 St Giles' St\, Northampton\, Northamptonshire\, NN1 1JW\, United Kingdom
ATTACH;FMTTYPE=image/webp:https://www.discovernorthampton.co.uk/wp-content/uploads/2024/03/Saints-Coffee-Logo-.webp
END:VEVENT
BEGIN:VEVENT
DTSTART;TZID=Europe/London:20240414T110000
DTEND;TZID=Europe/London:20240414T130000
DTSTAMP:20260425T200253
CREATED:20240326T145938Z
LAST-MODIFIED:20240326T145938Z
UID:119192-1713092400-1713099600@www.discovernorthampton.co.uk
SUMMARY:Women's Wellness Walk
DESCRIPTION:
URL:https://www.discovernorthampton.co.uk/event/womens-wellness-walk-22/
LOCATION:Saints Coffee\, 62 St Giles' St\, Northampton\, Northamptonshire\, NN1 1JW\, United Kingdom
ATTACH;FMTTYPE=image/webp:https://www.discovernorthampton.co.uk/wp-content/uploads/2024/03/2021-02-01_19-36-01_1612208205.webp
END:VEVENT
BEGIN:VEVENT
DTSTART;TZID=Europe/London:20240409T183000
DTEND;TZID=Europe/London:20240409T203000
DTSTAMP:20260425T200253
CREATED:20240326T145755Z
LAST-MODIFIED:20240326T145755Z
UID:119190-1712687400-1712694600@www.discovernorthampton.co.uk
SUMMARY:Mixed Heritage Meetup/Discussion
DESCRIPTION:
URL:https://www.discovernorthampton.co.uk/event/mixed-heritage-meetup-discussion-2/
LOCATION:Saints Coffee\, 62 St Giles' St\, Northampton\, Northamptonshire\, NN1 1JW\, United Kingdom
ATTACH;FMTTYPE=image/webp:https://www.discovernorthampton.co.uk/wp-content/uploads/2024/03/2021-02-01_19-36-01_1612208205.webp
END:VEVENT
BEGIN:VEVENT
DTSTART;TZID=Europe/London:20240407T110000
DTEND;TZID=Europe/London:20240407T130000
DTSTAMP:20260425T200253
CREATED:20240326T145522Z
LAST-MODIFIED:20240326T145522Z
UID:119187-1712487600-1712494800@www.discovernorthampton.co.uk
SUMMARY:Men's Wellness Walk
DESCRIPTION:
URL:https://www.discovernorthampton.co.uk/event/mens-wellness-walk-28/
LOCATION:Saints Coffee\, 62 St Giles' St\, Northampton\, Northamptonshire\, NN1 1JW\, United Kingdom
ATTACH;FMTTYPE=image/webp:https://www.discovernorthampton.co.uk/wp-content/uploads/2024/03/2021-02-01_19-36-01_1612208205.webp
END:VEVENT
END:VCALENDAR