BEGIN:VCALENDAR
VERSION:2.0
PRODID:-//Northampton BID - ECPv6.2.4//NONSGML v1.0//EN
CALSCALE:GREGORIAN
METHOD:PUBLISH
X-ORIGINAL-URL:https://www.discovernorthampton.co.uk
X-WR-CALDESC:Events for Northampton BID
REFRESH-INTERVAL;VALUE=DURATION:PT1H
X-Robots-Tag:noindex
X-PUBLISHED-TTL:PT1H
BEGIN:VTIMEZONE
TZID:Europe/London
BEGIN:DAYLIGHT
TZOFFSETFROM:+0000
TZOFFSETTO:+0100
TZNAME:BST
DTSTART:20240331T010000
END:DAYLIGHT
BEGIN:STANDARD
TZOFFSETFROM:+0100
TZOFFSETTO:+0000
TZNAME:GMT
DTSTART:20241027T010000
END:STANDARD
END:VTIMEZONE
BEGIN:VEVENT
DTSTART;TZID=Europe/London:20240224T100000
DTEND;TZID=Europe/London:20240224T150000
DTSTAMP:20260419T154100
CREATED:20240213T092530Z
LAST-MODIFIED:20240213T092530Z
UID:118315-1708768800-1708786800@www.discovernorthampton.co.uk
SUMMARY:Meet Lego Batman
DESCRIPTION:Meet Lego Batman At The Entertainer in The Grosvenor Centre
URL:https://www.discovernorthampton.co.uk/event/meet-lego-batman/
LOCATION:The Entertainer\, Grosvenor Centre\, Princes Walk 29/31\, Northampton\, Northamptonshire\, NN1 2EL\, United Kingdom
ATTACH;FMTTYPE=image/jpeg:https://www.discovernorthampton.co.uk/wp-content/uploads/2024/02/Lego_Batman_FB_IG_1080x1080px.jpg
END:VEVENT
END:VCALENDAR