BEGIN:VCALENDAR
VERSION:2.0
PRODID:-//Northampton BID - ECPv6.2.4//NONSGML v1.0//EN
CALSCALE:GREGORIAN
METHOD:PUBLISH
X-WR-CALNAME:Northampton BID
X-ORIGINAL-URL:https://www.discovernorthampton.co.uk
X-WR-CALDESC:Events for Northampton BID
REFRESH-INTERVAL;VALUE=DURATION:PT1H
X-Robots-Tag:noindex
X-PUBLISHED-TTL:PT1H
BEGIN:VTIMEZONE
TZID:Europe/London
BEGIN:DAYLIGHT
TZOFFSETFROM:+0000
TZOFFSETTO:+0100
TZNAME:BST
DTSTART:20220327T010000
END:DAYLIGHT
BEGIN:STANDARD
TZOFFSETFROM:+0100
TZOFFSETTO:+0000
TZNAME:GMT
DTSTART:20221030T010000
END:STANDARD
END:VTIMEZONE
BEGIN:VEVENT
DTSTART;TZID=Europe/London:20220318T200000
DTEND;TZID=Europe/London:20220318T220000
DTSTAMP:20260421T155335
CREATED:20220223T142656Z
LAST-MODIFIED:20220223T142656Z
UID:107425-1647633600-1647640800@www.discovernorthampton.co.uk
SUMMARY:The Guns N Roses Experience
DESCRIPTION:
URL:https://www.discovernorthampton.co.uk/event/the-guns-n-roses-experience/
LOCATION:The Picturedrome\, 222 Kettering Rd\, Northampton\, Northants\, NN1 4BN\, United Kingdom
CATEGORIES:Concert
ATTACH;FMTTYPE=image/jpeg:https://www.discovernorthampton.co.uk/wp-content/uploads/2022/02/the-guns-n-roses-experience-694695354-300x300-1.jpg
END:VEVENT
BEGIN:VEVENT
DTSTART;TZID=Europe/London:20220303T200000
DTEND;TZID=Europe/London:20220303T220000
DTSTAMP:20260421T155335
CREATED:20220223T124311Z
LAST-MODIFIED:20220223T124311Z
UID:107363-1646337600-1646344800@www.discovernorthampton.co.uk
SUMMARY:The Picturedrome Comedy Club
DESCRIPTION:A Fun night full of laughs at The Picturedrome Pub Comedy Club Night starring Angelos Epithemiou\, Andrew Bird\, Diane Spencer and Kevin Shephard. \n 
URL:https://www.discovernorthampton.co.uk/event/the-picturedrome-comedy-club/
LOCATION:The Picturedrome\, 222 Kettering Rd\, Northampton\, Northants\, NN1 4BN\, United Kingdom
CATEGORIES:Comedy Night
ATTACH;FMTTYPE=image/jpeg:https://www.discovernorthampton.co.uk/wp-content/uploads/2022/02/274099165_3132758553644577_8745986111189409533_n.jpg
END:VEVENT
END:VCALENDAR