BEGIN:VCALENDAR
VERSION:2.0
PRODID:-//Northampton BID - ECPv6.2.4//NONSGML v1.0//EN
CALSCALE:GREGORIAN
METHOD:PUBLISH
X-ORIGINAL-URL:https://www.discovernorthampton.co.uk
X-WR-CALDESC:Events for Northampton BID
REFRESH-INTERVAL;VALUE=DURATION:PT1H
X-Robots-Tag:noindex
X-PUBLISHED-TTL:PT1H
BEGIN:VTIMEZONE
TZID:Europe/London
BEGIN:DAYLIGHT
TZOFFSETFROM:+0000
TZOFFSETTO:+0100
TZNAME:BST
DTSTART:20240331T010000
END:DAYLIGHT
BEGIN:STANDARD
TZOFFSETFROM:+0100
TZOFFSETTO:+0000
TZNAME:GMT
DTSTART:20241027T010000
END:STANDARD
BEGIN:DAYLIGHT
TZOFFSETFROM:+0000
TZOFFSETTO:+0100
TZNAME:BST
DTSTART:20250330T010000
END:DAYLIGHT
BEGIN:STANDARD
TZOFFSETFROM:+0100
TZOFFSETTO:+0000
TZNAME:GMT
DTSTART:20251026T010000
END:STANDARD
BEGIN:DAYLIGHT
TZOFFSETFROM:+0000
TZOFFSETTO:+0100
TZNAME:BST
DTSTART:20260329T010000
END:DAYLIGHT
BEGIN:STANDARD
TZOFFSETFROM:+0100
TZOFFSETTO:+0000
TZNAME:GMT
DTSTART:20261025T010000
END:STANDARD
END:VTIMEZONE
BEGIN:VEVENT
DTSTART;TZID=Europe/London:20260416T190000
DTEND;TZID=Europe/London:20260416T210000
DTSTAMP:20260420T051928
CREATED:20260402T083715Z
LAST-MODIFIED:20260402T083715Z
UID:135542-1776366000-1776373200@www.discovernorthampton.co.uk
SUMMARY:SOUTH AMERICAN WINE TASTING
DESCRIPTION:Explore South America Through Wine \n\nTravel through South America without leaving your seat at this guided wine tasting. Explore standout wines from iconic regions\, learn about the grapes and stories behind them\, and enjoy a relaxed\, social evening of discovery.
URL:https://www.discovernorthampton.co.uk/event/south-american-wine-tasting/
LOCATION:V and B\, 10 St Giles' Square\,\, Northampton\, NN1 1DA\, United Kingdom
ATTACH;FMTTYPE=image/png:https://www.discovernorthampton.co.uk/wp-content/uploads/2026/04/Screenshot-2026-04-02-093616.png
END:VEVENT
BEGIN:VEVENT
DTSTART;TZID=Europe/London:20260228T143000
DTEND;TZID=Europe/London:20260228T160000
DTSTAMP:20260420T051928
CREATED:20251224T102134Z
LAST-MODIFIED:20251224T102134Z
UID:133314-1772289000-1772294400@www.discovernorthampton.co.uk
SUMMARY:BATTLE OF THE CASK STRENGTH WHISKIES
DESCRIPTION:Decide your favourite! \n\nCask strength whisky has many qualities that you would expect from a standard whisky\, however they are not diluted in anyway. Cask strength whiskys are stronger in ABV and bolder in flavour\, therefore\, making them closer to how the distiller intended! Join us on a tasting journey as we compare some of these spirits!
URL:https://www.discovernorthampton.co.uk/event/battle-of-the-cask-strength-whiskies/
LOCATION:V and B\, 10 St Giles' Square\,\, Northampton\, NN1 1DA\, United Kingdom
CATEGORIES:Event
ATTACH;FMTTYPE=image/png:https://www.discovernorthampton.co.uk/wp-content/uploads/2025/12/Screenshot-2025-12-24-101923.png
END:VEVENT
BEGIN:VEVENT
DTSTART;TZID=Europe/London:20260122T190000
DTEND;TZID=Europe/London:20260122T220000
DTSTAMP:20260420T051928
CREATED:20251224T095747Z
LAST-MODIFIED:20251224T095747Z
UID:133299-1769108400-1769119200@www.discovernorthampton.co.uk
SUMMARY:ITALIAN WINE AND SMALL PLATES
DESCRIPTION:Northampton Town Iâ€™m Proud To Be! \n\nFor one night and one night only\, weâ€™ll be waving goodbye to our French roots\, and paying a visit to Italy! Itâ€™s no secret that our French wine and food pairings are exquisite\, but our Italian pairings are equally as delicious! \nJoin Richard as he presents you with an array of Italian offerings\, paired with tasty plates from chef Joe!
URL:https://www.discovernorthampton.co.uk/event/italian-wine-and-small-plates/
LOCATION:V and B\, 10 St Giles' Square\,\, Northampton\, NN1 1DA\, United Kingdom
CATEGORIES:Event
ATTACH;FMTTYPE=image/png:https://www.discovernorthampton.co.uk/wp-content/uploads/2025/12/Screenshot-2025-12-24-095452.png
END:VEVENT
BEGIN:VEVENT
DTSTART;TZID=Europe/London:20251127T190000
DTEND;TZID=Europe/London:20251127T210000
DTSTAMP:20260420T051928
CREATED:20251022T122523Z
LAST-MODIFIED:20251022T122523Z
UID:131339-1764270000-1764277200@www.discovernorthampton.co.uk
SUMMARY:Special Xmas Wine
DESCRIPTION:A special time of year calls for a special kind of wineâ€¦ \nRunning out of patience with Pinot? Shaking your head at Sauvignon? -Then break free from the norm\, and discover some new wines\, exclusive to this time of year! \nWhether you’re looking for something to pair with your Turkey dinner\, or you post meal cheese\, we’ve got you
URL:https://www.discovernorthampton.co.uk/event/special-xmas-wine/
LOCATION:V and B\, 10 St Giles' Square\,\, Northampton\, NN1 1DA\, United Kingdom
CATEGORIES:Event
ATTACH;FMTTYPE=image/png:https://www.discovernorthampton.co.uk/wp-content/uploads/2025/10/Screenshot-2025-10-22-132246.png
END:VEVENT
BEGIN:VEVENT
DTSTART;TZID=Europe/London:20251120T190000
DTEND;TZID=Europe/London:20251120T210000
DTSTAMP:20260420T051928
CREATED:20250929T123137Z
LAST-MODIFIED:20250929T123137Z
UID:130950-1763665200-1763672400@www.discovernorthampton.co.uk
SUMMARY:Masterclass: Beaujolais Nouveau.
DESCRIPTION:Move over Burgundy â€“ it’s Beaujolais’ time to shine! \nTo celebrate the arrival of the 2025 Beaujolais Nouveau\, we’ll not only be cracking open the newest bottle to have a first taste\, but we’ll also be putting the entire Beaujolais region front and centre for this masterclass as we taste everything this wine-making area has to offer.
URL:https://www.discovernorthampton.co.uk/event/masterclass-beaujolais-nouveau/
LOCATION:V and B\, 10 St Giles' Square\,\, Northampton\, NN1 1DA\, United Kingdom
CATEGORIES:Event,Masterclass
ATTACH;FMTTYPE=image/png:https://www.discovernorthampton.co.uk/wp-content/uploads/2025/09/Screenshot-2025-09-29-132908.png
END:VEVENT
BEGIN:VEVENT
DTSTART;TZID=Europe/London:20250522T190000
DTEND;TZID=Europe/London:20250522T210000
DTSTAMP:20260420T051928
CREATED:20250425T102420Z
LAST-MODIFIED:20250425T102420Z
UID:126031-1747940400-1747947600@www.discovernorthampton.co.uk
SUMMARY:Masterclass: Hoppy Beer.
DESCRIPTION:Ages 18+\n\n\n\n\n\nHop hop hooray if you love hoppy beer! \nFor this masterclass we’ll be opening our hoppiest brews and discovering how the hops used impact the beers themselves\, whether we have a favourite hop\, and deciding whether there is such a thing as too hoppy. Hop lovers unite â€“ this one’s for you!
URL:https://www.discovernorthampton.co.uk/event/masterclass-hoppy-beer/
LOCATION:V and B\, 10 St Giles' Square\,\, Northampton\, NN1 1DA\, United Kingdom
CATEGORIES:Event
ATTACH;FMTTYPE=image/png:https://www.discovernorthampton.co.uk/wp-content/uploads/2025/04/Screenshot-2025-04-25-111956.png
END:VEVENT
BEGIN:VEVENT
DTSTART;TZID=Europe/London:20250511T180000
DTEND;TZID=Europe/London:20250511T200000
DTSTAMP:20260420T051928
CREATED:20250423T130053Z
LAST-MODIFIED:20250423T130053Z
UID:125932-1746986400-1746993600@www.discovernorthampton.co.uk
SUMMARY:Cherry Soul & Half-Brassed LIVE
DESCRIPTION:Join Cherry Soul and Half-Brassed for an incredible night of live music\, intertwining Neo -Soul\, R&B and funk with New Orleans style brass.
URL:https://www.discovernorthampton.co.uk/event/cherry-soul-half-brassed-live/
LOCATION:V and B\, 10 St Giles' Square\,\, Northampton\, NN1 1DA\, United Kingdom
CATEGORIES:MUSIC
ATTACH;FMTTYPE=image/png:https://www.discovernorthampton.co.uk/wp-content/uploads/2025/04/Screenshot-2025-04-23-135700.png
END:VEVENT
BEGIN:VEVENT
DTSTART;TZID=Europe/London:20240509T190000
DTEND;TZID=Europe/London:20240509T210000
DTSTAMP:20260420T051928
CREATED:20240502T100818Z
LAST-MODIFIED:20240502T101638Z
UID:119537-1715281200-1715288400@www.discovernorthampton.co.uk
SUMMARY:Masterclass: Forgotten Grapes - Sold Out
DESCRIPTION:The choice and use of grapes in wine is quite a complex subject â€“ not only do winemakers have to adapt their choice of grapes to different terroirs and climates â€“ but also to different tastes\, as consumers ultimately determine the style\, taste and strength of the wine that they want to buy. Whatâ€™s more\, in certain countries there are rules which dictate which grapes can be grown in which region\, so inevitably some grapes will be left behind. For this masterclass\, weâ€™ll be taking a look at the Forgotten Grapes of the wine industry â€“ discovering where they grow\, how they taste and why they have been forgotten.
URL:https://www.discovernorthampton.co.uk/event/masterclass-forgotten-grapes-sold-out/
LOCATION:V and B\, 10 St Giles' Square\,\, Northampton\, NN1 1DA\, United Kingdom
CATEGORIES:Masterclass
ATTACH;FMTTYPE=image/jpeg:https://www.discovernorthampton.co.uk/wp-content/uploads/2024/05/VB-Masterclass-Forgottom-Grapes.jpg
END:VEVENT
END:VCALENDAR