BEGIN:VCALENDAR
VERSION:2.0
PRODID:-//Northampton BID - ECPv6.2.4//NONSGML v1.0//EN
CALSCALE:GREGORIAN
METHOD:PUBLISH
X-ORIGINAL-URL:https://www.discovernorthampton.co.uk
X-WR-CALDESC:Events for Northampton BID
REFRESH-INTERVAL;VALUE=DURATION:PT1H
X-Robots-Tag:noindex
X-PUBLISHED-TTL:PT1H
BEGIN:VTIMEZONE
TZID:Europe/London
BEGIN:DAYLIGHT
TZOFFSETFROM:+0000
TZOFFSETTO:+0100
TZNAME:BST
DTSTART:20220327T010000
END:DAYLIGHT
BEGIN:STANDARD
TZOFFSETFROM:+0100
TZOFFSETTO:+0000
TZNAME:GMT
DTSTART:20221030T010000
END:STANDARD
END:VTIMEZONE
BEGIN:VEVENT
DTSTART;TZID=Europe/London:20220805T190000
DTEND;TZID=Europe/London:20220805T210000
DTSTAMP:20260420T151244
CREATED:20220803T080109Z
LAST-MODIFIED:20220803T080109Z
UID:109823-1659726000-1659733200@www.discovernorthampton.co.uk
SUMMARY:Introduction To Cider - Masterclass
DESCRIPTION:We’ll be talking and tasting all things cider this Friday Night!
URL:https://www.discovernorthampton.co.uk/event/introduction-to-cider-masterclass/
LOCATION:VnB\, 10 St Giles' Square\, Northampton\, Northamptonshire\, NN1 1DA\, United Kingdom
CATEGORIES:Masterclass
ATTACH;FMTTYPE=image/jpeg:https://www.discovernorthampton.co.uk/wp-content/uploads/2022/08/uhog.jpg
END:VEVENT
BEGIN:VEVENT
DTSTART;TZID=Europe/London:20220630T190000
DTEND;TZID=Europe/London:20220630T210000
DTSTAMP:20260420T151244
CREATED:20220621T095301Z
LAST-MODIFIED:20220621T095301Z
UID:109094-1656615600-1656622800@www.discovernorthampton.co.uk
SUMMARY:Cornish Gin Masterclass - V and B
DESCRIPTION:
URL:https://www.discovernorthampton.co.uk/event/cornish-gin-masterclass-v-and-b/
LOCATION:VnB\, 10 St Giles' Square\, Northampton\, Northamptonshire\, NN1 1DA\, United Kingdom
CATEGORIES:Event
ATTACH;FMTTYPE=image/png:https://www.discovernorthampton.co.uk/wp-content/uploads/2022/06/masterclass-1-1024x1024-1.png
END:VEVENT
BEGIN:VEVENT
DTSTART;TZID=Europe/London:20220623T183000
DTEND;TZID=Europe/London:20220623T210000
DTSTAMP:20260420T151244
CREATED:20220621T095002Z
LAST-MODIFIED:20220621T095002Z
UID:109091-1656009000-1656018000@www.discovernorthampton.co.uk
SUMMARY:V and B Open Mic
DESCRIPTION:
URL:https://www.discovernorthampton.co.uk/event/v-and-b-open-mic/
LOCATION:VnB\, 10 St Giles' Square\, Northampton\, Northamptonshire\, NN1 1DA\, United Kingdom
CATEGORIES:Night Out
ATTACH;FMTTYPE=image/png:https://www.discovernorthampton.co.uk/wp-content/uploads/2022/06/OPEN-MIC-1-1024x1024-1.png
END:VEVENT
BEGIN:VEVENT
DTSTART;TZID=Europe/London:20220429T180000
DTEND;TZID=Europe/London:20220429T220000
DTSTAMP:20260420T151244
CREATED:20220428T085305Z
LAST-MODIFIED:20220428T085305Z
UID:108109-1651255200-1651269600@www.discovernorthampton.co.uk
SUMMARY:Jazzi Vibes - V & B Northampton
DESCRIPTION:Kick off your Bank holiday weekend in style with @jazzivibes DJing upstairs this Friday from 6-10. Get set for some soul\, reggae\, RnB and Hip Hop. We’ll see you there!
URL:https://www.discovernorthampton.co.uk/event/jazzi-vibes-v-b-northampton/
LOCATION:VnB\, 10 St Giles' Square\, Northampton\, Northamptonshire\, NN1 1DA\, United Kingdom
CATEGORIES:DJ
ATTACH;FMTTYPE=image/jpeg:https://www.discovernorthampton.co.uk/wp-content/uploads/2022/04/vnb.jpg
END:VEVENT
END:VCALENDAR