BEGIN:VCALENDAR
VERSION:2.0
PRODID:-//Northampton BID - ECPv6.2.4//NONSGML v1.0//EN
CALSCALE:GREGORIAN
METHOD:PUBLISH
X-WR-CALNAME:Northampton BID
X-ORIGINAL-URL:https://www.discovernorthampton.co.uk
X-WR-CALDESC:Events for Northampton BID
REFRESH-INTERVAL;VALUE=DURATION:PT1H
X-Robots-Tag:noindex
X-PUBLISHED-TTL:PT1H
BEGIN:VTIMEZONE
TZID:Europe/London
BEGIN:DAYLIGHT
TZOFFSETFROM:+0000
TZOFFSETTO:+0100
TZNAME:BST
DTSTART:20250330T010000
END:DAYLIGHT
BEGIN:STANDARD
TZOFFSETFROM:+0100
TZOFFSETTO:+0000
TZNAME:GMT
DTSTART:20251026T010000
END:STANDARD
END:VTIMEZONE
BEGIN:VEVENT
DTSTART;TZID=Europe/London:20250816T100000
DTEND;TZID=Europe/London:20250816T160000
DTSTAMP:20260425T192637
CREATED:20250814T134036Z
LAST-MODIFIED:20250814T134036Z
UID:129103-1755338400-1755360000@www.discovernorthampton.co.uk
SUMMARY:Solidarity in Action
DESCRIPTION:Join us for our first day of Solidarity In Action.Hands-on workshops\, where participants learn practical ways to support their communities and causes.\nWorkshops: Know Your Rights – Basic legal knowledge for activists and community advocates.Mutual Aid 101 – How to organize and sustain grassroots support networks.Creative Resistance – Making placards\, zines\, and digital campaigns.Storytelling for Solidarity – Using personal narratives to inspire action.Practical Support Skills – Cooking for community events\, first aid basics\, and welfare navigation.
URL:https://www.discovernorthampton.co.uk/event/solidarity-in-action/
LOCATION:62 Gold Street\, 62 Gold Street\, Northampton\,\, NN1 1RS
ATTACH;FMTTYPE=image/jpeg:https://www.discovernorthampton.co.uk/wp-content/uploads/2025/08/491950903_989472590026845_851348667733073056_n.jpg
END:VEVENT
END:VCALENDAR