BEGIN:VCALENDAR
VERSION:2.0
PRODID:-//Northampton BID - ECPv6.2.4//NONSGML v1.0//EN
CALSCALE:GREGORIAN
METHOD:PUBLISH
X-WR-CALNAME:Northampton BID
X-ORIGINAL-URL:https://www.discovernorthampton.co.uk
X-WR-CALDESC:Events for Northampton BID
REFRESH-INTERVAL;VALUE=DURATION:PT1H
X-Robots-Tag:noindex
X-PUBLISHED-TTL:PT1H
BEGIN:VTIMEZONE
TZID:Europe/London
BEGIN:DAYLIGHT
TZOFFSETFROM:+0000
TZOFFSETTO:+0100
TZNAME:BST
DTSTART:20250330T010000
END:DAYLIGHT
BEGIN:STANDARD
TZOFFSETFROM:+0100
TZOFFSETTO:+0000
TZNAME:GMT
DTSTART:20251026T010000
END:STANDARD
END:VTIMEZONE
BEGIN:VEVENT
DTSTART;TZID=Europe/London:20250705T180000
DTEND;TZID=Europe/London:20250705T180000
DTSTAMP:20260425T193800
CREATED:20250527T160229Z
LAST-MODIFIED:20250527T160229Z
UID:127066-1751738400-1751738400@www.discovernorthampton.co.uk
SUMMARY:Summer Choral Festival
DESCRIPTION:Featuring County Youth Choir\, Senior Chamber Choir\, Guys & Dolls and NMPAT Community Choir. \nClick here for tickets via our ParentPay Shop.
URL:https://www.discovernorthampton.co.uk/event/summer-choral-festival/
LOCATION:Christ Church\, 3 Christchurch Road\,\, NN1 5LL
CATEGORIES:Great Fire of Northampton 350
ATTACH;FMTTYPE=image/jpeg:https://www.discovernorthampton.co.uk/wp-content/uploads/2025/05/IMG_9402-1536x1024-1.jpg
END:VEVENT
BEGIN:VEVENT
DTSTART;TZID=Europe/London:20250621T190000
DTEND;TZID=Europe/London:20250621T204500
DTSTAMP:20260425T193800
CREATED:20250516T113859Z
LAST-MODIFIED:20250516T113859Z
UID:126827-1750532400-1750538700@www.discovernorthampton.co.uk
SUMMARY:Then Sing We All Northampton Bach Choir
DESCRIPTION:Northampton Bach Choir\, the largest choral society in the East Midlands\, presents a Jazz-inspired programme celebrating the power of the human voice and the renewal of community spirit. Will Toddâ€™s celebrated Mass in Blue is paired with Iain Farringtonâ€™s Then Sing We All\, composed in 2022 to mark the re-emergence of communal singing after Covid. Conducted by Simon Toyne\, accompanied by the Jem Lowther Trio with soprano Sophie Taylor Denton\, the concert is a perfect way to see in a summer evening.
URL:https://www.discovernorthampton.co.uk/event/then-sing-we-all-northampton-bach-choir/
LOCATION:Christ Church\, 3 Christchurch Road\,\, NN1 5LL
CATEGORIES:MUSIC
ATTACH;FMTTYPE=image/jpeg:https://www.discovernorthampton.co.uk/wp-content/uploads/2025/05/21_jun_2025_v2.jpg
END:VEVENT
END:VCALENDAR