BEGIN:VCALENDAR
VERSION:2.0
PRODID:-//Northampton BID - ECPv6.2.4//NONSGML v1.0//EN
CALSCALE:GREGORIAN
METHOD:PUBLISH
X-ORIGINAL-URL:https://www.discovernorthampton.co.uk
X-WR-CALDESC:Events for Northampton BID
REFRESH-INTERVAL;VALUE=DURATION:PT1H
X-Robots-Tag:noindex
X-PUBLISHED-TTL:PT1H
BEGIN:VTIMEZONE
TZID:Europe/London
BEGIN:DAYLIGHT
TZOFFSETFROM:+0000
TZOFFSETTO:+0100
TZNAME:BST
DTSTART:20240331T010000
END:DAYLIGHT
BEGIN:STANDARD
TZOFFSETFROM:+0100
TZOFFSETTO:+0000
TZNAME:GMT
DTSTART:20241027T010000
END:STANDARD
BEGIN:DAYLIGHT
TZOFFSETFROM:+0000
TZOFFSETTO:+0100
TZNAME:BST
DTSTART:20250330T010000
END:DAYLIGHT
BEGIN:STANDARD
TZOFFSETFROM:+0100
TZOFFSETTO:+0000
TZNAME:GMT
DTSTART:20251026T010000
END:STANDARD
END:VTIMEZONE
BEGIN:VEVENT
DTSTART;TZID=Europe/London:20251015T130000
DTEND;TZID=Europe/London:20251015T163000
DTSTAMP:20260425T232650
CREATED:20250917T122001Z
LAST-MODIFIED:20250917T122235Z
UID:130394-1760533200-1760545800@www.discovernorthampton.co.uk
SUMMARY:Win Your Next Client on LinkedIn - Live In Northampton
DESCRIPTION:Leverage LinkedIn to grow your business\, build your brand\, and win high-value clients all without paid ads or spending hours on the platform \nBusiness • Sales & Marketing \nŁ175 – Ł895
URL:https://www.discovernorthampton.co.uk/event/win-your-next-client-on-linkedin-live-in-northampton/
LOCATION:Mercure Northampton\, Silver Street\, Northampton\, NN1 2TA
CATEGORIES:Event
ATTACH;FMTTYPE=image/png:https://www.discovernorthampton.co.uk/wp-content/uploads/2025/09/Screenshot-2025-09-17-131626.png
END:VEVENT
BEGIN:VEVENT
DTSTART;TZID=Europe/London:20250926T170000
DTEND;TZID=Europe/London:20250926T210000
DTSTAMP:20260425T232650
CREATED:20250819T103323Z
LAST-MODIFIED:20250819T103323Z
UID:129319-1758906000-1758920400@www.discovernorthampton.co.uk
SUMMARY:CONNECTED FOR HEALING by women for women
DESCRIPTION:By WDM Northampton\, SisterSister\n\n\n\n\n\n\n\n\n\nA TIME TO REFLECT\, RELEASE\, RESTORE\, SHARE AND HEAL TOGETHER \nConference begins Friday night with buffet supper and reflection\, and continues Saturday morning into the main event. This event is the culmination of two previous workshops. The first was called â€śWhat Happened.â€ť The second\, â€śWhat Helped?â€ť This conference will bring together all the stories and learning\, based on our individual journeys\, and usher us into new places of healing\, restoration and flouringing. \nThe Saturday event will conclude with a time of relaxation with music\, peotry and creative arts. Let us know if you would like to share your creative side. Bring a cushion or blanket for comfort. \nHotel accommodation is available if you want to stay over on Friday or Saturday night. Please contact The Mercure separately.
URL:https://www.discovernorthampton.co.uk/event/connected-for-healing-by-women-for-women/
LOCATION:Mercure Northampton\, Silver Street\, Northampton\, NN1 2TA
CATEGORIES:Event
ATTACH;FMTTYPE=image/png:https://www.discovernorthampton.co.uk/wp-content/uploads/2025/08/Screenshot-2025-08-19-113021.png
END:VEVENT
BEGIN:VEVENT
DTSTART;TZID=Europe/London:20250916T100000
DTEND;TZID=Europe/London:20250916T163000
DTSTAMP:20260425T232650
CREATED:20250808T133408Z
LAST-MODIFIED:20250808T133408Z
UID:129063-1758016800-1758040200@www.discovernorthampton.co.uk
SUMMARY:CQC Assessment Framework and Observation Visits
DESCRIPTION:â€śUnmissable course Excellent insight into CQC. The course was one of the most informative and interesting that I have attended in 10 years” \nThis course runs 10:00am-4:00pm and includes the training day\, a bank of training resources and materials to take home\, plus lunch and refreshments throughout the day.\nÂ  \nReceive a free Audit guide aligned to the new Assessment Framework when attending the course.\nJoin our informative CQC training session to understand the New CQC Single Assessment Framework\, you will learn how to prepare for CQC inspection under these new changes\, and understand how the Quality Statements will impact your service. \nWho Should Attend? \nThis CQC training is tailored for health and Socialcare professionals from across the sector. \nCourse Agenda: \nA History of CQC who are they and what do they do \n\nThe Care Quality Commission (CQC)\nThe CQC’s Powers\nRegulated Activities\nWho are the Care Quality Commission?\n\nThe New CQC Single Assessment Framework \n\nThe what and the why of the Single Assessment Framework\n“I” and “We” Statements\nThe 5 key questions\, regulations & fundamental standards\nNew Framework in focus; evidencing “We” statements\n\nPre-Inspection \n\nUnderstanding the inspection model\nWhat are the 11 Fundamental standards?\nThe 5 Questions being asked as part of the Inspection.\nMapping the standards to the 5 Questions\nIts Not just CQC â€“ Looking at the other Legislation\nEvidence Matrix\nEvidence that now demonstrates compliance for the 5 Questions\n\nUnderstanding the Quality Statements \n\nThe 34 Quality Statements\nThe Inspection Methodology\nThe Inspection Process\nThe New Strategy explained\n\nOn the day of inspection \n\nFirst Impressions Matter\nTime to Showcase your good work\nIntroductions (Who are the Inspection team?)\nGeneral house-keeping for everyone\n\nAfter the inspection \n\nImmediate Team brief\n48 Hour Rule\nRatings\nHow often you will be Inspected\nDraft Report\n\nHints and Tips for achieving Outstanding \n\nWhat constitutes outstanding?\nSharing Best Practice\nGetting the most from the CQC Website
URL:https://www.discovernorthampton.co.uk/event/cqc-assessment-framework-and-observation-visits/
LOCATION:Mercure Northampton\, Silver Street\, Northampton\, NN1 2TA
CATEGORIES:Event
ATTACH;FMTTYPE=image/png:https://www.discovernorthampton.co.uk/wp-content/uploads/2025/08/Screenshot-2025-08-08-143057.png
END:VEVENT
BEGIN:VEVENT
DTSTART;TZID=Europe/London:20250912T183000
DTEND;TZID=Europe/London:20250912T183000
DTSTAMP:20260425T232650
CREATED:20250801T131709Z
LAST-MODIFIED:20250801T131709Z
UID:128949-1757701800-1757701800@www.discovernorthampton.co.uk
SUMMARY:An Evening with Lord Ian Botham
DESCRIPTION:Come and meet Cricket legend Lord Ian Botham at The Mercure Northampton 7pm. \nTickets include: \nTwo Course Meal\nProfessional photo with Lord Botham\nQ&A session\nCharity Auction and Raffle \nPLEASE NOTE:\nWe kindly request that no items be brought for signing\, as these will not be permitted into the venue under any circumstances.\nThank you for your understanding.
URL:https://www.discovernorthampton.co.uk/event/an-evening-with-lord-ian-botham/
LOCATION:Mercure Northampton\, Silver Street\, Northampton\, NN1 2TA
CATEGORIES:Event
ATTACH;FMTTYPE=image/png:https://www.discovernorthampton.co.uk/wp-content/uploads/2025/08/Screenshot-2025-08-01-141327.png
END:VEVENT
BEGIN:VEVENT
DTSTART;TZID=Europe/London:20250710T100000
DTEND;TZID=Europe/London:20250710T163000
DTSTAMP:20260425T232650
CREATED:20250624T125223Z
LAST-MODIFIED:20250624T125223Z
UID:127968-1752141600-1752165000@www.discovernorthampton.co.uk
SUMMARY:CQC Training Course - New Assessment Framework and How To Be 'Outstanding'
DESCRIPTION:â€śUnmissable course Excellent insight into CQC. The course was one of the most informative and interesting that I have attended in 10 years” \nThis course runs 10:00am-4:00pm and includes the training day\, a bank of training resources and materials to take home\, plus lunch and refreshments throughout the day.\nReceive a free Audit guide aligned to the new Assessment Framework when attending the course.\nJoin our informative CQC training session to understand the New CQC Single Assessment Framework\, you will learn how to prepare for CQC inspection under these new changes\, and understand how the Quality Statements will impact your service. \nWho Should Attend? \nThis CQC training is tailored for health and Socialcare professionals from across the sector. \nCourse Agenda: \nA History of CQC who are they and what do they do \n\nThe Care Quality Commission (CQC)\nThe CQC’s Powers\nRegulated Activities\nWho are the Care Quality Commission?\n\nThe New CQC Single Assessment Framework \n\nThe what and the why of the Single Assessment Framework\n“I” and “We” Statements\nThe 5 key questions\, regulations & fundamental standards\nNew Framework in focus; evidencing “We” statements\n\nPre-Inspection \n\nUnderstanding the inspection model\nWhat are the 11 Fundamental standards?\nThe 5 Questions being asked as part of the Inspection.\nMapping the standards to the 5 Questions\nIts Not just CQC â€“ Looking at the other Legislation\nEvidence Matrix\nEvidence that now demonstrates compliance for the 5 Questions\n\nUnderstanding the Quality Statements \n\nThe 34 Quality Statements\nThe Inspection Methodology\nThe Inspection Process\nThe New Strategy explained\n\nOn the day of inspection \n\nFirst Impressions Matter\nTime to Showcase your good work\nIntroductions (Who are the Inspection team?)\nGeneral house-keeping for everyone\n\nAfter the inspection \n\nImmediate Team brief\n48 Hour Rule\nRatings\nHow often you will be Inspected\nDraft Report\n\nHints and Tips for achieving Outstanding \n\nWhat constitutes outstanding?\nSharing Best Practice\nGetting the most from the CQC Website
URL:https://www.discovernorthampton.co.uk/event/cqc-training-course-new-assessment-framework-and-how-to-be-outstanding/
LOCATION:Mercure Northampton\, Silver Street\, Northampton\, NN1 2TA
CATEGORIES:Event
ATTACH;FMTTYPE=image/png:https://www.discovernorthampton.co.uk/wp-content/uploads/2025/06/Screenshot-2025-06-24-134535.png
END:VEVENT
BEGIN:VEVENT
DTSTART;TZID=Europe/London:20250323T163000
DTEND;TZID=Europe/London:20250323T163000
DTSTAMP:20260425T232650
CREATED:20250307T133828Z
LAST-MODIFIED:20250307T133828Z
UID:124171-1742747400-1742747400@www.discovernorthampton.co.uk
SUMMARY:Sunday Dinner with George Furbank
DESCRIPTION:Meet Northampton Saints player\, George Furbank\, at the Mercure Hotel\, Northampton on Sunday 23rd March 2025 \n? Tickets are on sale now from\nhttps://tinyurl.com/2s47kcce
URL:https://www.discovernorthampton.co.uk/event/sunday-dinner-with-george-furbank/
LOCATION:Mercure Northampton\, Silver Street\, Northampton\, NN1 2TA
ATTACH;FMTTYPE=image/png:https://www.discovernorthampton.co.uk/wp-content/uploads/2025/03/Screenshot-2025-03-07-133405.png
ORGANIZER;CN="Macmaker Promotions":MAILTO:dene@macmaker.co.uk
END:VEVENT
BEGIN:VEVENT
DTSTART;TZID=Europe/London:20240831T190000
DTEND;TZID=Europe/London:20240901T010000
DTSTAMP:20260425T232650
CREATED:20240829T105911Z
LAST-MODIFIED:20240829T105911Z
UID:121497-1725130800-1725152400@www.discovernorthampton.co.uk
SUMMARY:The Lewis Legacy Gala
DESCRIPTION:Great to see people supporting The Legacy Gala which is being hosted by our wonderful member of The Lewis Foundation team\, Denise Bull is hosting a Legacy Gala in memory of her brother James Ward. \nThe Legacy Gala is taking place at Mercure Hotel Northampton\non Saturday 31st August 2024 from 7pm until 1am. \nThis Legacy Gala is being hosted to raise funds and awareness to support others diagnosed with cancer in hospital in Jamesâ€™s memory. \nWhat to expect: \n\nWelcome drink on arrival\n3 course meal\nRaffle and Games\nDJ to dance the night away\n\nTickets Ł65 per person\, with all profits from this going directly to providing free gift packs and support to adult cancer patients in hospital. \nDress Code: Colours â€“ Black\, Green and Gold marking the colour of Jamesâ€™ favourite rugby team\, Northampton Saints. \nThis is an evening of remembering\, a celebration of life and making a difference. \nFor more information and to book your tickets\, visit: https://www.thelewisfoundation.co.uk/evenâ€¦/lewislegacygala \nPlease SHARE and spread the word!
URL:https://www.discovernorthampton.co.uk/event/the-lewis-legacy-gala/
LOCATION:Mercure Northampton\, Silver Street\, Northampton\, NN1 2TA
ATTACH;FMTTYPE=image/jpeg:https://www.discovernorthampton.co.uk/wp-content/uploads/2024/08/The-Lewis-Legacy-Gala.jpg
END:VEVENT
END:VCALENDAR