BEGIN:VCALENDAR
VERSION:2.0
PRODID:-//Northampton BID - ECPv6.2.4//NONSGML v1.0//EN
CALSCALE:GREGORIAN
METHOD:PUBLISH
X-WR-CALNAME:Northampton BID
X-ORIGINAL-URL:https://www.discovernorthampton.co.uk
X-WR-CALDESC:Events for Northampton BID
REFRESH-INTERVAL;VALUE=DURATION:PT1H
X-Robots-Tag:noindex
X-PUBLISHED-TTL:PT1H
BEGIN:VTIMEZONE
TZID:Europe/London
BEGIN:DAYLIGHT
TZOFFSETFROM:+0000
TZOFFSETTO:+0100
TZNAME:BST
DTSTART:20210328T010000
END:DAYLIGHT
BEGIN:STANDARD
TZOFFSETFROM:+0100
TZOFFSETTO:+0000
TZNAME:GMT
DTSTART:20211031T010000
END:STANDARD
END:VTIMEZONE
BEGIN:VEVENT
DTSTART;TZID=Europe/London:20211118T100000
DTEND;TZID=Europe/London:20211118T110000
DTSTAMP:20260422T060016
CREATED:20210819T155704Z
LAST-MODIFIED:20210919T165459Z
UID:104790-1637229600-1637233200@www.discovernorthampton.co.uk
SUMMARY:Google Digital Garage - Get Started with Analytics
DESCRIPTION:Join us for the latest Google Digital Garage session delivered by Partnerships for Better Business.\nÂ  \nGet Started with Analytics\nThursday 18 November\, 10am â€“ 11am\nÂ  \n\n\n\n\n\nAbout this event\n\n\nAnalytics can help you better understand your customers and support your digital marketing strategy. This course will help you to apply data-driven thinking to your business. Explore the questions your customer data can help you answer\, discover tools to access these insights\, and learn how to set up Google Analytics. \nIn this session you will learn: \n?  The ways that data analytics can help your business strategy \n?  Which tools can help you understand your audience \n?  How to get started with Google Analytics \nÂ  \nBOOK YOUR PLACE HERE\nÂ  \nGood to know: \nThis session is run using YouTube and is 60 minutes long. The course assumes no prior knowledge or experience so there is no pre-reading necessary. There will be the opportunity to ask questions during the session.
URL:https://www.discovernorthampton.co.uk/event/get-started-with-analytics/
LOCATION:Online
CATEGORIES:Google Digital Garage
ATTACH;FMTTYPE=image/jpeg:https://www.discovernorthampton.co.uk/wp-content/uploads/2021/08/Gogole-Garage-Digital-Workshops.jpg
END:VEVENT
BEGIN:VEVENT
DTSTART;TZID=Europe/London:20211020T100000
DTEND;TZID=Europe/London:20211020T110000
DTSTAMP:20260422T060016
CREATED:20210819T155534Z
LAST-MODIFIED:20210919T165444Z
UID:104788-1634724000-1634727600@www.discovernorthampton.co.uk
SUMMARY:Google Digital Garage - Get Started with Digital Advertising 
DESCRIPTION:Join us for the latest Google Digital Garage session delivered by Partnerships for Better Business.\n\n\n\n\n\nOur ongoing partnership with Google Digital Garage continues to give businesses the opportunity to receive free live webinar training and upskill your workforce.\nGet Started with Digital Advertising\n\n\nWednesday 20th October\, 10am â€“ 11am\nÂ  \nAbout this event\nDigital advertising can help your business and new customers online. Apply or expand your digital advertising channels with this course. Learn about search\, social and display advertising\, and the different ways these channels can support your digital marketing strategy. \nIn this session you will learn: \n?  What is search advertising\, and how to get started \n?  Different approaches to social media advertising \n?  How you can use display advertising in a campaign \nÂ  \n\nBOOK YOUR PLACE HERE\nÂ  \n\nGood to know: This session is run using YouTube and is 60 minutes long. The course assumes no prior knowledge or experience so there is no pre-reading necessary. There will be the opportunity to ask questions during the session.
URL:https://www.discovernorthampton.co.uk/event/get-started-with-digital-advertising/
LOCATION:Online
CATEGORIES:Google Digital Garage
ATTACH;FMTTYPE=image/jpeg:https://www.discovernorthampton.co.uk/wp-content/uploads/2021/08/Gogole-Garage-Digital-Workshops.jpg
END:VEVENT
BEGIN:VEVENT
DTSTART;TZID=Europe/London:20211005T100000
DTEND;TZID=Europe/London:20211005T110000
DTSTAMP:20260422T060016
CREATED:20210819T155401Z
LAST-MODIFIED:20210919T170214Z
UID:104785-1633428000-1633431600@www.discovernorthampton.co.uk
SUMMARY:Google Digital Garage - Get Your Business Visible on Google
DESCRIPTION:Join us for the latest Google Digital Garage session delivered by Partnerships for Better Business.\nOur ongoing partnership with Google Digital Garage continues to give businesses the opportunity to receive free live webinar training and upskill your workforce.\n\n\n\n\n\nGet Your Business Visible on Google\n\n\nTuesday 5th October\, 10am â€“ 11am\nÂ  \nAbout this event\nA presence on Google Search and Maps can help customers and you more easily. Join us to learn about search and how to create an online listing for your business on Google Maps. \nIn this session you will learn: \n? What is search and how does it work \n? How to build your online presence and where it appears in search results \n? Ways to optimise your online profile with Google Maps \nÂ  \n\n\n\nBOOK YOUR PLACE HERE\nÂ  \n\n\n\nGood to know: \nThis session is run using YouTube and is 60 minutes long. The course assumes no prior knowledge or experience so there is no pre-reading necessary. There will be the opportunity to ask questions during the session.
URL:https://www.discovernorthampton.co.uk/event/get-your-business-visible-on-google/
LOCATION:Online
CATEGORIES:Google Digital Garage
ATTACH;FMTTYPE=image/jpeg:https://www.discovernorthampton.co.uk/wp-content/uploads/2021/08/Gogole-Garage-Digital-Workshops.jpg
END:VEVENT
BEGIN:VEVENT
DTSTART;TZID=Europe/London:20210927T140000
DTEND;TZID=Europe/London:20210927T150000
DTSTAMP:20260422T060016
CREATED:20210919T193749Z
LAST-MODIFIED:20210919T193749Z
UID:105301-1632751200-1632754800@www.discovernorthampton.co.uk
SUMMARY:Meet the Commissioner
DESCRIPTION:Meet the Commissioner\nMonday 27 September  \nBID members will have the opportunity to raise issues and concerns to be discussed with Northamptonshire Police\, Fire and Crime Commissioner Stephen Mold. \nThe meeting has been arranged on the back of business visits by Northampton South MP Andrew Lewer. \nStephen will meet with a small group of businesses to discuss any concerns raised and representatives from key locations have been identified. \nPlease could businesses email info@northamptonbid.co.uk with any issues or concerns that they would like to be raised and these will be passed on to their relevant representative. \nRepresentatives are; \n\nAbington Street – Kerry Reynolds\, Metro Bank\nBridge Street\, Gold Street and St Peters Way – Danny Kintu\, Escape Venue\nCultural Quarter – Julie Teckman\, Vintage Guru\nGrosvenor Centre – Tom Litchfield\nDrapery\, Market Square\, Mercers Row\, George Row\, Wood Hill – Andrew Cruden\, Market Square News
URL:https://www.discovernorthampton.co.uk/event/meet-the-commissioner/
LOCATION:Online
ATTACH;FMTTYPE=image/png:https://www.discovernorthampton.co.uk/wp-content/uploads/2021/08/New-Commissioner-Photo-.png
END:VEVENT
END:VCALENDAR