BEGIN:VCALENDAR
VERSION:2.0
PRODID:-//Northampton BID - ECPv6.2.4//NONSGML v1.0//EN
CALSCALE:GREGORIAN
METHOD:PUBLISH
X-WR-CALNAME:Northampton BID
X-ORIGINAL-URL:https://www.discovernorthampton.co.uk
X-WR-CALDESC:Events for Northampton BID
REFRESH-INTERVAL;VALUE=DURATION:PT1H
X-Robots-Tag:noindex
X-PUBLISHED-TTL:PT1H
BEGIN:VTIMEZONE
TZID:Europe/London
BEGIN:DAYLIGHT
TZOFFSETFROM:+0000
TZOFFSETTO:+0100
TZNAME:BST
DTSTART:20250330T010000
END:DAYLIGHT
BEGIN:STANDARD
TZOFFSETFROM:+0100
TZOFFSETTO:+0000
TZNAME:GMT
DTSTART:20251026T010000
END:STANDARD
END:VTIMEZONE
BEGIN:VEVENT
DTSTART;TZID=Europe/London:20251031T000000
DTEND;TZID=Europe/London:20251031T000000
DTSTAMP:20260420T072203
CREATED:20251023T121450Z
LAST-MODIFIED:20251023T121450Z
UID:131487-1761868800-1761868800@www.discovernorthampton.co.uk
SUMMARY:Halloween Weekend at Rosie O'Leary's
DESCRIPTION:FRIDAY 31ST OCTOBERâ€¦.. Are you ready???
URL:https://www.discovernorthampton.co.uk/event/halloween-weekend-at-rosie-olearys/
LOCATION:1 Fish Street\, Northampton\, NN1 2AA
CATEGORIES:Halloween
ATTACH;FMTTYPE=image/jpeg:https://www.discovernorthampton.co.uk/wp-content/uploads/2025/10/558236129_122257384454202058_2100073354787273536_n.jpg
END:VEVENT
BEGIN:VEVENT
DTSTART;TZID=Europe/London:20250426T000000
DTEND;TZID=Europe/London:20250426T000000
DTSTAMP:20260420T072203
CREATED:20250424T134912Z
LAST-MODIFIED:20250424T134912Z
UID:126005-1745625600-1745625600@www.discovernorthampton.co.uk
SUMMARY:EUBANK JR vs BENN at Rosie O'Learys Northampton
DESCRIPTION:EUBANK JR vs BENN \n\n\nLive at Rosie O’Learys 26th April.
URL:https://www.discovernorthampton.co.uk/event/eubank-jr-vs-benn-at-rosie-olearys-northampton/
LOCATION:1 Fish Street\, Northampton\, NN1 2AA
ATTACH;FMTTYPE=image/jpeg:https://www.discovernorthampton.co.uk/wp-content/uploads/2025/04/490453719_122222895884202058_526732402670312647_n.jpg
END:VEVENT
BEGIN:VEVENT
DTSTART;TZID=Europe/London:20250317T000000
DTEND;TZID=Europe/London:20250317T000000
DTSTAMP:20260420T072203
CREATED:20250313T143013Z
LAST-MODIFIED:20250313T143013Z
UID:124355-1742169600-1742169600@www.discovernorthampton.co.uk
SUMMARY:ST PATRICK'S DAY! ?at Rosie O’Learys Northampton
DESCRIPTION:ST PATRICKâ€™S DAY! ???\n? LIVE MUSIC\n? RUFF STUFF FLOWING\n? THE BEST CRAIC!!!
URL:https://www.discovernorthampton.co.uk/event/st-patricks-day-%f0%9f%8d%80at-rosie-olearys-northampton/
LOCATION:1 Fish Street\, Northampton\, NN1 2AA
ATTACH;FMTTYPE=image/jpeg:https://www.discovernorthampton.co.uk/wp-content/uploads/2025/03/482302810_122213709356202058_2630344783141135056_n.jpg
END:VEVENT
END:VCALENDAR