BEGIN:VCALENDAR
VERSION:2.0
PRODID:-//Northampton BID - ECPv6.2.4//NONSGML v1.0//EN
CALSCALE:GREGORIAN
METHOD:PUBLISH
X-WR-CALNAME:Northampton BID
X-ORIGINAL-URL:https://www.discovernorthampton.co.uk
X-WR-CALDESC:Events for Northampton BID
REFRESH-INTERVAL;VALUE=DURATION:PT1H
X-Robots-Tag:noindex
X-PUBLISHED-TTL:PT1H
BEGIN:VTIMEZONE
TZID:Europe/London
BEGIN:DAYLIGHT
TZOFFSETFROM:+0000
TZOFFSETTO:+0100
TZNAME:BST
DTSTART:20260329T010000
END:DAYLIGHT
BEGIN:STANDARD
TZOFFSETFROM:+0100
TZOFFSETTO:+0000
TZNAME:GMT
DTSTART:20261025T010000
END:STANDARD
END:VTIMEZONE
BEGIN:VEVENT
DTSTART;TZID=Europe/London:20260611T170000
DTEND;TZID=Europe/London:20260611T230000
DTSTAMP:20260420T183559
CREATED:20260203T081950Z
LAST-MODIFIED:20260203T081950Z
UID:134164-1781197200-1781218800@www.discovernorthampton.co.uk
SUMMARY:BIKE NIGHTS
DESCRIPTION:All are welcome\, show off your ride.
URL:https://www.discovernorthampton.co.uk/event/bike-nights-14/2026-06-11/
LOCATION:The King Billy Music Bar\, 2 Commercial Street\, Northampton\, NN1 1PJ\, United Kingdom
CATEGORIES:Event
ATTACH;FMTTYPE=image/png:https://www.discovernorthampton.co.uk/wp-content/uploads/2026/01/Screenshot-2025-08-26-132909-1.png
END:VEVENT
BEGIN:VEVENT
DTSTART;TZID=Europe/London:20260618T170000
DTEND;TZID=Europe/London:20260618T230000
DTSTAMP:20260420T183559
CREATED:20260203T081950Z
LAST-MODIFIED:20260203T081950Z
UID:134165-1781802000-1781823600@www.discovernorthampton.co.uk
SUMMARY:BIKE NIGHTS
DESCRIPTION:All are welcome\, show off your ride.
URL:https://www.discovernorthampton.co.uk/event/bike-nights-14/2026-06-18/
LOCATION:The King Billy Music Bar\, 2 Commercial Street\, Northampton\, NN1 1PJ\, United Kingdom
CATEGORIES:Event
ATTACH;FMTTYPE=image/png:https://www.discovernorthampton.co.uk/wp-content/uploads/2026/01/Screenshot-2025-08-26-132909-1.png
END:VEVENT
BEGIN:VEVENT
DTSTART;TZID=Europe/London:20260620T210000
DTEND;TZID=Europe/London:20260620T210000
DTSTAMP:20260420T183559
CREATED:20260226T091934Z
LAST-MODIFIED:20260226T091934Z
UID:134772-1781989200-1781989200@www.discovernorthampton.co.uk
SUMMARY:NEVER DAKOTA
DESCRIPTION:A full-throttle night of 2000s rock\, pop punk\, and emo anthems you know every word to.\n\n\nFrom Blink to Paramore\, Fall Out Boy to My Chem – they’ll be diving deep into the soundtrack of your youth.\n\n\n Sing it.\n Scream it.\n Live it.\n\n\nThis is more than nostalgia – this is a throwback you can feel.
URL:https://www.discovernorthampton.co.uk/event/never-dakota-5/
LOCATION:The King Billy Music Bar\, 2 Commercial Street\, Northampton\, NN1 1PJ\, United Kingdom
CATEGORIES:MUSIC
ATTACH;FMTTYPE=image/png:https://www.discovernorthampton.co.uk/wp-content/uploads/2026/02/Screenshot-2026-02-26-091737.png
END:VEVENT
BEGIN:VEVENT
DTSTART;TZID=Europe/London:20260625T170000
DTEND;TZID=Europe/London:20260625T230000
DTSTAMP:20260420T183559
CREATED:20260203T081950Z
LAST-MODIFIED:20260203T081950Z
UID:134166-1782406800-1782428400@www.discovernorthampton.co.uk
SUMMARY:BIKE NIGHTS
DESCRIPTION:All are welcome\, show off your ride.
URL:https://www.discovernorthampton.co.uk/event/bike-nights-14/2026-06-25/
LOCATION:The King Billy Music Bar\, 2 Commercial Street\, Northampton\, NN1 1PJ\, United Kingdom
CATEGORIES:Event
ATTACH;FMTTYPE=image/png:https://www.discovernorthampton.co.uk/wp-content/uploads/2026/01/Screenshot-2025-08-26-132909-1.png
END:VEVENT
BEGIN:VEVENT
DTSTART;TZID=Europe/London:20260627T210000
DTEND;TZID=Europe/London:20260627T210000
DTSTAMP:20260420T183559
CREATED:20260226T120939Z
LAST-MODIFIED:20260226T120939Z
UID:134775-1782594000-1782594000@www.discovernorthampton.co.uk
SUMMARY:POWERCHILD
DESCRIPTION:POWERCHILD – LIVE & LOUD \n\n\nGet ready to turn it up! Powerchild are bringing back a full-throttle night of iconic anthems and pure rock energy.\n\n\nThey’ll be smashing out the very best covers from:\n\n\n Alice in Chains\n Nirvana\n Rage Against the Machine\n Foo Fighters\n Green Day\n… and many more legendary rock heavyweights!\n\n\nExpect huge riffs\, massive choruses\, and all the raw 90s/00s alt-rock attitude you love.\n\n\nIf you’re ready to sing it loud and feel every power chord — Powerchild have got you covered.
URL:https://www.discovernorthampton.co.uk/event/powerchild-3/
LOCATION:The King Billy Music Bar\, 2 Commercial Street\, Northampton\, NN1 1PJ\, United Kingdom
CATEGORIES:MUSIC
ATTACH;FMTTYPE=image/png:https://www.discovernorthampton.co.uk/wp-content/uploads/2026/02/Screenshot-2026-02-26-120706.png
END:VEVENT
BEGIN:VEVENT
DTSTART;TZID=Europe/London:20260702T170000
DTEND;TZID=Europe/London:20260702T230000
DTSTAMP:20260420T183559
CREATED:20260203T081950Z
LAST-MODIFIED:20260203T081950Z
UID:134167-1783011600-1783033200@www.discovernorthampton.co.uk
SUMMARY:BIKE NIGHTS
DESCRIPTION:All are welcome\, show off your ride.
URL:https://www.discovernorthampton.co.uk/event/bike-nights-14/2026-07-02/
LOCATION:The King Billy Music Bar\, 2 Commercial Street\, Northampton\, NN1 1PJ\, United Kingdom
CATEGORIES:Event
ATTACH;FMTTYPE=image/png:https://www.discovernorthampton.co.uk/wp-content/uploads/2026/01/Screenshot-2025-08-26-132909-1.png
END:VEVENT
BEGIN:VEVENT
DTSTART;TZID=Europe/London:20260704T210000
DTEND;TZID=Europe/London:20260704T210000
DTSTAMP:20260420T183559
CREATED:20260414T134033Z
LAST-MODIFIED:20260414T134033Z
UID:136079-1783198800-1783198800@www.discovernorthampton.co.uk
SUMMARY:THE BEAULOCKS
DESCRIPTION:Ultimate 70s Punk & Ska Tribute Specialists\nThe Beaulocks are a no-holds-barred\, in-your-face celebration of the golden age of punk and ska.\nBuilt for sweaty rock pubs\, iconic back rooms and properly loud nights\, this band delivers a relentless\, high-energy set packed with the raw attitude and anthems that defined a generation.\nExpect classics from Sex Pistols\, The Clash\, The Damned\, Ramones\, Buzzcocks\, Sham 69\, The Specials\, Bad Manners\, Motörhead\, The Jam and more — performed with conviction\, chaos\, and zero compromise.\nThis isn’t a polite tribute night.This is shout-along choruses\, bouncing floors\, flying pints and full-throttle nostalgia.\nWith tight musicianship\, relentless energy and crowd-pulling singalongs\, The Beaulocks turn any venue into a 1977 riot — only with better sound and a fully stocked bar.\nPunk rock. Ska. Anthems. No filler.
URL:https://www.discovernorthampton.co.uk/event/the-beaulocks/
LOCATION:The King Billy Music Bar\, 2 Commercial Street\, Northampton\, NN1 1PJ\, United Kingdom
CATEGORIES:MUSIC
ATTACH;FMTTYPE=image/png:https://www.discovernorthampton.co.uk/wp-content/uploads/2026/04/Screenshot-2026-04-14-143710.png
END:VEVENT
BEGIN:VEVENT
DTSTART;TZID=Europe/London:20260705T180000
DTEND;TZID=Europe/London:20260705T180000
DTSTAMP:20260420T183559
CREATED:20260227T105123Z
LAST-MODIFIED:20260227T105123Z
UID:134778-1783274400-1783274400@www.discovernorthampton.co.uk
SUMMARY:DEBRA SUSAN & RITCHIE DAVE PORTER
DESCRIPTION:Debra & Ritchie Porter \, an award-winning original duo \, performing their own music alongside classic rock ’n’ roll covers from legends such as Elvis Presley\, The Rolling Stones\, Chuck Berry\, Jimi Hendrix and more.In August 2024\, they were crowned International Duo of the Year in Atlanta\, Georgia (USA) for our original music.
URL:https://www.discovernorthampton.co.uk/event/debra-susan-ritchie-dave-porter-2/
LOCATION:The King Billy Music Bar\, 2 Commercial Street\, Northampton\, NN1 1PJ\, United Kingdom
CATEGORIES:MUSIC
ATTACH;FMTTYPE=image/png:https://www.discovernorthampton.co.uk/wp-content/uploads/2026/02/Screenshot-2026-02-27-104915.png
END:VEVENT
BEGIN:VEVENT
DTSTART;TZID=Europe/London:20260709T170000
DTEND;TZID=Europe/London:20260709T230000
DTSTAMP:20260420T183559
CREATED:20260203T081950Z
LAST-MODIFIED:20260203T081950Z
UID:134168-1783616400-1783638000@www.discovernorthampton.co.uk
SUMMARY:BIKE NIGHTS
DESCRIPTION:All are welcome\, show off your ride.
URL:https://www.discovernorthampton.co.uk/event/bike-nights-14/2026-07-09/
LOCATION:The King Billy Music Bar\, 2 Commercial Street\, Northampton\, NN1 1PJ\, United Kingdom
CATEGORIES:Event
ATTACH;FMTTYPE=image/png:https://www.discovernorthampton.co.uk/wp-content/uploads/2026/01/Screenshot-2025-08-26-132909-1.png
END:VEVENT
BEGIN:VEVENT
DTSTART;TZID=Europe/London:20260711T210000
DTEND;TZID=Europe/London:20260711T210000
DTSTAMP:20260420T183559
CREATED:20260227T135542Z
LAST-MODIFIED:20260227T135542Z
UID:134781-1783803600-1783803600@www.discovernorthampton.co.uk
SUMMARY:BENT BACK TULIPS
DESCRIPTION:Bringing you the best covers in indie\, rock\, and pop — all killer\, no filler!\n\n\nFrom festival anthems to dancefloor classics\, Bent Back Tulips deliver a high-energy set packed with crowd favourites and feel-good vibes.\n\n\nGet ready to sing\, dance\, and lose yourself in the music — this is one band you won’t want to miss!\n\n\nBent Back Tulips – turning great tunes into unforgettable nights.
URL:https://www.discovernorthampton.co.uk/event/bent-back-tulips-5/
LOCATION:The King Billy Music Bar\, 2 Commercial Street\, Northampton\, NN1 1PJ\, United Kingdom
CATEGORIES:MUSIC
ATTACH;FMTTYPE=image/png:https://www.discovernorthampton.co.uk/wp-content/uploads/2026/02/Screenshot-2026-02-27-135333.png
END:VEVENT
BEGIN:VEVENT
DTSTART;TZID=Europe/London:20260712T180000
DTEND;TZID=Europe/London:20260712T180000
DTSTAMP:20260420T183559
CREATED:20260302T094521Z
LAST-MODIFIED:20260302T094521Z
UID:134784-1783879200-1783879200@www.discovernorthampton.co.uk
SUMMARY:THE BIRD DOGS
DESCRIPTION:The Bird Dogs bring the ultimate soundtrack of the sixties back to life — packed with floor-fillers and sing-along classics.\n\n\nFrom “Johnny Be Goode” and “Great Balls of Fire” to “Happy Together\,” “Runaway\,” “You Can’t Hurry Love\,” and “Bad Moon Rising\,” it’s wall-to-wall hits all night long.\n\n\nBig songs. Big energy. The Bird Dogs.
URL:https://www.discovernorthampton.co.uk/event/the-bird-dogs-2/
LOCATION:The King Billy Music Bar\, 2 Commercial Street\, Northampton\, NN1 1PJ\, United Kingdom
CATEGORIES:MUSIC
ATTACH;FMTTYPE=image/png:https://www.discovernorthampton.co.uk/wp-content/uploads/2026/03/Screenshot-2026-03-02-094303.png
END:VEVENT
BEGIN:VEVENT
DTSTART;TZID=Europe/London:20260716T170000
DTEND;TZID=Europe/London:20260716T230000
DTSTAMP:20260420T183559
CREATED:20260203T081950Z
LAST-MODIFIED:20260203T081950Z
UID:134169-1784221200-1784242800@www.discovernorthampton.co.uk
SUMMARY:BIKE NIGHTS
DESCRIPTION:All are welcome\, show off your ride.
URL:https://www.discovernorthampton.co.uk/event/bike-nights-14/2026-07-16/
LOCATION:The King Billy Music Bar\, 2 Commercial Street\, Northampton\, NN1 1PJ\, United Kingdom
CATEGORIES:Event
ATTACH;FMTTYPE=image/png:https://www.discovernorthampton.co.uk/wp-content/uploads/2026/01/Screenshot-2025-08-26-132909-1.png
END:VEVENT
BEGIN:VEVENT
DTSTART;TZID=Europe/London:20260723T170000
DTEND;TZID=Europe/London:20260723T230000
DTSTAMP:20260420T183559
CREATED:20260203T081950Z
LAST-MODIFIED:20260203T081950Z
UID:134170-1784826000-1784847600@www.discovernorthampton.co.uk
SUMMARY:BIKE NIGHTS
DESCRIPTION:All are welcome\, show off your ride.
URL:https://www.discovernorthampton.co.uk/event/bike-nights-14/2026-07-23/
LOCATION:The King Billy Music Bar\, 2 Commercial Street\, Northampton\, NN1 1PJ\, United Kingdom
CATEGORIES:Event
ATTACH;FMTTYPE=image/png:https://www.discovernorthampton.co.uk/wp-content/uploads/2026/01/Screenshot-2025-08-26-132909-1.png
END:VEVENT
BEGIN:VEVENT
DTSTART;TZID=Europe/London:20260725T210000
DTEND;TZID=Europe/London:20260725T210000
DTSTAMP:20260420T183559
CREATED:20260302T095405Z
LAST-MODIFIED:20260302T095405Z
UID:134787-1785013200-1785013200@www.discovernorthampton.co.uk
SUMMARY:V8
DESCRIPTION:V8 are pure hard rock power. Every riff hits\, every chorus roars\, and every show ends soaked in sweat and spilled beer!
URL:https://www.discovernorthampton.co.uk/event/v8-3/
LOCATION:The King Billy Music Bar\, 2 Commercial Street\, Northampton\, NN1 1PJ\, United Kingdom
CATEGORIES:MUSIC
ATTACH;FMTTYPE=image/png:https://www.discovernorthampton.co.uk/wp-content/uploads/2026/03/Screenshot-2026-03-02-095204.png
END:VEVENT
BEGIN:VEVENT
DTSTART;TZID=Europe/London:20260730T170000
DTEND;TZID=Europe/London:20260730T230000
DTSTAMP:20260420T183559
CREATED:20260203T081950Z
LAST-MODIFIED:20260203T081950Z
UID:134171-1785430800-1785452400@www.discovernorthampton.co.uk
SUMMARY:BIKE NIGHTS
DESCRIPTION:All are welcome\, show off your ride.
URL:https://www.discovernorthampton.co.uk/event/bike-nights-14/2026-07-30/
LOCATION:The King Billy Music Bar\, 2 Commercial Street\, Northampton\, NN1 1PJ\, United Kingdom
CATEGORIES:Event
ATTACH;FMTTYPE=image/png:https://www.discovernorthampton.co.uk/wp-content/uploads/2026/01/Screenshot-2025-08-26-132909-1.png
END:VEVENT
BEGIN:VEVENT
DTSTART;TZID=Europe/London:20260806T170000
DTEND;TZID=Europe/London:20260806T230000
DTSTAMP:20260420T183559
CREATED:20260203T081950Z
LAST-MODIFIED:20260203T081950Z
UID:134172-1786035600-1786057200@www.discovernorthampton.co.uk
SUMMARY:BIKE NIGHTS
DESCRIPTION:All are welcome\, show off your ride.
URL:https://www.discovernorthampton.co.uk/event/bike-nights-14/2026-08-06/
LOCATION:The King Billy Music Bar\, 2 Commercial Street\, Northampton\, NN1 1PJ\, United Kingdom
CATEGORIES:Event
ATTACH;FMTTYPE=image/png:https://www.discovernorthampton.co.uk/wp-content/uploads/2026/01/Screenshot-2025-08-26-132909-1.png
END:VEVENT
BEGIN:VEVENT
DTSTART;TZID=Europe/London:20260813T170000
DTEND;TZID=Europe/London:20260813T230000
DTSTAMP:20260420T183559
CREATED:20260203T081950Z
LAST-MODIFIED:20260203T081950Z
UID:134173-1786640400-1786662000@www.discovernorthampton.co.uk
SUMMARY:BIKE NIGHTS
DESCRIPTION:All are welcome\, show off your ride.
URL:https://www.discovernorthampton.co.uk/event/bike-nights-14/2026-08-13/
LOCATION:The King Billy Music Bar\, 2 Commercial Street\, Northampton\, NN1 1PJ\, United Kingdom
CATEGORIES:Event
ATTACH;FMTTYPE=image/png:https://www.discovernorthampton.co.uk/wp-content/uploads/2026/01/Screenshot-2025-08-26-132909-1.png
END:VEVENT
BEGIN:VEVENT
DTSTART;TZID=Europe/London:20260820T170000
DTEND;TZID=Europe/London:20260820T230000
DTSTAMP:20260420T183559
CREATED:20260203T081950Z
LAST-MODIFIED:20260203T081950Z
UID:134174-1787245200-1787266800@www.discovernorthampton.co.uk
SUMMARY:BIKE NIGHTS
DESCRIPTION:All are welcome\, show off your ride.
URL:https://www.discovernorthampton.co.uk/event/bike-nights-14/2026-08-20/
LOCATION:The King Billy Music Bar\, 2 Commercial Street\, Northampton\, NN1 1PJ\, United Kingdom
CATEGORIES:Event
ATTACH;FMTTYPE=image/png:https://www.discovernorthampton.co.uk/wp-content/uploads/2026/01/Screenshot-2025-08-26-132909-1.png
END:VEVENT
BEGIN:VEVENT
DTSTART;TZID=Europe/London:20260827T170000
DTEND;TZID=Europe/London:20260827T230000
DTSTAMP:20260420T183559
CREATED:20260203T081950Z
LAST-MODIFIED:20260203T081950Z
UID:134175-1787850000-1787871600@www.discovernorthampton.co.uk
SUMMARY:BIKE NIGHTS
DESCRIPTION:All are welcome\, show off your ride.
URL:https://www.discovernorthampton.co.uk/event/bike-nights-14/2026-08-27/
LOCATION:The King Billy Music Bar\, 2 Commercial Street\, Northampton\, NN1 1PJ\, United Kingdom
CATEGORIES:Event
ATTACH;FMTTYPE=image/png:https://www.discovernorthampton.co.uk/wp-content/uploads/2026/01/Screenshot-2025-08-26-132909-1.png
END:VEVENT
BEGIN:VEVENT
DTSTART;TZID=Europe/London:20260903T170000
DTEND;TZID=Europe/London:20260903T230000
DTSTAMP:20260420T183559
CREATED:20260203T081950Z
LAST-MODIFIED:20260203T081950Z
UID:134176-1788454800-1788476400@www.discovernorthampton.co.uk
SUMMARY:BIKE NIGHTS
DESCRIPTION:All are welcome\, show off your ride.
URL:https://www.discovernorthampton.co.uk/event/bike-nights-14/2026-09-03/
LOCATION:The King Billy Music Bar\, 2 Commercial Street\, Northampton\, NN1 1PJ\, United Kingdom
CATEGORIES:Event
ATTACH;FMTTYPE=image/png:https://www.discovernorthampton.co.uk/wp-content/uploads/2026/01/Screenshot-2025-08-26-132909-1.png
END:VEVENT
BEGIN:VEVENT
DTSTART;TZID=Europe/London:20260910T170000
DTEND;TZID=Europe/London:20260910T230000
DTSTAMP:20260420T183559
CREATED:20260203T081950Z
LAST-MODIFIED:20260203T081950Z
UID:134177-1789059600-1789081200@www.discovernorthampton.co.uk
SUMMARY:BIKE NIGHTS
DESCRIPTION:All are welcome\, show off your ride.
URL:https://www.discovernorthampton.co.uk/event/bike-nights-14/2026-09-10/
LOCATION:The King Billy Music Bar\, 2 Commercial Street\, Northampton\, NN1 1PJ\, United Kingdom
CATEGORIES:Event
ATTACH;FMTTYPE=image/png:https://www.discovernorthampton.co.uk/wp-content/uploads/2026/01/Screenshot-2025-08-26-132909-1.png
END:VEVENT
BEGIN:VEVENT
DTSTART;TZID=Europe/London:20260917T170000
DTEND;TZID=Europe/London:20260917T230000
DTSTAMP:20260420T183559
CREATED:20260203T081950Z
LAST-MODIFIED:20260203T081950Z
UID:134178-1789664400-1789686000@www.discovernorthampton.co.uk
SUMMARY:BIKE NIGHTS
DESCRIPTION:All are welcome\, show off your ride.
URL:https://www.discovernorthampton.co.uk/event/bike-nights-14/2026-09-17/
LOCATION:The King Billy Music Bar\, 2 Commercial Street\, Northampton\, NN1 1PJ\, United Kingdom
CATEGORIES:Event
ATTACH;FMTTYPE=image/png:https://www.discovernorthampton.co.uk/wp-content/uploads/2026/01/Screenshot-2025-08-26-132909-1.png
END:VEVENT
BEGIN:VEVENT
DTSTART;TZID=Europe/London:20260924T170000
DTEND;TZID=Europe/London:20260924T230000
DTSTAMP:20260420T183559
CREATED:20260203T081950Z
LAST-MODIFIED:20260203T081950Z
UID:134179-1790269200-1790290800@www.discovernorthampton.co.uk
SUMMARY:BIKE NIGHTS
DESCRIPTION:All are welcome\, show off your ride.
URL:https://www.discovernorthampton.co.uk/event/bike-nights-14/2026-09-24/
LOCATION:The King Billy Music Bar\, 2 Commercial Street\, Northampton\, NN1 1PJ\, United Kingdom
CATEGORIES:Event
ATTACH;FMTTYPE=image/png:https://www.discovernorthampton.co.uk/wp-content/uploads/2026/01/Screenshot-2025-08-26-132909-1.png
END:VEVENT
BEGIN:VEVENT
DTSTART;TZID=Europe/London:20261001T170000
DTEND;TZID=Europe/London:20261001T230000
DTSTAMP:20260420T183559
CREATED:20260203T081950Z
LAST-MODIFIED:20260203T081950Z
UID:134180-1790874000-1790895600@www.discovernorthampton.co.uk
SUMMARY:BIKE NIGHTS
DESCRIPTION:All are welcome\, show off your ride.
URL:https://www.discovernorthampton.co.uk/event/bike-nights-14/2026-10-01/
LOCATION:The King Billy Music Bar\, 2 Commercial Street\, Northampton\, NN1 1PJ\, United Kingdom
CATEGORIES:Event
ATTACH;FMTTYPE=image/png:https://www.discovernorthampton.co.uk/wp-content/uploads/2026/01/Screenshot-2025-08-26-132909-1.png
END:VEVENT
BEGIN:VEVENT
DTSTART;TZID=Europe/London:20261008T170000
DTEND;TZID=Europe/London:20261008T230000
DTSTAMP:20260420T183559
CREATED:20260203T081950Z
LAST-MODIFIED:20260203T081950Z
UID:134181-1791478800-1791500400@www.discovernorthampton.co.uk
SUMMARY:BIKE NIGHTS
DESCRIPTION:All are welcome\, show off your ride.
URL:https://www.discovernorthampton.co.uk/event/bike-nights-14/2026-10-08/
LOCATION:The King Billy Music Bar\, 2 Commercial Street\, Northampton\, NN1 1PJ\, United Kingdom
CATEGORIES:Event
ATTACH;FMTTYPE=image/png:https://www.discovernorthampton.co.uk/wp-content/uploads/2026/01/Screenshot-2025-08-26-132909-1.png
END:VEVENT
BEGIN:VEVENT
DTSTART;TZID=Europe/London:20261015T170000
DTEND;TZID=Europe/London:20261015T230000
DTSTAMP:20260420T183559
CREATED:20260203T081950Z
LAST-MODIFIED:20260203T081950Z
UID:134182-1792083600-1792105200@www.discovernorthampton.co.uk
SUMMARY:BIKE NIGHTS
DESCRIPTION:All are welcome\, show off your ride.
URL:https://www.discovernorthampton.co.uk/event/bike-nights-14/2026-10-15/
LOCATION:The King Billy Music Bar\, 2 Commercial Street\, Northampton\, NN1 1PJ\, United Kingdom
CATEGORIES:Event
ATTACH;FMTTYPE=image/png:https://www.discovernorthampton.co.uk/wp-content/uploads/2026/01/Screenshot-2025-08-26-132909-1.png
END:VEVENT
BEGIN:VEVENT
DTSTART;TZID=Europe/London:20261022T170000
DTEND;TZID=Europe/London:20261022T230000
DTSTAMP:20260420T183559
CREATED:20260203T081950Z
LAST-MODIFIED:20260203T081950Z
UID:134183-1792688400-1792710000@www.discovernorthampton.co.uk
SUMMARY:BIKE NIGHTS
DESCRIPTION:All are welcome\, show off your ride.
URL:https://www.discovernorthampton.co.uk/event/bike-nights-14/2026-10-22/
LOCATION:The King Billy Music Bar\, 2 Commercial Street\, Northampton\, NN1 1PJ\, United Kingdom
CATEGORIES:Event
ATTACH;FMTTYPE=image/png:https://www.discovernorthampton.co.uk/wp-content/uploads/2026/01/Screenshot-2025-08-26-132909-1.png
END:VEVENT
BEGIN:VEVENT
DTSTART;TZID=Europe/London:20261029T170000
DTEND;TZID=Europe/London:20261029T230000
DTSTAMP:20260420T183559
CREATED:20260203T081950Z
LAST-MODIFIED:20260203T081950Z
UID:134184-1793293200-1793314800@www.discovernorthampton.co.uk
SUMMARY:BIKE NIGHTS
DESCRIPTION:All are welcome\, show off your ride.
URL:https://www.discovernorthampton.co.uk/event/bike-nights-14/2026-10-29/
LOCATION:The King Billy Music Bar\, 2 Commercial Street\, Northampton\, NN1 1PJ\, United Kingdom
CATEGORIES:Event
ATTACH;FMTTYPE=image/png:https://www.discovernorthampton.co.uk/wp-content/uploads/2026/01/Screenshot-2025-08-26-132909-1.png
END:VEVENT
BEGIN:VEVENT
DTSTART;TZID=Europe/London:20261105T170000
DTEND;TZID=Europe/London:20261105T230000
DTSTAMP:20260420T183559
CREATED:20260203T081950Z
LAST-MODIFIED:20260203T081950Z
UID:134185-1793898000-1793919600@www.discovernorthampton.co.uk
SUMMARY:BIKE NIGHTS
DESCRIPTION:All are welcome\, show off your ride.
URL:https://www.discovernorthampton.co.uk/event/bike-nights-14/2026-11-05/
LOCATION:The King Billy Music Bar\, 2 Commercial Street\, Northampton\, NN1 1PJ\, United Kingdom
CATEGORIES:Event
ATTACH;FMTTYPE=image/png:https://www.discovernorthampton.co.uk/wp-content/uploads/2026/01/Screenshot-2025-08-26-132909-1.png
END:VEVENT
BEGIN:VEVENT
DTSTART;TZID=Europe/London:20261112T170000
DTEND;TZID=Europe/London:20261112T230000
DTSTAMP:20260420T183559
CREATED:20260203T081950Z
LAST-MODIFIED:20260203T081950Z
UID:134186-1794502800-1794524400@www.discovernorthampton.co.uk
SUMMARY:BIKE NIGHTS
DESCRIPTION:All are welcome\, show off your ride.
URL:https://www.discovernorthampton.co.uk/event/bike-nights-14/2026-11-12/
LOCATION:The King Billy Music Bar\, 2 Commercial Street\, Northampton\, NN1 1PJ\, United Kingdom
CATEGORIES:Event
ATTACH;FMTTYPE=image/png:https://www.discovernorthampton.co.uk/wp-content/uploads/2026/01/Screenshot-2025-08-26-132909-1.png
END:VEVENT
END:VCALENDAR