BEGIN:VCALENDAR
VERSION:2.0
PRODID:-//Northampton BID - ECPv6.2.4//NONSGML v1.0//EN
CALSCALE:GREGORIAN
METHOD:PUBLISH
X-ORIGINAL-URL:https://www.discovernorthampton.co.uk
X-WR-CALDESC:Events for Northampton BID
REFRESH-INTERVAL;VALUE=DURATION:PT1H
X-Robots-Tag:noindex
X-PUBLISHED-TTL:PT1H
BEGIN:VTIMEZONE
TZID:Europe/London
BEGIN:DAYLIGHT
TZOFFSETFROM:+0000
TZOFFSETTO:+0100
TZNAME:BST
DTSTART:20240331T010000
END:DAYLIGHT
BEGIN:STANDARD
TZOFFSETFROM:+0100
TZOFFSETTO:+0000
TZNAME:GMT
DTSTART:20241027T010000
END:STANDARD
END:VTIMEZONE
BEGIN:VEVENT
DTSTART;TZID=Europe/London:20241113T170000
DTEND;TZID=Europe/London:20241113T220000
DTSTAMP:20260426T002005
CREATED:20241107T115052Z
LAST-MODIFIED:20241107T115052Z
UID:122309-1731517200-1731535200@www.discovernorthampton.co.uk
SUMMARY:Exhibiton: Community Comics
DESCRIPTION:Community Comics brings together stories from 6 community groups across Northamptonshire that are often overlooked. We canâ€™t wait to have some excerpts on our walls
URL:https://www.discovernorthampton.co.uk/event/exhibiton-community-comics/
LOCATION:VnB\, 10 St Giles' Square\, Northampton\, Northamptonshire\, NN1 1DA\, United Kingdom
ATTACH;FMTTYPE=image/png:https://www.discovernorthampton.co.uk/wp-content/uploads/2024/11/images.png
END:VEVENT
BEGIN:VEVENT
DTSTART;TZID=Europe/London:20241112T180000
DTEND;TZID=Europe/London:20241112T220000
DTSTAMP:20260426T002005
CREATED:20241107T114727Z
LAST-MODIFIED:20241107T114727Z
UID:122305-1731434400-1731448800@www.discovernorthampton.co.uk
SUMMARY:Le French Club
DESCRIPTION:
URL:https://www.discovernorthampton.co.uk/event/le-french-club-16/
LOCATION:VnB\, 10 St Giles' Square\, Northampton\, Northamptonshire\, NN1 1DA\, United Kingdom
ATTACH;FMTTYPE=image/png:https://www.discovernorthampton.co.uk/wp-content/uploads/2024/11/images.png
END:VEVENT
BEGIN:VEVENT
DTSTART;TZID=Europe/London:20241112T170000
DTEND;TZID=Europe/London:20241112T220000
DTSTAMP:20260426T002005
CREATED:20241107T114841Z
LAST-MODIFIED:20241107T114841Z
UID:122307-1731430800-1731448800@www.discovernorthampton.co.uk
SUMMARY:Christmas Tree Installation
DESCRIPTION:
URL:https://www.discovernorthampton.co.uk/event/christmas-tree-installation/
LOCATION:VnB\, 10 St Giles' Square\, Northampton\, Northamptonshire\, NN1 1DA\, United Kingdom
ATTACH;FMTTYPE=image/png:https://www.discovernorthampton.co.uk/wp-content/uploads/2024/11/images.png
END:VEVENT
BEGIN:VEVENT
DTSTART;TZID=Europe/London:20241109T180000
DTEND;TZID=Europe/London:20241109T220000
DTSTAMP:20260426T002005
CREATED:20241107T112857Z
LAST-MODIFIED:20241107T112857Z
UID:122290-1731175200-1731189600@www.discovernorthampton.co.uk
SUMMARY:Apero DJ: NOAHMONO
DESCRIPTION:
URL:https://www.discovernorthampton.co.uk/event/apero-dj-noahmono-7/
LOCATION:VnB\, 10 St Giles' Square\, Northampton\, Northamptonshire\, NN1 1DA\, United Kingdom
ATTACH;FMTTYPE=image/png:https://www.discovernorthampton.co.uk/wp-content/uploads/2024/11/images.png
END:VEVENT
BEGIN:VEVENT
DTSTART;TZID=Europe/London:20241107T190000
DTEND;TZID=Europe/London:20241107T210000
DTSTAMP:20260426T002005
CREATED:20241107T114614Z
LAST-MODIFIED:20241107T114614Z
UID:122303-1731006000-1731013200@www.discovernorthampton.co.uk
SUMMARY:Masterclass: Burgundy Wine.
DESCRIPTION:
URL:https://www.discovernorthampton.co.uk/event/masterclass-burgundy-wine/
LOCATION:VnB\, 10 St Giles' Square\, Northampton\, Northamptonshire\, NN1 1DA\, United Kingdom
ATTACH;FMTTYPE=image/png:https://www.discovernorthampton.co.uk/wp-content/uploads/2024/11/images.png
END:VEVENT
BEGIN:VEVENT
DTSTART;TZID=Europe/London:20241031T190000
DTEND;TZID=Europe/London:20241031T210000
DTSTAMP:20260426T002005
CREATED:20241003T090707Z
LAST-MODIFIED:20241003T090707Z
UID:121899-1730401200-1730408400@www.discovernorthampton.co.uk
SUMMARY:Masterclass: Little Known Whites Like Sauvignon
DESCRIPTION:
URL:https://www.discovernorthampton.co.uk/event/masterclass-little-known-whites-like-sauvignon/
LOCATION:VnB\, 10 St Giles' Square\, Northampton\, Northamptonshire\, NN1 1DA\, United Kingdom
ATTACH;FMTTYPE=image/png:https://www.discovernorthampton.co.uk/wp-content/uploads/2024/10/images.png
END:VEVENT
BEGIN:VEVENT
DTSTART;TZID=Europe/London:20241030T200000
DTEND;TZID=Europe/London:20241030T220000
DTSTAMP:20260426T002005
CREATED:20241003T090602Z
LAST-MODIFIED:20241003T090602Z
UID:121897-1730318400-1730325600@www.discovernorthampton.co.uk
SUMMARY:Quiz Night
DESCRIPTION:
URL:https://www.discovernorthampton.co.uk/event/quiz-night-4/
LOCATION:VnB\, 10 St Giles' Square\, Northampton\, Northamptonshire\, NN1 1DA\, United Kingdom
ATTACH;FMTTYPE=image/png:https://www.discovernorthampton.co.uk/wp-content/uploads/2024/10/images.png
END:VEVENT
BEGIN:VEVENT
DTSTART;TZID=Europe/London:20241029T190000
DTEND;TZID=Europe/London:20241029T210000
DTSTAMP:20260426T002005
CREATED:20241003T090514Z
LAST-MODIFIED:20241003T090514Z
UID:121895-1730228400-1730235600@www.discovernorthampton.co.uk
SUMMARY:El Spanish Club
DESCRIPTION:
URL:https://www.discovernorthampton.co.uk/event/el-spanish-club-3/
LOCATION:VnB\, 10 St Giles' Square\, Northampton\, Northamptonshire\, NN1 1DA\, United Kingdom
ATTACH;FMTTYPE=image/png:https://www.discovernorthampton.co.uk/wp-content/uploads/2024/10/images.png
END:VEVENT
BEGIN:VEVENT
DTSTART;TZID=Europe/London:20241027T180000
DTEND;TZID=Europe/London:20241027T220000
DTSTAMP:20260426T002005
CREATED:20241003T082731Z
LAST-MODIFIED:20241003T082731Z
UID:121868-1730052000-1730066400@www.discovernorthampton.co.uk
SUMMARY:Live Music: Cherry Soul
DESCRIPTION:Live Music: Cherry Soul. Enjoy an evening of neo-funk\, soul and R&B by local band Cherry Soul.
URL:https://www.discovernorthampton.co.uk/event/live-music-cherry-soul/
LOCATION:VnB\, 10 St Giles' Square\, Northampton\, Northamptonshire\, NN1 1DA\, United Kingdom
ATTACH;FMTTYPE=image/png:https://www.discovernorthampton.co.uk/wp-content/uploads/2024/10/images.png
END:VEVENT
BEGIN:VEVENT
DTSTART;TZID=Europe/London:20241026T180000
DTEND;TZID=Europe/London:20241026T220000
DTSTAMP:20260426T002005
CREATED:20241003T082515Z
LAST-MODIFIED:20241003T082515Z
UID:121866-1729965600-1729980000@www.discovernorthampton.co.uk
SUMMARY:Apero DJ: Noahmono
DESCRIPTION:
URL:https://www.discovernorthampton.co.uk/event/apero-dj-noahmono-6/
LOCATION:VnB\, 10 St Giles' Square\, Northampton\, Northamptonshire\, NN1 1DA\, United Kingdom
ATTACH;FMTTYPE=image/png:https://www.discovernorthampton.co.uk/wp-content/uploads/2024/10/images.png
END:VEVENT
BEGIN:VEVENT
DTSTART;TZID=Europe/London:20241026T163000
DTEND;TZID=Europe/London:20241026T180000
DTSTAMP:20260426T002005
CREATED:20241003T090415Z
LAST-MODIFIED:20241003T090415Z
UID:121893-1729960200-1729965600@www.discovernorthampton.co.uk
SUMMARY:Masterclass: Spirits of the World
DESCRIPTION:
URL:https://www.discovernorthampton.co.uk/event/masterclass-spirits-of-the-world/
LOCATION:VnB\, 10 St Giles' Square\, Northampton\, Northamptonshire\, NN1 1DA\, United Kingdom
ATTACH;FMTTYPE=image/png:https://www.discovernorthampton.co.uk/wp-content/uploads/2024/10/images.png
END:VEVENT
BEGIN:VEVENT
DTSTART;TZID=Europe/London:20241026T143000
DTEND;TZID=Europe/London:20241026T160000
DTSTAMP:20260426T002005
CREATED:20241003T090318Z
LAST-MODIFIED:20241003T090318Z
UID:121891-1729953000-1729958400@www.discovernorthampton.co.uk
SUMMARY:Masterclass: Classic Cocktail Battle
DESCRIPTION:
URL:https://www.discovernorthampton.co.uk/event/masterclass-classic-cocktail-battle/
LOCATION:VnB\, 10 St Giles' Square\, Northampton\, Northamptonshire\, NN1 1DA\, United Kingdom
ATTACH;FMTTYPE=image/png:https://www.discovernorthampton.co.uk/wp-content/uploads/2024/10/images.png
END:VEVENT
BEGIN:VEVENT
DTSTART;TZID=Europe/London:20241024T190000
DTEND;TZID=Europe/London:20241024T210000
DTSTAMP:20260426T002005
CREATED:20241003T090212Z
LAST-MODIFIED:20241003T090212Z
UID:121889-1729796400-1729803600@www.discovernorthampton.co.uk
SUMMARY:Masterclass: German Beer
DESCRIPTION:
URL:https://www.discovernorthampton.co.uk/event/masterclass-german-beer/
LOCATION:VnB\, 10 St Giles' Square\, Northampton\, Northamptonshire\, NN1 1DA\, United Kingdom
ATTACH;FMTTYPE=image/png:https://www.discovernorthampton.co.uk/wp-content/uploads/2024/10/images.png
END:VEVENT
BEGIN:VEVENT
DTSTART;TZID=Europe/London:20241019T180000
DTEND;TZID=Europe/London:20241019T220000
DTSTAMP:20260426T002005
CREATED:20241003T082355Z
LAST-MODIFIED:20241003T082355Z
UID:121864-1729360800-1729375200@www.discovernorthampton.co.uk
SUMMARY:Apero DJ: Tom Eclect
DESCRIPTION:Disco\, soul\, jazz\, boogie
URL:https://www.discovernorthampton.co.uk/event/apero-dj-tom-eclect-2/
LOCATION:VnB\, 10 St Giles' Square\, Northampton\, Northamptonshire\, NN1 1DA\, United Kingdom
ATTACH;FMTTYPE=image/png:https://www.discovernorthampton.co.uk/wp-content/uploads/2024/10/images.png
END:VEVENT
BEGIN:VEVENT
DTSTART;TZID=Europe/London:20241017T190000
DTEND;TZID=Europe/London:20241017T210000
DTSTAMP:20260426T002005
CREATED:20241003T090108Z
LAST-MODIFIED:20241003T090108Z
UID:121887-1729191600-1729198800@www.discovernorthampton.co.uk
SUMMARY:Masterclass: Wine of the Loire Valley
DESCRIPTION:
URL:https://www.discovernorthampton.co.uk/event/masterclass-wine-of-the-loire-valley/
LOCATION:VnB\, 10 St Giles' Square\, Northampton\, Northamptonshire\, NN1 1DA\, United Kingdom
ATTACH;FMTTYPE=image/png:https://www.discovernorthampton.co.uk/wp-content/uploads/2024/10/images.png
END:VEVENT
BEGIN:VEVENT
DTSTART;TZID=Europe/London:20241015T110000
DTEND;TZID=Europe/London:20241015T220000
DTSTAMP:20260426T002005
CREATED:20241003T085404Z
LAST-MODIFIED:20241003T085404Z
UID:121877-1728990000-1729029600@www.discovernorthampton.co.uk
SUMMARY:The Pudding Hole
DESCRIPTION:Northamptons favourite pudding pair are back with their Autumn pudding club here at v&b
URL:https://www.discovernorthampton.co.uk/event/the-pudding-hole-6/
LOCATION:VnB\, 10 St Giles' Square\, Northampton\, Northamptonshire\, NN1 1DA\, United Kingdom
ATTACH;FMTTYPE=image/png:https://www.discovernorthampton.co.uk/wp-content/uploads/2024/10/images.png
END:VEVENT
BEGIN:VEVENT
DTSTART;TZID=Europe/London:20241012T110000
DTEND;TZID=Europe/London:20241012T220000
DTSTAMP:20260426T002005
CREATED:20241003T085203Z
LAST-MODIFIED:20241003T085203Z
UID:121875-1728730800-1728770400@www.discovernorthampton.co.uk
SUMMARY:Food Truck: Let's Chaat
DESCRIPTION:Food Truck:Letâ€™s Chaat. We canâ€™t wait to welcome Letâ€™s Chaat for their first apperance at v and b\, where theyâ€™ll be serving their delicious authentic Indian Cuisine.
URL:https://www.discovernorthampton.co.uk/event/food-truck-lets-chaat/
LOCATION:VnB\, 10 St Giles' Square\, Northampton\, Northamptonshire\, NN1 1DA\, United Kingdom
ATTACH;FMTTYPE=image/png:https://www.discovernorthampton.co.uk/wp-content/uploads/2024/10/images.png
END:VEVENT
BEGIN:VEVENT
DTSTART;TZID=Europe/London:20241011T180000
DTEND;TZID=Europe/London:20241011T220000
DTSTAMP:20260426T002005
CREATED:20241003T082156Z
LAST-MODIFIED:20241003T082156Z
UID:121862-1728669600-1728684000@www.discovernorthampton.co.uk
SUMMARY:Apero DJ: Noahmono
DESCRIPTION:Balearic\, soul\, latin\, reggae
URL:https://www.discovernorthampton.co.uk/event/apero-dj-noahmono-5/
LOCATION:VnB\, 10 St Giles' Square\, Northampton\, Northamptonshire\, NN1 1DA\, United Kingdom
ATTACH;FMTTYPE=image/png:https://www.discovernorthampton.co.uk/wp-content/uploads/2024/10/images.png
END:VEVENT
BEGIN:VEVENT
DTSTART;TZID=Europe/London:20241011T110000
DTEND;TZID=Europe/London:20241011T220000
DTSTAMP:20260426T002005
CREATED:20241003T083256Z
LAST-MODIFIED:20241003T083256Z
UID:121872-1728644400-1728684000@www.discovernorthampton.co.uk
SUMMARY:Foof Truck: Moo Hatch
DESCRIPTION:Food Truck: Moo Hatch. We canâ€™t wait to welcome back Moo Hatch to our terrace\, handmade chuck steak burgers.
URL:https://www.discovernorthampton.co.uk/event/foof-truck-moo-hatch/
LOCATION:VnB\, 10 St Giles' Square\, Northampton\, Northamptonshire\, NN1 1DA\, United Kingdom
ATTACH;FMTTYPE=image/png:https://www.discovernorthampton.co.uk/wp-content/uploads/2024/10/images.png
END:VEVENT
BEGIN:VEVENT
DTSTART;TZID=Europe/London:20241010T190000
DTEND;TZID=Europe/London:20241010T210000
DTSTAMP:20260426T002005
CREATED:20241003T081919Z
LAST-MODIFIED:20241003T081919Z
UID:121860-1728586800-1728594000@www.discovernorthampton.co.uk
SUMMARY:Open Mic
DESCRIPTION:Open Mic. Join us for a night of incredible NN talent at our super popular open mic\, hosted by the incredible tukayandryan.7pm
URL:https://www.discovernorthampton.co.uk/event/open-mic-10/
LOCATION:VnB\, 10 St Giles' Square\, Northampton\, Northamptonshire\, NN1 1DA\, United Kingdom
ATTACH;FMTTYPE=image/png:https://www.discovernorthampton.co.uk/wp-content/uploads/2024/10/images.png
END:VEVENT
BEGIN:VEVENT
DTSTART;TZID=Europe/London:20241009T180000
DTEND;TZID=Europe/London:20241009T200000
DTSTAMP:20260426T002005
CREATED:20241003T085957Z
LAST-MODIFIED:20241003T085957Z
UID:121885-1728496800-1728504000@www.discovernorthampton.co.uk
SUMMARY:Exhibition: Peace and Nature by Pradeep Rajguru
DESCRIPTION:
URL:https://www.discovernorthampton.co.uk/event/exhibition-peace-and-nature-by-pradeep-rajguru/
LOCATION:VnB\, 10 St Giles' Square\, Northampton\, Northamptonshire\, NN1 1DA\, United Kingdom
ATTACH;FMTTYPE=image/png:https://www.discovernorthampton.co.uk/wp-content/uploads/2024/10/images.png
END:VEVENT
BEGIN:VEVENT
DTSTART;TZID=Europe/London:20241008T190000
DTEND;TZID=Europe/London:20241008T210000
DTSTAMP:20260426T002005
CREATED:20241003T085823Z
LAST-MODIFIED:20241003T085823Z
UID:121883-1728414000-1728421200@www.discovernorthampton.co.uk
SUMMARY:Le French Club
DESCRIPTION:
URL:https://www.discovernorthampton.co.uk/event/le-french-club-15/
LOCATION:VnB\, 10 St Giles' Square\, Northampton\, Northamptonshire\, NN1 1DA\, United Kingdom
ATTACH;FMTTYPE=image/png:https://www.discovernorthampton.co.uk/wp-content/uploads/2024/10/images.png
END:VEVENT
BEGIN:VEVENT
DTSTART;TZID=Europe/London:20241006T170000
DTEND;TZID=Europe/London:20241006T190000
DTSTAMP:20260426T002005
CREATED:20241003T081704Z
LAST-MODIFIED:20241003T081704Z
UID:121856-1728234000-1728241200@www.discovernorthampton.co.uk
SUMMARY:Life Music Northants Fundraiser
DESCRIPTION:LifeMusic Northants will be performing a fusion of musical sounds fundraiser upstairs from 5pm. LMN â€œenhances life through music by the provison of workshops for people with learning disabilities and those who face economic challenges â€œ
URL:https://www.discovernorthampton.co.uk/event/life-music-northants-fundraiser/
LOCATION:VnB\, 10 St Giles' Square\, Northampton\, Northamptonshire\, NN1 1DA\, United Kingdom
ATTACH;FMTTYPE=image/png:https://www.discovernorthampton.co.uk/wp-content/uploads/2024/10/images.png
END:VEVENT
BEGIN:VEVENT
DTSTART;TZID=Europe/London:20241004T190000
DTEND;TZID=Europe/London:20241004T210000
DTSTAMP:20260426T002005
CREATED:20241003T085648Z
LAST-MODIFIED:20241003T085648Z
UID:121881-1728068400-1728075600@www.discovernorthampton.co.uk
SUMMARY:Masterclass: Cider Tasting
DESCRIPTION:
URL:https://www.discovernorthampton.co.uk/event/masterclass-cider-tasting/
LOCATION:VnB\, 10 St Giles' Square\, Northampton\, Northamptonshire\, NN1 1DA\, United Kingdom
ATTACH;FMTTYPE=image/png:https://www.discovernorthampton.co.uk/wp-content/uploads/2024/10/images.png
END:VEVENT
BEGIN:VEVENT
DTSTART;TZID=Europe/London:20241004T110000
DTEND;TZID=Europe/London:20241004T220000
DTSTAMP:20260426T002005
CREATED:20241003T083046Z
LAST-MODIFIED:20241003T083046Z
UID:121870-1728039600-1728079200@www.discovernorthampton.co.uk
SUMMARY:German Street Food
DESCRIPTION:German Street Food by Danny Tompkins. Join us this Friday as weâ€™ll be welcoming Danny to kick off oir Oktoberfest celebrations. Danny will be serving up some delicious Bratwurst Dogs for you to enjoy\, and thereâ€™ll be 4 special Oktoberfest draughts on at the bar. Prost!
URL:https://www.discovernorthampton.co.uk/event/german-street-food/
LOCATION:VnB\, 10 St Giles' Square\, Northampton\, Northamptonshire\, NN1 1DA\, United Kingdom
ATTACH;FMTTYPE=image/png:https://www.discovernorthampton.co.uk/wp-content/uploads/2024/10/images.png
END:VEVENT
BEGIN:VEVENT
DTSTART;TZID=Europe/London:20241003T190000
DTEND;TZID=Europe/London:20241003T210000
DTSTAMP:20260426T002005
CREATED:20241003T085548Z
LAST-MODIFIED:20241003T085548Z
UID:121879-1727982000-1727989200@www.discovernorthampton.co.uk
SUMMARY:Masterclass: Italian Wine
DESCRIPTION:Weâ€™ll be learning about the grapes\, regions\, methods  and terroirs behind Italyâ€™s finest Vino.
URL:https://www.discovernorthampton.co.uk/event/masterclass-italian-wine-2/
LOCATION:VnB\, 10 St Giles' Square\, Northampton\, Northamptonshire\, NN1 1DA\, United Kingdom
ATTACH;FMTTYPE=image/png:https://www.discovernorthampton.co.uk/wp-content/uploads/2024/10/images.png
END:VEVENT
BEGIN:VEVENT
DTSTART;TZID=Europe/London:20240929T150000
DTEND;TZID=Europe/London:20240929T210000
DTSTAMP:20260426T002005
CREATED:20240905T110404Z
LAST-MODIFIED:20240905T110404Z
UID:121653-1727622000-1727643600@www.discovernorthampton.co.uk
SUMMARY:Crepes and Cider
DESCRIPTION:We canâ€™t wait to be joined by mobile creperie desserts who will be bringing with them the most delicious crepes and galettes to our terrace. Sweet or Savoury? The choice is yours. and weâ€™ll be putting some beautiful French cider behind the bar for you to enjoy â€“ because if youâ€™ve not tried it before\, crepes and cider really is a dream combination!
URL:https://www.discovernorthampton.co.uk/event/crepes-and-cider/
LOCATION:VnB\, 10 St Giles' Square\, Northampton\, Northamptonshire\, NN1 1DA\, United Kingdom
ATTACH;FMTTYPE=image/png:https://www.discovernorthampton.co.uk/wp-content/uploads/2024/09/images.png
END:VEVENT
BEGIN:VEVENT
DTSTART;TZID=Europe/London:20240929T143000
DTEND;TZID=Europe/London:20240929T163000
DTSTAMP:20260426T002005
CREATED:20240905T104009Z
LAST-MODIFIED:20240905T104009Z
UID:121647-1727620200-1727627400@www.discovernorthampton.co.uk
SUMMARY:The Canyons
DESCRIPTION:
URL:https://www.discovernorthampton.co.uk/event/the-canyons/
LOCATION:VnB\, 10 St Giles' Square\, Northampton\, Northamptonshire\, NN1 1DA\, United Kingdom
ATTACH;FMTTYPE=image/png:https://www.discovernorthampton.co.uk/wp-content/uploads/2024/09/images.png
END:VEVENT
BEGIN:VEVENT
DTSTART;TZID=Europe/London:20240928T180000
DTEND;TZID=Europe/London:20240928T220000
DTSTAMP:20260426T002005
CREATED:20240905T103900Z
LAST-MODIFIED:20240905T103900Z
UID:121645-1727546400-1727560800@www.discovernorthampton.co.uk
SUMMARY:Noahmono
DESCRIPTION:
URL:https://www.discovernorthampton.co.uk/event/noahmono-2/
LOCATION:VnB\, 10 St Giles' Square\, Northampton\, Northamptonshire\, NN1 1DA\, United Kingdom
ATTACH;FMTTYPE=image/png:https://www.discovernorthampton.co.uk/wp-content/uploads/2024/09/images.png
END:VEVENT
BEGIN:VEVENT
DTSTART;TZID=Europe/London:20240926T190000
DTEND;TZID=Europe/London:20240926T210000
DTSTAMP:20260426T002005
CREATED:20240905T114707Z
LAST-MODIFIED:20240905T114707Z
UID:121671-1727377200-1727384400@www.discovernorthampton.co.uk
SUMMARY:Masterclass: Barrel-Aged beer
DESCRIPTION:Weâ€™ll be exploring a range of beers from a variety of countries and learning all about the barrel â€“ ageing process.
URL:https://www.discovernorthampton.co.uk/event/masterclass-barrel-aged-beer/
LOCATION:VnB\, 10 St Giles' Square\, Northampton\, Northamptonshire\, NN1 1DA\, United Kingdom
ATTACH;FMTTYPE=image/png:https://www.discovernorthampton.co.uk/wp-content/uploads/2024/09/images.png
END:VEVENT
END:VCALENDAR